{"text_format":"1","workbook":"xlsx","n_sheets":15,"sheets":["Simul_Base","Class_Status","Class_Compare","Prime_Parameters","Game_Fomula","Berserker_Status","Berserker_Simul","DemonHunter_Status","DemonHunter_Simul","Archon_Status","Archon_Simul","Knight_Status","Knight_Simul","t_LevelUp","Sheet1"],"not_rendered":{"charts":2,"images":0,"macros":1,"external_links":0,"defined_names":6,"comments":5,"pivot_tables":0},"unopened":[],"bounds":{"document_bytes":16777216,"sheet_cells":100000,"rows_first":2000,"rows_last":500,"rows_between":2000,"halvings":0,"cell_chars":16384,"cell_head_chars":4096},"cells_cut":0,"cells_raw":0,"read":"whole","date_system":"1900"}

{"sheet":"Simul_Base","index":0,"n_rows":26,"n_cols":31,"rows_kept":26,"cut":false,"hidden":false,"merged":[]}
[null,null,null,"* Class 의 Name 은 Berserker, Archon, DemonHunt, Knight 4가지로 구성되어있다. 레벨에 따라 상위 Class 인 Master 가 있습니다.(레벨 구간별 기본능력수치의 증가량 변화요구)"]
[null,"클래스",null,null,null,null,null,null,null,null,null,null,null,null,null,null,null,null,null,null,null,null,null,null,null,null,null,null,1,"Berserker","C:\\EG_Berserker.png"]
[null,{"$f":"INDEX(AD2:AD10,AC2)","v":"Berserker"},null,null,null,null,null,null,null,null,null,null,null,null,null,null,null,null,null,null,null,null,null,null,null,null,null,null,null,"BskM1","C:\\EG_Berserker.png"]
[null,null,null,null,null,null,null,null,null,null,null,null,null,null,null,null,null,null,null,null,null,null,null,null,null,null,null,null,null,"Archon","C:\\EG_Archon.png"]
[null,null,null,null,null,null,null,null,null,null,null,null,null,null,null,null,null,null,null,null,null,null,null,null,null,null,null,null,null,"ArchM1","C:\\EG_Archon.png"]
[null,"클래스","레벨","최대 생명력","생명력회복","활력도","초당평균공격력","최소 공격력","최대 공격력","공격속도","치명타 확률","치명타 세기","치명타저항","피해감소","방어력","회피율","적중도","상태이상저항","스킬쿨타임감소","이동속도","신성력",1,null,null,null,null,null,null,null,"DemonHunter","C:\\EG_Archon.png"]
[null,"Berserker",1,245.2,43.187175000000003,101.05799999999999,81.676072351421183,67.732799999999997,90.310400000000016,967.5,10.130000000000001,2.222,1.9359999999999999E-2,0.68,31.849999999999998,1.0065,100.87,2.73,0.18,200,0,1.0125,null,null,null,null,null,null,null,"DmHM1","C:\\EG_Archon.png"]
[null,"Berserker",2,264.8,44.513699999999993,101.352,82.531813471502588,68.265599999999992,91.020800000000008,965,10.14,2.2240000000000002,2.1119999999999996E-2,0.72,34.299999999999997,1.0069999999999999,100.94,2.76,0.2,200,0,1.0249999999999999,null,null,null,null,null,null,null,"Knight","C:\\EG_Archon.png"]
[null,"Berserker",3,286.8,45.859575,101.682,83.391999999999996,68.798400000000001,91.731200000000001,962.5,10.15,2.226,2.2880000000000001E-2,0.76,36.75,1.0075000000000001,101.01,2.79,0.22000000000000003,200,0,1.0375000000000001,null,null,null,null,null,null,null,"KntM1","C:\\EG_Archon.png"]
[null,"Berserker",4,311.2,47.224800000000009,102.048,84.256666666666661,69.331199999999995,92.441599999999994,960,10.16,2.2280000000000002,2.4640000000000002E-2,0.8,39.199999999999996,1.008,101.08,2.82,0.24000000000000005,200,0,1.05]
[null,"Berserker",5,338,48.609375,102.45,85.125848563968674,69.86399999999999,93.152000000000001,957.5,10.17,2.23,2.64E-2,0.84,41.65,1.0085,101.15,2.85,0.26,200,0,1.0625]
[null,"Berserker",6,367.2,50.013299999999994,102.88800000000001,85.999581151832473,70.396799999999999,93.862400000000008,955,10.18,2.2320000000000002,2.8159999999999998E-2,0.88,44.099999999999994,1.0089999999999999,101.22,2.88,0.28000000000000003,200,0,1.075]
[null,"Berserker",7,398.8,51.436575000000005,103.36199999999999,86.877900262467193,70.929599999999994,94.572800000000001,952.5,10.19,2.234,2.9919999999999999E-2,0.92,46.55,1.0095000000000001,101.28999999999999,2.91,0.3,200,0,1.0874999999999999]
[null,"Berserker",8,432.8,52.879200000000004,103.872,87.760842105263166,71.462400000000002,95.283200000000008,950,10.199999999999999,2.2360000000000002,3.168E-2,0.96,49,1.01,101.36,2.94,0.32,200,0,1.1000000000000001]
[null,"Berserker",9,469.2,54.341175,104.41799999999999,88.648443271767817,71.995199999999997,95.993600000000015,947.5,10.210000000000001,2.238,3.3439999999999998E-2,1,51.449999999999996,1.0105,101.42999999999999,2.9699999999999998,0.34,200,0,1.1125]
[null,"Berserker",10,508,55.822499999999998,105,89.540740740740731,72.527999999999992,96.704000000000008,945,10.220000000000001,2.2400000000000002,3.5199999999999995E-2,1.04,53.9,1.0109999999999999,101.5,3,0.36,200,0,1.125]
[null,"Berserker",11,549.20000000000005,57.323175000000006,105.61799999999999,90.43777188328913,73.0608,97.414400000000001,942.5,10.23,2.242,3.6959999999999993E-2,1.08,56.349999999999994,1.0115000000000001,101.57000000000001,3.03,0.38,200,0,1.1375]
[null,"Berserker",12,592.79999999999995,58.843199999999996,106.27199999999999,91.339574468085104,73.593599999999995,98.124800000000008,940,10.24,2.2440000000000002,3.8719999999999997E-2,1.1200000000000001,58.8,1.012,101.64,3.0599999999999996,0.4,200,0,1.1499999999999999]
[null,"Berserker",13,638.79999999999995,60.382575000000003,106.96199999999999,92.246186666666659,74.12639999999999,98.8352,937.5,10.25,2.246,4.0479999999999988E-2,1.1599999999999999,61.249999999999993,1.0125,101.71000000000001,3.09,0.42000000000000004,200,0,1.1625000000000001]
[null,"Berserker",14,687.2,61.941300000000005,107.68799999999999,93.157647058823542,74.659199999999998,99.545600000000007,935,10.26,2.2480000000000002,4.2239999999999993E-2,1.2,63.699999999999996,1.0129999999999999,101.78,3.1199999999999997,0.44000000000000006,200,0,1.175]
[null,"Berserker",15,738,63.519375000000004,108.44999999999999,94.073994638069692,75.191999999999993,100.256,932.5,10.27,2.25,4.3999999999999997E-2,1.24,66.149999999999991,1.0135000000000001,101.85,3.15,0.46000000000000008,200,0,1.1875]
[null,"Berserker",16,791.2,65.116799999999998,109.24799999999999,94.995268817204305,75.724800000000002,100.96640000000001,930,10.28,2.2520000000000002,4.5759999999999988E-2,1.28,68.599999999999994,1.014,101.92,3.1799999999999997,0.48000000000000009,200,0,1.2]
[null,"Berserker",17,846.8,66.733575000000002,110.08199999999999,95.921509433962257,76.257599999999996,101.67680000000001,927.5,10.29,2.254,4.7519999999999993E-2,1.32,71.05,1.0145,101.99,3.21,0.5,200,0,1.2124999999999999]
[null,"Berserker",18,904.8,68.369700000000009,110.952,96.852756756756747,76.790399999999991,102.38720000000001,925,10.3,2.2560000000000002,4.9279999999999997E-2,1.36,73.5,1.0149999999999999,102.06,3.2399999999999998,0.52,200,0,1.2250000000000001]
[null,"Berserker",19,965.2,70.025175000000004,111.85799999999999,97.789051490514908,77.3232,103.09760000000001,922.5,10.31,2.258,5.1039999999999995E-2,1.4,75.949999999999989,1.0155000000000001,102.13,3.2699999999999996,0.54,200,0,1.2375]
[null,"Berserker",20,1028,71.699999999999989,112.79999999999998,98.730434782608683,77.855999999999995,103.80799999999999,920,10.32,2.2600000000000002,5.28E-2,1.44,78.399999999999991,1.016,102.2,3.3,0.56000000000000005,200,0,1.25]

{"sheet":"Class_Status","index":1,"n_rows":46,"n_cols":28,"rows_kept":46,"cut":false,"hidden":false,"merged":[[1,1,1,6],[7,1,7,6],[13,1,13,6],[19,1,19,6]]}
[null,null,"레벨별 증가량",null,null,null,null,null,null,null,null,null,null,null,null,null,null,null,null,null,null,null,"캐릭터 능력 종류","영문","값 표시방식","기본자리수","계산형태"]
[null,"Berserk 계열",null,null,null,null,null,null,null,null,null,null,null,"힘","Strength",null,null,null,null,null,null,null,"공격력","Attack Power","Constant",10]
["적용레벨",null,"힘","체력","민첩","지능","지혜","증가량 합","레벨구간",null,null,null,null,null,null,"기본","공격력",null,"클래스별 공격력으로 전환",null,null,null,"방어력","Defense Power","Constant",10]
["1~20","Berserk",1,1,0.5,0.2,0.3,{"$f":"SUM(C4:G4)","v":3},20,{"$f":"H4*I4","v":60},null,null,null,null,null,null,"증가 ","레벨 상승","클래스별 상승",null,null,null,"최대 생명력","Max HP","Constant",100]
["21~50","BskM1",1.4,1.6,0.6,0.2,0.2,{"$f":"SUM(C5:G5)","v":4},30,{"$f":"H5*I5","v":120},{"$f":"SUM(J4:J5)","v":180},null,null,null,null,null,null,"아이템 옵션","공격력 증가","+",null,null,"생명력 회복","HP Regen","Constant",10,"1초에 회복하는 생명력의 치유량"]
["51~100","BskM2",1,1,1,1,1,{"$f":"SUM(C6:G6)","v":5},50,{"$f":"H6*I6","v":250},"주스탯증가(50회)",null,null,null,null,null,null,"스킬 옵션","공격력 증가","+",null,null,"치명타 확률","Critical Ratio","Percent"]
["Start","기본",14,16,6,2,2,{"$f":"SUM(C7:G7)","v":40},"기본",{"$f":"H7","v":40},"일반레벨50+심화레벨50",{"$f":"J7+K5","v":220},null,"체력","Vitality",null,null,null,null,null,null,null,"치명타 피해","Critical Rate","Percent"]
[null,"Knight 계열",null,null,null,null,null,null,null,null,null,null,null,null,null,"기본","최대 생명력",null,null,null,null,null,"상태이상 저항력","Condition Regist ","Percent",10000,"확률(%)"]
[null,null,"힘","체력","민첩","지능","지혜","증가량 합","레벨구간",null,null,null,null,null,null,null,"증가 ","레벨 상승 ","클래스별 상승",null,null,null,"이동속도","Move Speed","Constant",1000,"1초 1M(100=1M)"]
["1~20","Knight",0.3,1,1,0.5,0.2,{"$f":"SUM(C10:G10)","v":3},20,{"$f":"H10*I10","v":60},null,null,null,null,null,null,null,"아이템 옵션","생명력 증가","+",null,null,"활력 충전","Stamina Regen","Constant",100,"활력게이지(10000)를 1회 채우는 기본값 / 최대 625"]
["21~50","KntM1",0.4,1.2,1.5,0.6,0.3,{"$f":"SUM(C11:G11)","v":4},30,{"$f":"H11*I11","v":120},{"$f":"SUM(J10:J11)","v":180},null,null,null,null,null,null,null,"생명력 증가","%",null,null,"충전 증가률","Stamina Regen Rate","Percent",100,"비율(%)","1회 공격성공 시 증가비율 / 최대 200% (활력충전도 최대 2배가 최고) -최고 8타에 1회 회피사용가능"]
["51~100","KntM2",1,1,1,1,1,{"$f":"SUM(C12:G12)","v":5},50,{"$f":"H12*I12","v":250},"주스탯증가(50회)",null,null,null,null,null,null,"스킬 옵션","생명력 증가","+",null,null,"수호력","GuadianPower","Percent",100,"비율(%)","최종 데미지 피해 시 적몬스터의 특수한 저항력값에 따른 데미지 비율"]
["Start","기본",4,12,15,6,3,{"$f":"SUM(C13:G13)","v":40},"기본",{"$f":"H13","v":40},"일반레벨50+심화레벨50",{"$f":"J13+K11","v":220},null,null,null,null,null,null,"생명력 증가","%",null,null,"수호저항력","DevilPower","Percent",0]
[null,"Demon Hunter 계열",null,null,null,null,null,null,null,null,null,null,null,null,null,"기본","생명력 회복"]
[null,null,"힘","체력","민첩","지능","지혜","증가량 합","레벨구간",null,null,null,null,null,null,null,"증가 ","레벨 상승 ","클래스별 상승"]
["1~20","DemonHunter",0.5,0.4,0.8,0.8,0.5,{"$f":"SUM(C16:G16)","v":3},20,{"$f":"H16*I16","v":60},null,null,null,null,null,null,null,"아이템 옵션","생명력 회복 증가","%",null,null,null,null,null,"Decrease","Decr"]
["21~50","DmHM1",0.6,0.5,1.3,1,0.6,{"$f":"SUM(C17:G17)","v":4},30,{"$f":"H17*I17","v":120},{"$f":"SUM(J16:J17)","v":180},null,null,null,null,null,null,"스킬 옵션","생명력 회복 증가","%",null,null,null,null,null,"Increase","Incr"]
["51~100","DmHM2",1,1,1,1,1,{"$f":"SUM(C18:G18)","v":5},50,{"$f":"H18*I18","v":250},"주스탯증가(50회)",null,null,"민첩","Agility",null,null,null,null,null,null,null,"공격력","AttackPower","AP"]
["Start","기본",6,5,13,10,6,{"$f":"SUM(C19:G19)","v":40},"기본",{"$f":"H19","v":40},"일반레벨50+심화레벨50",{"$f":"J19+K17","v":220},null,null,null,"기본","방어력",null,null,null,null,null,"방어력","DefensePower","DP"]
[null,"Archon 계열",null,null,null,null,null,null,null,null,null,null,null,null,null,null,"증가 ","레벨 상승 ","클래스별 상승",null,null,null,"생명력","HealthPoint","Hp"]
[null,null,"힘","체력","민첩","지능","지혜","증가량 합","레벨구간",null,null,null,null,null,null,null,null,"아이템 옵션","방어력 증가","+",null,null,"생명력회복률","HealthRegenRate","HpRgn"]
["1~20","Archon",0.5,0.8,0.5,0.4,0.8,{"$f":"SUM(C22:G22)","v":3},20,{"$f":"H22*I22","v":60},null,null,null,null,null,null,null,null,"방어력 증가","%",null,null,"회피율","AvoidRate","Avd"]
["21~50","ArchM1",0.6,1.3,0.6,0.5,1,{"$f":"SUM(C23:G23)","v":4},30,{"$f":"H23*I23","v":120},{"$f":"SUM(J22:J23)","v":180},null,null,null,null,null,null,"스킬 옵션","방어력 증가","+",null,null,"공격속도","AttackSpeed","AttkSpd"]
["51~100","ArchM2",1,1,1,1,1,{"$f":"SUM(C24:G24)","v":5},50,{"$f":"H24*I24","v":250},"주스탯증가(50회)",null,null,null,null,null,null,null,"방어력 증가","%",null,null,"치명타확률","CriticalRate","Crt"]
["Start","기본",6,13,6,5,10,{"$f":"SUM(C25:G25)","v":40},"기본",{"$f":"H25","v":40},"일반레벨50+심화레벨50",{"$f":"J25+K23","v":220},null,null,null,null,"치명타피해",null,null,null,null,null,"치명타피해","CriticalMultiple","CtrMtp"]
[null,null,null,null,null,null,null,null,null,null,null,null,null,null,null,null,"증가 ","레벨 상승 ","클래스별 상승",null,null,null,"스킬쿨타임 감소","CooltimeDecreaseease","CltDecr"]
[null,null,null,null,null,null,null,null,null,null,null,null,null,null,null,null,null,"아이템 옵션","치명타확률증가","%",null,null,"방어감소","DefenceDecrease","DefDecr"]
[null,null,null,"기본공격속도",null,null,null,null,null,null,null,null,null,null,null,null,null,"스킬 옵션","치명타확률증가","%",null,null,"치명타확률감소","CriticalRateDecrease","CrtDecr"]
[null,"speed 값","min","avr","max",null,null,null,null,null,null,null,null,"지능","Inteligence",null,null,null,null,null,null,null,"치명타피해감소","CriticalMultDecrease","CrtMtpDecr"]
[null,"캐릭터계열",2100,1200,300,null,null,null,null,null,null,null,null,null,null,"기본","활력충전도",null,null,null,null,null,"피해감소","DamageDecrease","DmgDecr"]
[null,"Berserk",2,1.5,1,{"$f":"(C31+E31)/2","v":1.5},null,"1: 광전사 (Berserk)",null,null,null,null,null,null,null,null,"증가","레벨 상승","클래스별 상승",null,null,null,"상태이상 저항력","Condition Regist ","ConReg"]
[null,"Archon",1.82,1.32,0.82,{"$f":"(C32+E32)/2","v":1.32},null,"3: 집정관 (Archon)",null,null,null,null,null,null,null,null,null,"아이템 옵션","활력충전도 증가","+",null,null,"이동속도","Move Speed"]
[null,"D Hunter",1.66,1.1599999999999999,0.66,{"$f":"(C33+E33)/2","v":1.1599999999999999},null,"2: 악마사냥꾼 (DemonHunter)",null,null,null,null,null,null,null,null,null,null,"활력충전도 증가","%",null,null,"활력 충전","StaminaCharge","StaChrg"]
[null,"Knight",1.5,1,0.5,{"$f":"(C34+E34)/2","v":1},null,"4: 나이트 (Knight)",null,null,null,null,null,null,null,null,null,"스킬 옵션","활력충전도 증가","+",null,null,"충전 증가률","ChargeMultiple","ChrgMtp"]
[null,null,null,null,null,null,null,null,null,null,null,null,null,null,null,null,null,null,"활력충전도 증가","%",null,null,"수호력","GuadianPower","GrdP"]
[null,null,null,null,null,null,null,null,null,null,null,null,null,null,null,"기본","충전비율","활력 Full 충전 시 회피 스킬버튼 활성화 / 사용 - 충전 방식: 평타 및 스킬 시전",null,null,null,null,"수호저항력","DevilPower","DevP"]
[null,null,null,null,null,null,null,null,null,null,null,null,null,null,null,null,"증가","레벨 상승","클래스별 상승"]
[null,null,null,null,null,null,null,null,null,null,null,null,null,null,null,null,null,"아이템 옵션","충전비율 증가","%"]
[null,null,null,null,null,null,null,null,null,null,null,null,null,null,null,null,null,"스킬 옵션","충전비율 증가","%"]
[null,null,null,null,null,null,null,null,null,null,null,null,null,"지혜 ","Wisdom"]
[null,null,null,null,null,null,null,null,null,null,null,null,null,null,null,"기본","상태 저항"]
[null,null,null,null,null,null,null,null,null,null,null,null,null,null,null,null,"증가","레벨 상승","클래스별 상승"]
[null,null,null,null,null,null,null,null,null,null,null,null,null,null,null,null,null,"아이템 옵션","상태이상 저항 증가","+"]
[null,null,null,null,null,null,null,null,null,null,null,null,null,null,null,null,null,null,"상태이상 저항 증가","%"]
[null,null,null,null,null,null,null,null,null,null,null,null,null,null,null,null,null,"스킬 옵션","상태이상 저항 증가","+"]
[null,null,null,null,null,null,null,null,null,null,null,null,null,null,null,null,null,null,"상태이상 저항 증가","%"]

{"sheet":"Class_Compare","index":2,"n_rows":50,"n_cols":17,"rows_kept":50,"cut":false,"hidden":false,"merged":[[1,11,2,11],[11,11,12,11],[21,12,22,14],[11,12,12,14],[1,12,2,14],[13,14,15,14],[13,13,15,13],[3,12,5,12],[3,14,5,14],[3,13,5,13],[3,11,5,11],[13,12,15,12],[13,11,15,11],[23,14,25,14],[33,14,35,14],[43,14,45,14],[31,12,32,14],[41,12,42,14],[23,13,25,13],[33,13,35,13],[43,13,45,13],[33,12,35,12],[43,12,45,12],[23,12,25,12],[23,11,25,11],[33,11,35,11],[43,11,45,11],[41,11,42,11],[31,11,32,11],[11,6,12,10],[13,9,15,9],[13,10,15,10],[43,1,44,2],[43,3,45,3],[43,9,45,9],[13,6,15,6],[13,7,15,7],[23,6,25,6],[43,10,45,10],[33,8,35,8],[13,8,15,8],[31,0,32,0],[33,9,35,9],[33,10,35,10],[33,0,35,0],[33,1,34,2],[33,3,35,3],[31,6,32,10],[31,1,32,2],[31,3,32,5],[41,0,42,0],[43,4,45,4],[43,5,45,5],[33,6,35,6],[33,7,35,7],[43,6,45,6],[43,7,45,7],[43,0,45,0],[41,6,42,10],[33,4,35,4],[33,5,35,5],[41,3,42,5],[41,1,42,2],[43,8,45,8],[21,0,22,0],[23,0,25,0],[23,1,24,2],[23,3,25,3],[23,9,25,9],[21,6,22,10],[23,10,25,10],[23,7,25,7],[21,3,22,5],[21,1,22,2],[23,4,25,4],[23,5,25,5],[23,8,25,8],[11,0,12,0],[13,0,15,0],[13,1,14,2],[13,3,15,3],[13,4,15,4],[11,1,12,2],[11,3,12,5],[13,5,15,5],[1,0,2,0],[3,0,5,0],[3,1,4,2],[3,9,5,9],[1,1,2,2],[3,10,5,10],[1,3,2,5],[3,4,5,4],[1,6,2,10],[3,7,5,7],[3,6,5,6],[3,8,5,8],[3,5,5,5],[3,3,5,3]]}
["Berserk",null,null,null,null,null,null,0.6,null,null,0.6]
["스탯","힘\n(STR)",null,"체력\n(VIT)",null,null,"민첩\n(AGIL)",null,null,null,null,"지능\n(INT)","지혜\n(WIT)"]
[]
["파라미타","공격력",null,"생명력","생명력회복",null,"공격속도","방어력","회피","적중도","치명확률","치명타\n세기","상태이상\n저항","재사용\n감소","활력\n충전도"]
[]
[null,"min","max"]
["Berserk",0.6,0.8,1,0.6,0,1,0.7,1,1,0.5,0.2,0.2,0.2,0.2,"1~20증가비합",{"$f":"SUM(B7:O7)","v":8}]
["BskM1",0.8,1.1000000000000001,1.2,0.8,0,1,0.9,1.1000000000000001,1,0.7,0.4,0.3,0.3,0.4,"21~50증가비합",{"$f":"SUM(B8:O8)","v":10.000000000000002}]
["BskM2",0.8,1.1000000000000001,1.2,0.8,0,1,0.9,1.1000000000000001,1,0.7,0.4,0.3,0.3,0.4,null,10.000000000000002]
[null,14,null,16,null,null,6,null,null,null,null,2,2,null,null,"기본스탯합",40]
["Knight",null,null,null,null,null,null,0.6,null,null,0.6]
["스탯","힘\n(STR)",null,"체력\n(VIT)",null,null,"민첩\n(AGIL)",null,null,null,null,"지능\n(INT)","지혜\n(WIT)"]
[]
["파라미타","공격력",null,"생명력","생명력회복",null,"공격속도","방어력","회피","적중도","치명확률","치명타\n세기","상태이상\n저항","재사용\n감소","활력\n충전도"]
[]
[null,"min","max"]
["Knight",0.3,0.3,0.6,0.6,0,1,0.9,1,1,0.8,0.6,0.3,0.3,0.3,"1~20증가비합",{"$f":"SUM(B17:O17)","v":7.9999999999999982}]
["KntM1",0.5,0.6,0.8,0.8,0,1,1.1000000000000001,1.1000000000000001,1,1,0.8,0.4,0.4,0.5,"21~50증가비합",{"$f":"SUM(B18:O18)","v":10.000000000000002}]
["KntM2",0.5,0.6,0.8,0.8,0,1,1.1000000000000001,1.1000000000000001,1,1,0.8,0.4,0.4,0.5,null,10.000000000000002]
[null,4,null,12,null,null,15,null,null,null,null,6,3,null,null,"기본스탯합",40]
["D Hunter"]
["스탯","힘\n(STR)",null,"체력\n(VIT)",null,null,"민첩\n(AGIL)",null,null,null,null,"지능","지혜\n(WIT)"]
[null,null,null,null,null,null,null,null,null,null,null,"(INT)"]
["파라미타","근접공격력",null,"생명력","생명력회복",null,"공격속도","방어력","회피","적중도","치명확률","치명타\n세기","상태이상\n저항","재사용\n감소","활력\n충전도"]
[]
[null,"min","max"]
["DemonHunter",0.2,0.4,0.4,0.1,0,1,0.6,1,1,0.7,1,0.6,0.5,0.5,"1~20증가비합",{"$f":"SUM(B27:O27)","v":8}]
["DmHM1",0.4,0.7,0.6,0.3,0,1,0.8,1.1000000000000001,1,0.9,1.2,0.8,0.6,0.6,"21~50증가비합",{"$f":"SUM(B28:O28)","v":10}]
["DmHM2",0.4,0.7,0.6,0.3,0,1,0.8,1.1000000000000001,1,0.9,1.2,0.8,0.6,0.6,null,10]
[null,6,null,5,null,null,13,null,null,null,null,10,6,null,null,"기본스탯합",40]
["Archon"]
["스탯","힘\n(STR)",null,"체력\n(VIT)",null,null,"민첩\n(AGIL)",null,null,null,null,"지능\n(INT)","지혜\n(WIT)"]
[]
["파라미타","근접공격력",null,"생명력","생명력회복",null,"공격속도","방어력","회피","적중도","치명확률","치명타\n세기","상태이상\n저항","재사용\n감소","활력\n충전도"]
[]
[null,"min","max"]
["Archon",0.2,0.4,0.9,0.4,0,1,0.3,1,1,0.3,0.5,0.8,0.2,1,"1~20증가비합",{"$f":"SUM(B37:O37)","v":7.9999999999999991}]
["ArchM1",0.4,0.7,1.1000000000000001,0.6,0,1,0.5,1.1000000000000001,1,0.5,0.7,0.9,0.3,1.2,"21~50증가비합",{"$f":"SUM(B38:O38)","v":10}]
["ArchM2",0.4,0.7,1.1000000000000001,0.6,0,1,0.5,1.1000000000000001,1,0.5,0.7,0.9,0.3,1.2,null,10]
[null,6,null,13,null,null,6,null,null,null,null,5,10,null,null,"기본스탯합",40]
["몬스터 기본"]
["스탯","힘\n(STR)",null,"체력\n(VIT)",null,null,"민첩\n(AGIL)",null,null,null,null,"지능\n(INT)","지혜\n(WIT)"]
[]
["파라미타","근접공격력",null,"생명력","생명력회복",null,"공격속도","방어력","회피","적중도","치명확률","치명피해","상태이상\n저항","재사용\n감소","활력\n충전도"]
[]
[null,"min","max"]
["초보몬스터",0.3,0.7,1,0.2,0,1.7999999999999998,0.5,1,1,0.1,0.4,1,0,0,null,{"$f":"SUM(B47:O47)","v":8}]
["전사형몬스터",1,1.5,2,0.2,0,2.0999999999999996,1.5,1.1000000000000001,1,0.1,0.5,1,0,0,null,{"$f":"SUM(B48:O48)","v":12}]
["위자드형몬스터",1,2,1,0.2,0,2.0999999999999996,0.5,1.1000000000000001,1,0.1,1.5,1.5,0,0,null,12]
[null,10,null,10,null,null,6,null,null,null,null,4,10,null,null,null,40]

{"sheet":"Prime_Parameters","index":3,"n_rows":179,"n_cols":5,"rows_kept":179,"cut":false,"hidden":false,"merged":[[50,3,54,3]]}
[]
[null,"성장 속성 종류","Full Name","속성표기","설명 / 관계"]
[null,"클래스 레벨","Class Level","ClsLv","현재 캐릭터의 클래스 일반 성장 레벨"]
[null,null,null,null,"현재 4개의 클래스가 존재하며, 각각의 클래스 레벨은 개별 적용이다."]
[null,null,null,null,"최대 레벨 50"]
[null,"현재 일반 경험치","Class Current Experience","cExp","현재 캐릭터의 클래스 경험치"]
[null,null,null,null,"일반 경험치: Exp"]
[null,"총 누적 일반 경험치","Class Total Experience","tExp","해당 캐릭터의 클래스가 획득한 총 누적 경험치"]
[null,"수호자 레벨","Guardian Level","GrdLv","현재 계정의 수호자 레벨"]
[null,null,null,null,"클래스에 관계없이 수호자 레벨은 계정에 공통 적용이다."]
[null,null,null,null,"최대 레벨 2000"]
[null,"현재 수호자 경험치","Guardian Current Experience","cGExp","현재 계정이 획득한 수호자 경험치"]
[null,null,null,null,"수호자 경험치: GExp"]
[null,"총 누적 수호자 경험치","Guardian Total Experience","tGExp","현재 계정이 획득한 총 수호자 누적 경험치"]
[null,"획득 경험치 증가","Exp_Mult","Exp_Mult","현재 경험치 Exp 에 대한 증가관련 옵션 형태."]
[null,null,null,null,"아이템/스킬에 의해 추가되는 경험치: Exp_Mult"]
[]
[null,"기본 속성 종류","Full Name","속성 표기","설명 / 관계"]
[null,"힘","Strength","STR","기본 최소, 최대 공격력에 영향(60%)"]
[null,null,null,null,"치명타 저항"]
[null,"체력","Vitality","VIT","최대 생명력, 생명력 회복, 피해감소"]
[null,"민첩","Agility","Agl","기본 최소, 최대 공격력에 영향(20%)"]
[null,null,null,null,"공격속도, 방어력, 치명타 확률, 회피율, 적중도"]
[null,"지능","Inteligence","INT","기본 최소, 최대 공격력에 영향(20%)"]
[null,null,null,null,"치명타 세기, 적중도, 스킬 재사용 시간 감소"]
[null,"지혜","Wisdom","MEN","생명력회복, 활력도, 치명타 세기, 상태이상 저항력, 치명타 저항"]
[]
[null,"전투 속성 종류","Full Name","속성 표기","설명 / 관계 / 수식"]
[null,"전투력","BattlePower","BtlPow","공격력, 방어력, 생명력을 전투수치로 환산한 값. (정수 값)"]
[null,null,null,null,"= Btl_AttkPow + Btl_DfsPow + Btl_Hp = 공격력전투비중 + 방어력전투비중 + 생명력전투비중"]
[null,"공격력 전투 비중","Battle Attack Power","Btl_AttkPow","현재 캐릭터의 종합 공격력에 대한 전투력 환산 비중."]
[null,null,null,null,"= 0.75 * AttkPow"]
[null,"방어력 전투 비중","Battle Defense Power","Btl_DfsPow","현재 캐릭터의 종합 방어력에 대한 전투력 환산 비중"]
[null,null,null,null,"= 0.2 * DfsPow"]
[null,"생명력 전투 비중","Battle Health Point","Btl_Hp","현재 캐릭터의 종합 생명력에 대한 전투력 환산 비중"]
[null,null,null,null,"= 0.05 * HP"]
[null,"공격력","AttackPower","AttkPow","현재 캐릭터의 종합 공격력. (정수 값)"]
[null,null,null,null,"= ( AttkPow_Base + sum [ AttkPow_Constant ] ) * (1 + ( sum [ AttkPow_Percent  / 100 ) )"]
[null,"기본 (랜덤)공격력","Base Attack Power","AttkPow_Base","클래스 별 최소, 최대 공격력의 랜덤 값."]
[null,null,null,null,"= Randbetween ( Min_AttkPow , Max_AttkPow )"]
[null,"최소 공격력","Minimum Attack Power","AttkPow_Min","클래스 최소 공격력 [각 기본속성(Status)는 클래스와 레벨에 따라 변화된 수치 ]"]
[null,null,null,null,"= 최소공격력가중치  * (100+1.2 * ( 0.6 * STR + 0.2 * AGL + 0.2 * WIS  ))"]
[null,"최대 공격력","Maximum Attack Power","AttkPow_Max","클래스 최대 공격력 [각 기본속성(Status)는 클래스와 레벨에 따라 변화된 수치 ]"]
[null,null,null,null,"= 최대공격력 가중치 * (100+1.2 * ( 0.6 * STR + 0.2 * AGL + 0.2 * WIS  ))"]
[null,"무기 공격력","Item Attack Power","AttkPow_ Constant","클래스 무기의 공격력 "]
[null,null,null,null,"무기 착용 시 적용됨."]
[null,"공격력 상수”+- N”","Attack Power Constant","AttkPow_ Constant","아이템 또는 스킬 등의 공격력 정수(상수) 가감 속성."]
[null,null,null,null,"아이템 착용 또는 스킬 사용/학습 시 적용."]
[null,"공격력 비율”+- n%”","Attack Power Percent","AttkPow_ Percent","아이템 또는 스킬 등의 공격력 비율 가감 속성"]
[null,null,null,null,"아이템 착용 또는 스킬 사용/학습 시 적용."]
[null,"공격 속도","Attack Speed","AttkSpd","캐릭터의 공격 속도: 기본 공격속도에 대한 속성 적용으로 환산되는 값. (정수 값)"]
[null,null,null,null,"= Max [ (AttkSpd_Base * (1 + sum [ AttkSpd_Percent ] /100)) , 3  ]"]
[null,null,null,null,"IF ( sum [ AttkSpd_Percent ] >0.3, sum [ AttkSpd_Percent ], 0 .3) "]
[null,null,null,null,"공격속도 가감 비율에 의한 합산 값이 0.3보다 작으면 0.3 (최소 공격속도) 를 보장한다."]
[null,null,null,null,"공격속도 가감 비율에 의한 합산 값이 3 (3배속) 보다 크면 3 (최대 공격속도) 를 제한한다."]
[null,"기본 공격속도","Base Attack Speed","AttkSpd_Base","클래스 기본 공격속도 [각 기본속성(Status)는 클래스와 레벨에 따라 변화된 수치 ]"]
[null,null,null,null,"= ( 공격속도가중치  * 1000) - ( AGL  * 5 ) "]
[null,null,null,null,"공격속도가중치는 클래스 1초(1000) 공통."]
[null,"공격속도 비율”+- n%”","Attack Speed Percent","AttkSpd_Percent","아이템 또는 스킬 등의 공격속도 비율 가감 속성"]
[null,null,null,null,"아이템 착용 또는 스킬 사용/학습 시 적용."]
[null,null,null,null,"공격속도 비율 감소는 둔화 계열 속성으로 처리"]
[null,"방어력","DefensePower","DfsPow","캐릭터의 종합 방어력. (정수 값)"]
[null,null,null,null,"= (DfsPow_Base + sum [ DfsPow_Constant ] ) * (1 + ( sum [ DfsPow_Percent ] / 100 ) )"]
[null,"기본 방어력","Base Defense Power","DfsPow_Base","캐릭터 별 방어력."]
[null,null,null,null,"= 방어력가중치  * (0.2 *( AGL  * 35) )"]
[null,"방어구 방어력","Item Defense Power","DfsPow_Constant","클래스 방어구의 방어력 . 최종 방어력은 부위별 합산 형태임을 유의."]
[null,null,null,null,"방어구 착용 시 적용됨. (방어구 파츠: 투구, 상의, 하의, 장갑, 신발)"]
[null,"방어력 상수”+- N”","Defense Power Constant","DfsPow_Constant","아이템 또는 스킬 등의 방어력 정수(상수) 가감 속성."]
[null,null,null,null,"아이템 착용 또는 스킬 사용/학습 시 적용."]
[null,null,null,null,"방어력 상수 감소(음수)는 없음. 대응 값으로 피해감소 활용."]
[null,"방어력 비율”+- n%”","Defense Power Percent","DfsPow_Percent","아이템 또는 스킬 등의 방어력 비율 가감 속성"]
[null,null,null,null,"아이템 착용 또는 스킬 사용/학습 시 적용."]
[null,null,null,null,"방어력 비율 감소(음수)는 없음. 대응 값으로 피해감소 활용."]
[null,"최대 생명력","Health Point","MaxHP","캐릭터의 생명을 표시하는 지수의 최대량  (정수 값)"]
[null,null,null,null,"생명력이 “0” 값일 경우 캐릭터 상태 “사망”."]
[null,null,null,null,"= ( HP_Base + sum [ HP_Constant ] ) * (1 + ( sum [ HP_Percent ] / 100 ) )"]
[null,"생명력 (현재)","HP_Current","HP_Current","캐릭터의 생명을 표시하는 수치의 현재 량"]
[null,"기본 생명력","Base Health Point","HP_Base","캐릭터의 기본 생명력"]
[null,null,null,null,"=(Level^2*0.7)+ VIT  * ( VIT * 생명력가중치 )/2+100"]
[null,"목걸이 생명력","Item HP","HP _Constant","아이템 목걸이의 생명력 . "]
[null,null,null,null,"목걸이 착용 시 적용됨. "]
[null,"생명력 상수”+- N”","Health Point Constant","HP_Constant","아이템 또는 스킬 등의 생명력 정수(상수) 가감 속성."]
[null,null,null,null,"아이템 착용 또는 스킬 사용/학습 시 적용."]
[null,null,null,null,"생명력 상수 감소(음수)는 없음."]
[null,"생명력 비율”+- n%”","Health Point Percent","HP_Percent","아이템 또는 스킬 등의 생명력 비율 가감 속성"]
[null,null,null,null,"아이템 착용 또는 스킬 사용/학습 시 적용."]
[null,null,null,null,"생명력 비율 감소(음수)는 없음."]
[null,"생명력 회복(률)","Health Point Regeneration","HPRgn","캐릭터가 1초당 회복하는 생명력. (정수 값)"]
[null,null,null,null,"= ( HpRgn_Base ) * (1 + ( sum [ HpRgn_Percent ] / 100 ) )"]
[null,null,null,null,"마을에서는 회복처리를 하지 않는다."]
[null,"기본 생명력 회복","Base Health Point Regeneration","HpRgn_Base","캐릭터의 기본 생명력 회복량"]
[null,null,null,null,"=( 1+0.05 * (Level/4) )* { 생명력가중치  * [ 50 + 1.5 * ( 0.8*VIT  + 0.2*WIS ) ] }"]
[null,"생명력회복비율\"+- n%\"","Health Regeneration Percent","HpRgn_Percent","아이템 또는 스킬 등의 생명력 회복 비율 가감 속성"]
[null,null,null,null,"아이템 착용 또는 스킬 사용/학습 시 적용."]
[null,null,null,null,"생명력 회복 비율 감소(음수)는 없음. 도트 계열 속성으로 처리."]
[null,"치명타 확률","Critical Rate","CrtRt","캐릭터가 매 공격할 때마다 치명타 데미지로 환산될 확률. (백분율 값)"]
[null,"Critical Rate",null,null,"= CrtRt_Base * ( 1 + ( sum [ CrtRt_Percent ] / 100 ) )"]
[null,null,null,null,"IF ( sum [ CrtRt_Percent ] >0, sum [ CrtRt_Percent ], 0 )"]
[null,null,null,null,"IF ( CrtRt <=100, sum [ CrtRt_Percent ], 100) : 치명타 확률이 100이상이면 100으로 제한한다."]
[null,"기본 치명타 확률","Base Critical Rate","CrtRt _Base","캐릭터의 기본 치명타 확률."]
[null,null,null,null,"=(치명타확률가중치  * 1000 + AGL  )/50"]
[null,"치명타 확률 비율\"+- n%\"","Critical Rate Percent","CrtRt_Percent","아이템 또는 스킬 등의 치명타 확률 비율 가감 속성"]
[null,null,null,null,"아이템 착용 또는 스킬 사용/학습 시 적용."]
[null,"치명타 세기","Critical Power","CrtPow","캐릭터가 매 공격할 때마다 치명타 데미지 수치. (정수 값)"]
[null,null,null,null,"= CtrPow_Base * (1 + ( sum [ CtrPow_Percent ] / 100 ) ) – CrtPowDecr"]
[null,null,null,null,"IF ( CtrPow >=1, CtrPow, 1 )"]
[null,"기본 치명타 세기","Base Critical Power","CtrPow_Base","캐릭터의 기본 치명타 세기"]
[null,null,null,null,"= 2 + (치명타세기가중치 ) + ( INT  / 100)"]
[null,"치명타세기비율\"+- n%\"","Critical Power Percent","CtrPow_Percent","아이템 또는 스킬 등의 치명타 세기 비율 가감 속성"]
[null,null,null,null,"아이템 착용 또는 스킬 사용/학습 시 적용."]
[null,null,null,null,"치명타 세기 비율 감소(음수)없음. 대응 값으로 치명타 저항 속성"]
[null,"치명타 저항","Critical Power Decrease","CrtPowDecr","방어 시 공격자의 치명타 세기를 감소시키는 수치. (정수 값)"]
[null,null,null,null,"= CrtPowDecr_Base * (1 + ( sum [ CrtPowDecr_Percent ] / 100 ) )"]
[null,"기본 치명타 저항","Base Critical Power Decrease","CrtPowDecr_Base","캐릭터의 기본 치명타 저항"]
[null,null,null,null,"=( (0.2 * STR) + (0.8 * WIS ) ) /250"]
[null,"치명타저항비율\"+- n%\"","Critical Power Decrease Percent","CrtPowDecr_Percent","아이템 또는 스킬 등의 치명타 저항 비율 가감 속성"]
[null,null,null,null,"아이템 착용 또는 스킬 사용/학습 시 적용."]
[null,null,null,null,"치명타 저항 비율 감소(음수)없음. 대응 값으로 치명타 세기 속성"]
[null,"피해감소","Damage Decrease","DmgDecr","공격자로서 상대방에게 주는 피해인 데미지에 대한 감소되는 비율을 나타내는 수치."]
[null,null,null,null,"= DmgDecr_Base * ( 1 + ( sum [ DmgDecr_Percent ] / 100 ) )"]
[null,"기본 피해감소","Base Damage Decrease","DmgDecr_Base","캐릭터의 기본 피해감소 능력치"]
[null,null,null,null,"=(VIT /25)"]
[null,"피해감소비율\"+- n%\"","Damage Decrease Percent","DmgDecr_Percent","아이템 또는 스킬 등의 피해감소 비율 가감 속성"]
[null,null,null,null,"아이템 착용 또는 스킬 사용/학습 시 적용."]
[null,null,null,null,"피해감소 비율 감소(음수)없음."]
[null,"활력(충전)도","Stamina Charge","StmChrg","캐릭터의 특수한 회피 스킬을 사용할 수 있는 조건인 스테미나(활력)을 채워주는 능력 수치."]
[null,null,null,null,"스테미나를 최대 충전할 경우에만 해당 회피 스킬을 사용할 수 있다."]
[null,null,null,null,"= StmChrg_Base * (1 + ( sum [ StmChrg_Percent ] / 100 ) )"]
[null,null,null,null,"IF ( StmChrg <=10000, StmChrg, 10000), 활력(충전)도는 10000을 초과면 10000으로 제한한다."]
[null,"기본 활력도","Base Stamina Charge","StmChrg_Base","캐릭터의 기본 활력 충전 능력치"]
[null,null,null,null,"= WIS  * (WIS * 활력도가중치 )+100"]
[null,"활력도비율\"+- n%\"","Stamina Charge Percent","StmChrg_Percent","아이템 또는 스킬 등의 활력도 비율 가감 속성"]
[null,null,null,null,"아이템 착용 또는 스킬 사용/학습 시 적용."]
[null,null,null,null,"활력도비율 감소(음수)없음."]
[null,"회피율","Avoid Rate","AvdRt","캐릭터가 상대방의 적중을 회피할 수 있는 확률. 상대적인 값인 적중도와 관계되어 공격성공 판정에 활용."]
[null,"Avoid Rate",null,null,"= AvdRt_Base * (1 + ( sum [ AvdRt_Percent ] / 100 ) )"]
[null,"기본 회피율","Base Avoid Rate","AvdRt_Base","캐릭터의 기본 회피율 능력치"]
[null,null,null,null,"= [ ( 회피율가중치  * 1000 ) + AGL  ) ] / 1000"]
[null,"회피율비율\"+- n%\"","Avoid Rate Percent","AvdRt_Percent","아이템 또는 스킬 등의 회피 확률 비율 가감 속성"]
[null,null,null,null,"아이템 착용 또는 스킬 사용/학습 시 적용."]
[null,null,null,null,"감소비율없음. 대응값으로 적중도 속성"]
[null,"적중도","Accuracy","Accr","캐릭터의 적중 확률. 상대적인 값인 회피율과 관계되어 공격성공 판정에 활용. 모든 스킬에 공용."]
[null,"Accuracy",null,null,"= Accr_Base * (1 + ( sum [ Accr_Percent ] / 100 ) )"]
[null,"기본 적중도","Base Accuracy","Accr _Base","캐릭터의 기본 적중도 능력치"]
[null,null,null,null,"= [ ( 적중도가중치  * 1000 ) + AGL  + INT ) ] /10"]
[null,"적중도비율\"+- n%\"","Accuracy Percent","Accr _Percent","아이템 또는 스킬 등의 적중도비율 가감 속성"]
[null,null,null,null,"아이템 착용 또는 스킬 사용/학습 시 적용."]
[null,null,null,null,"감소비율없음. 대응값으로 회피율 속성"]
[null,"상태이상 저항","State Regist","StReg","방어자로서의 모든 상태이상에 대한 확률적 저항 능력치 "]
[null,null,null,null,"공격자의 속성효과(옵션)의 발동확률 값에 대응하는 값."]
[null,null,null,null,"= StReg_Base * (1 + ( sum [ StReg_Percent ] / 100 ) )"]
[null,"기본 상태이상저항","Base State Regist","StReg_Base","캐릭터의 기본 상태이상 저항 능력치"]
[null,null,null,null,"= [ ( WIS  * 상태이상저항가중치 )+5 ] /2"]
[null,"상태이상저항비율\"+- n%\"","State Regist Percent","StReg_Percent","아이템 또는 스킬 등의 상태이상 저항비율 가감 속성"]
[null,null,null,null,"아이템 착용 또는 스킬 사용/학습 시 적용."]
[null,"스킬 재사용시간 감소","(Skill) Cool-Time Decrease","CoolDecr","캐릭터의 액티브 스킬을 재사용하는데 걸리는 대기 시간."]
[null,null,null,null,"해당 값은 각각의 스킬 T_SkillLevel 에 Sl_coolTime 과 개별적으로 연산된다."]
[null,null,null,null,"= CoolDecr_Base * (1 + ( sum [ CoolDecr_Percent ] / 100 ) )"]
[null,"스킬 재사용시간","Skill Cooltime","Cooltime","각 스킬 별 Sl_coolTime 의 값과 CoolDecr 연산."]
[null,null,null,null,"스킬 쿨타임 단위 1초"]
[null,null,null,null,"= Sl_coolTime * [  1 – ( CoolDecr / 100 )  ]"]
[null,null,null,null,"If { [ 1 – ( CoolDecr / 100 ) ] <=0.3, 0.3, [ 1 – ( CoolDecr / 100 ) ]  } , 쿨타임은 최대 70%감소 가능."]
[null,"기본 스킬재사용시간감소","Base Cool-Time Decrease","CoolDecr_Base","캐릭터의 기본 스킬 재사용시간 감소 능력치"]
[null,null,null,null,"= [ (INT +WIS)*재사용시간감소가중치  ] / 5"]
[null,"재사용시간비율\"+- n%\"","Cool-Time Decrease Percent","CoolDecr_Percent","아이템 또는 스킬 등의 재사용 시간 감소 비율 가감 속성"]
[null,null,null,null,"아이템 착용 또는 스킬 사용/학습 시 적용."]
[null,"이동속도","Move Speed","MvSpd","캐릭터가 “맵”을 이동할 때의 속도."]
[null,"Move Speed",null,null,"1초당 뛰는 거리 100 (단위 CM ) / 1초당 1m 를 이동."]
[null,null,null,null,"= MvSpd_Base * (1 + ( sum [ MvSpd_Percent ] / 100 ) )"]
[null,null,null,null,"IF ( MvSpd <=0, 0, MvSpd), 이동속도 최하는 0값이며, 대상은 이동불가상태."]
[null,"기본 이동속도","Base Move Speed","MvSpd _Base","캐릭터의 기본 이동속도 능력치"]
[null,null,null,null,"기본적으로 200 의 이동속도를 공통으로 적용."]
[null,"이동속도비율\"+- n%\"","Move Speed Percent","MvSpd _Percent","아이템 또는 스킬 등의 이동속도비율 가감 속성"]
[null,null,null,null,"아이템 착용 또는 스킬 사용/학습 시 적용."]
[null,"신성력","Divine Force","DvFrc","캐릭터가 갖는 특별한 몬스터에 대한 피해를 줄 수 있는 능력."]
[null,null,null,null,"관련 몬스터는 흑마력(Dark Force)으로 해당 능력에 상대적인 능력을 지닌다."]
[null,null,null,null,"기본 값 0."]
[null,"흑마력","Dark Force","DkFrc","특정 몬스터가 갖는 캐릭터의 피해를 감소시키는 능력."]
[null,null,null,null,"관련 캐릭터는 신성력(Divine Force)으로 해당 능력에 상대적인 능력을 지닌다."]

{"sheet":"Game_Fomula","index":4,"n_rows":25,"n_cols":5,"rows_kept":25,"cut":false,"hidden":false,"merged":[[15,1,18,1]]}
[]
[null,"전투 수식 분류","Full Name","표기","설명 / 관계 / 수식"]
[null,"공격성공 판정","Success Accuracy","SAccr","공격자의 적중도, 방어자의 회피율로 환산한 공격성공 값."]
[null,null,null,null,"= Accr  - ( AvdRt )"]
[null,null,null,null,"IF( (SAccr <=15, 15, SAccr ), 공격성공확률은 15% 를 최하값으로 보정한다."]
[null,"스킬 데미지","Skill Damage","skDMG","캐릭터의 데미지를 기반으로 공격형 스킬을 사용했을 때의 Skill Damage 값."]
[null,null,null,null,"= AttkPow  * ( 1 + ( skDMG_Percent / 100 )"]
[null,null,null,null,"Skill_Infos 테이블에 T_SkillLevel 시트의 Sl_skDMG_Percent 필드 값"]
[null,"공격자의 초당 공격력","Damage Per Second","DPS","캐릭터의 초당 공격력. 전투 속성의 수식에 의해 계산된 공격력과 공격속도로 환산되는 값."]
[null,null,null,null,"= AttkPow * (1000 / AttkSpd)"]
[null,"데미지","Damage","DMG","공격자의 공격력, 방어자의 방어력으로 환산한 Damage 값."]
[null,null,null,null,"= skDMG * ( 1 - ( DfsPow / 50000 ) )"]
[null,null,null,null,"IF( (1 - (DfsPow / 50000))<=0, 0.12, (1 - (DfsPow / 50000)) )"]
[null,"방어자의 방어력","Defense Power","DfsPow","캐릭터의 종합 방어력. 전투 속성의 수식에 의해 계산된 방어력"]
[null,null,null,null,"= (DfsPow_Base + sum [ DfsPow_Constant ] ) * (1 + ( sum [ DfsPow_Percent ] / 100 ) )"]
[null,"(스킬) 피해감소 데미지","total Damage","tDMG","치명타 데미지를 계산하기 전 피해감소 수치에 대한 데미지 계산이 먼저 진행되는 값"]
[null,null,null,null,"= DMG * ( 1 - ( DmgDecr / 100 )"]
[null,null,null,null,"=IF { [ 1 - ( DmgDecr / 100 ) ]<=0, 0.1, [ 1 - ( DmgDecr / 100 ) ] }"]
[null,null,null,null,"피해감소 수치가 100을 넘어도, 스킬 데미지의 최소 10%를 보장한다."]
[null,"치명타 데미지","Critical Damage","CrtDMG","치명타 확률에 의해 치명타 데미지의 결정 후 치명타 세기(치명타저항포함)로 연산되는 데미지 값."]
[null,"Critical Damage",null,null,"= skDMG * CtrPow"]
[null,"치명타 세기","Critical Power","CrtPow","= CtrPow_Base * (1 + ( sum [ CtrPow_Percent ] / 100 ) ) – CrtPowDecr\n치명타 세기가 1미만이면 1로 제한한다."]
[null,"치명타 저항","Critical Power Decrease","CrtPowDecr","IF ( CtrPow >=1, CtrPow, 1 )"]
[null,"신성력 데미지","Divine Damage","DvDMG","최종 데미지 값이라고 볼 수 있다. 기본적으로 신성력을 100으로 갖고 있다."]
[null,null,null,null,"= CrtDMG * [ ( DvFrc – DkFrc ) / 100 ]"]

{"sheet":"Berserker_Status","index":5,"n_rows":44,"n_cols":20,"rows_kept":44,"cut":false,"hidden":false,"merged":[]}
["초기시작",14,16,6,2,2]
["Berserk",{"$f":"VLOOKUP($A2,Class_Status!$B$3:$G$25,2,0)","v":1},{"$f":"VLOOKUP($A2,Class_Status!$B$3:$G$25,3,0)","v":1},{"$f":"VLOOKUP($A2,Class_Status!$B$3:$G$25,4,0)","v":0.5},{"$f":"VLOOKUP($A2,Class_Status!$B$3:$G$25,5,0)","v":0.2},{"$f":"VLOOKUP($A2,Class_Status!$B$3:$G$25,6,0)","v":0.3},null,"BskM1",{"$f":"VLOOKUP($H2,Class_Status!$B$3:$G$24,2,0)","v":1.4},{"$f":"VLOOKUP($H2,Class_Status!$B$3:$G$24,3,0)","v":1.6},{"$f":"VLOOKUP($H2,Class_Status!$B$3:$G$24,4,0)","v":0.6},{"$f":"VLOOKUP($H2,Class_Status!$B$3:$G$24,5,0)","v":0.2},{"$f":"VLOOKUP($H2,Class_Status!$B$3:$G$24,6,0)","v":0.2},null,"BskM2",{"$f":"VLOOKUP($H2,Class_Status!$B$3:$G$24,2,0)","v":1.4},{"$f":"VLOOKUP($H2,Class_Status!$B$3:$G$24,3,0)","v":1.6},{"$f":"VLOOKUP($H2,Class_Status!$B$3:$G$24,4,0)","v":0.6},{"$f":"VLOOKUP($H2,Class_Status!$B$3:$G$24,5,0)","v":0.2},{"$f":"VLOOKUP($H2,Class_Status!$B$3:$G$24,6,0)","v":0.2}]
["Berserk",{"$f":"SUM(B1:B2)","v":15},{"$f":"SUM(C1:C2)","v":17},{"$f":"SUM(D1:D2)","v":6.5},{"$f":"SUM(E1:E2)","v":2.2000000000000002},{"$f":"SUM(F1:F2)","v":2.2999999999999998},null,"BskM1",null,null,null,null,null,null,"BskM2"]
["Lvl","P_Str","P_vit","P_Agil","P_Int","P_Wis",null,"Lvl","P_Str","P_vit","P_Agil","P_Int","P_Wis",null,"Lvl","P_Str","P_vit","P_Agil","P_Int","P_Wis"]
[1,{"$f":"B3","v":15},{"$f":"C3","v":17},{"$f":"D3","v":6.5},{"$f":"E3","v":2.2000000000000002},{"$f":"F3","v":2.2999999999999998},null,21,{"$f":"B24+I$2","v":35.4},{"$f":"C24+J$2","v":37.6},{"$f":"D24+K$2","v":16.600000000000001},{"$f":"E24+L$2","v":6.2000000000000037},{"$f":"F24+M$2","v":8.1999999999999957},null,21,{"$f":"B24+P$2","v":35.4},{"$f":"C24+Q$2","v":37.6},{"$f":"D24+R$2","v":16.600000000000001},{"$f":"E24+S$2","v":6.2000000000000037},{"$f":"F24+T$2","v":8.1999999999999957}]
[2,{"$f":"B5+B$2","v":16},{"$f":"C5+C$2","v":18},{"$f":"D5+D$2","v":7},{"$f":"E5+E$2","v":2.4000000000000004},{"$f":"F5+F$2","v":2.5999999999999996},null,22,{"$f":"I5+I$2","v":36.799999999999997},{"$f":"J5+J$2","v":39.200000000000003},{"$f":"K5+K$2","v":17.200000000000003},{"$f":"L5+L$2","v":6.4000000000000039},{"$f":"M5+M$2","v":8.399999999999995},null,22,{"$f":"P5+P$2","v":36.799999999999997},{"$f":"Q5+Q$2","v":39.200000000000003},{"$f":"R5+R$2","v":17.200000000000003},{"$f":"S5+S$2","v":6.4000000000000039},{"$f":"T5+T$2","v":8.399999999999995}]
[3,{"$f":"B6+B$2","v":17},19,7.5,2.6000000000000005,2.8999999999999995,null,23,{"$f":"I6+I$2","v":38.199999999999996},{"$f":"J6+J$2","v":40.800000000000004},{"$f":"K6+K$2","v":17.800000000000004},{"$f":"L6+L$2","v":6.6000000000000041},{"$f":"M6+M$2","v":8.5999999999999943},null,23,{"$f":"P6+P$2","v":38.199999999999996},{"$f":"Q6+Q$2","v":40.800000000000004},{"$f":"R6+R$2","v":17.800000000000004},{"$f":"S6+S$2","v":6.6000000000000041},{"$f":"T6+T$2","v":8.5999999999999943}]
[4,18,20,8,2.8000000000000007,3.1999999999999993,null,24,39.599999999999994,42.400000000000006,18.400000000000006,6.8000000000000043,8.7999999999999936,null,24,39.599999999999994,42.400000000000006,18.400000000000006,6.8000000000000043,8.7999999999999936]
[5,19,21,8.5,3.0000000000000009,3.4999999999999991,null,25,40.999999999999993,44.000000000000007,19.000000000000007,7.0000000000000044,8.9999999999999929,null,25,40.999999999999993,44.000000000000007,19.000000000000007,7.0000000000000044,8.9999999999999929]
[6,20,22,9,3.2000000000000011,3.7999999999999989,null,26,42.399999999999991,45.600000000000009,19.600000000000009,7.2000000000000046,9.1999999999999922,null,26,42.399999999999991,45.600000000000009,19.600000000000009,7.2000000000000046,9.1999999999999922]
[7,21,23,9.5,3.4000000000000012,4.0999999999999988,null,27,43.79999999999999,47.20000000000001,20.20000000000001,7.4000000000000048,9.3999999999999915,null,27,43.79999999999999,47.20000000000001,20.20000000000001,7.4000000000000048,9.3999999999999915]
[8,22,24,10,3.6000000000000014,4.3999999999999986,null,28,45.199999999999989,48.800000000000011,20.800000000000011,7.600000000000005,9.5999999999999908,null,28,45.199999999999989,48.800000000000011,20.800000000000011,7.600000000000005,9.5999999999999908]
[9,23,25,10.5,3.8000000000000016,4.6999999999999984,null,29,46.599999999999987,50.400000000000013,21.400000000000013,7.8000000000000052,9.7999999999999901,null,29,46.599999999999987,50.400000000000013,21.400000000000013,7.8000000000000052,9.7999999999999901]
[10,24,26,11,4.0000000000000018,4.9999999999999982,null,30,47.999999999999986,52.000000000000014,22.000000000000014,8.0000000000000053,9.9999999999999893,null,30,47.999999999999986,52.000000000000014,22.000000000000014,8.0000000000000053,9.9999999999999893]
[11,25,27,11.5,4.200000000000002,5.299999999999998,null,31,49.399999999999984,53.600000000000016,22.600000000000016,8.2000000000000046,10.199999999999989,null,31,49.399999999999984,53.600000000000016,22.600000000000016,8.2000000000000046,10.199999999999989]
[12,26,28,12,4.4000000000000021,5.5999999999999979,null,32,50.799999999999983,55.200000000000017,23.200000000000017,8.4000000000000039,10.399999999999988,null,32,50.799999999999983,55.200000000000017,23.200000000000017,8.4000000000000039,10.399999999999988]
[13,27,29,12.5,4.6000000000000023,5.8999999999999977,null,33,52.199999999999982,56.800000000000018,23.800000000000018,8.6000000000000032,10.599999999999987,null,33,52.199999999999982,56.800000000000018,23.800000000000018,8.6000000000000032,10.599999999999987]
[14,28,30,13,4.8000000000000025,6.1999999999999975,null,34,53.59999999999998,58.40000000000002,24.40000000000002,8.8000000000000025,10.799999999999986,null,34,53.59999999999998,58.40000000000002,24.40000000000002,8.8000000000000025,10.799999999999986]
[15,29,31,13.5,5.0000000000000027,6.4999999999999973,null,35,54.999999999999979,60.000000000000021,25.000000000000021,9.0000000000000018,10.999999999999986,null,35,54.999999999999979,60.000000000000021,25.000000000000021,9.0000000000000018,10.999999999999986]
[16,30,32,14,5.2000000000000028,6.7999999999999972,null,36,56.399999999999977,61.600000000000023,25.600000000000023,9.2000000000000011,11.199999999999985,null,36,56.399999999999977,61.600000000000023,25.600000000000023,9.2000000000000011,11.199999999999985]
[17,31,33,14.5,5.400000000000003,7.099999999999997,null,37,57.799999999999976,63.200000000000024,26.200000000000024,9.4,11.399999999999984,null,37,57.799999999999976,63.200000000000024,26.200000000000024,9.4,11.399999999999984]
[18,32,34,15,5.6000000000000032,7.3999999999999968,null,38,59.199999999999974,64.800000000000026,26.800000000000026,9.6,11.599999999999984,null,38,59.199999999999974,64.800000000000026,26.800000000000026,9.6,11.599999999999984]
[19,{"$f":"B22+B$2","v":33},35,15.5,5.8000000000000034,7.6999999999999966,null,39,60.599999999999973,66.40000000000002,27.400000000000027,9.7999999999999989,11.799999999999983,null,39,60.599999999999973,66.40000000000002,27.400000000000027,9.7999999999999989,11.799999999999983]
[20,34,36,16,6.0000000000000036,7.9999999999999964,{"$f":"SUM(B24:F24)","v":100},40,61.999999999999972,68.000000000000014,28.000000000000028,9.9999999999999982,11.999999999999982,null,40,61.999999999999972,68.000000000000014,28.000000000000028,9.9999999999999982,11.999999999999982]
[null,null,null,null,null,null,null,41,63.39999999999997,69.600000000000009,28.60000000000003,10.199999999999998,12.199999999999982,null,41,63.39999999999997,69.600000000000009,28.60000000000003,10.199999999999998,12.199999999999982]
[null,"최소 공격력","최대 생명력","최소 공격력","최소 공격력","생명력회복",null,42,64.799999999999969,71.2,29.200000000000031,10.399999999999997,12.399999999999981,null,42,64.799999999999969,71.2,29.200000000000031,10.399999999999997,12.399999999999981]
[null,"최대 공격력","생명력회복","최대 공격력","최대 공격력","활력도",null,43,66.199999999999974,72.8,29.800000000000033,10.599999999999996,12.59999999999998,null,43,66.199999999999974,72.8,29.800000000000033,10.599999999999996,12.59999999999998]
[null,"치명타 저항","피해 감소","공격속도","치명타 세기","치명타 세기",null,44,67.59999999999998,74.399999999999991,30.400000000000034,10.799999999999995,12.799999999999979,null,44,67.59999999999998,74.399999999999991,30.400000000000034,10.799999999999995,12.799999999999979]
[null,null,null,"치명타 확률","적중도","상태이상저항",null,45,68.999999999999986,75.999999999999986,31.000000000000036,10.999999999999995,12.999999999999979,null,45,68.999999999999986,75.999999999999986,31.000000000000036,10.999999999999995,12.999999999999979]
[null,null,null,"방어력","재사용시간","치명타 저항",null,46,70.399999999999991,77.59999999999998,31.600000000000037,11.199999999999994,13.199999999999978,null,46,70.399999999999991,77.59999999999998,31.600000000000037,11.199999999999994,13.199999999999978]
[null,null,null,"회피율",null,"재사용시간",null,47,71.8,79.199999999999974,32.200000000000038,11.399999999999993,13.399999999999977,null,47,71.8,79.199999999999974,32.200000000000038,11.399999999999993,13.399999999999977]
[null,null,null,"적중도",null,null,null,48,73.2,80.799999999999969,32.80000000000004,11.599999999999993,13.599999999999977,null,48,73.2,80.799999999999969,32.80000000000004,11.599999999999993,13.599999999999977]
[null,null,null,null,null,null,null,49,74.600000000000009,82.399999999999963,33.400000000000041,11.799999999999992,13.799999999999976,null,49,74.600000000000009,82.399999999999963,33.400000000000041,11.799999999999992,13.799999999999976]
[null,null,null,null,null,null,null,50,76.000000000000014,83.999999999999957,34.000000000000043,11.999999999999991,13.999999999999975,{"$f":"SUM(I34:M34)","v":219.99999999999997},50,76.000000000000014,83.999999999999957,34.000000000000043,11.999999999999991,13.999999999999975]
[]
[null,null,null,null,null,null,null,null,"P_Str","P_Sta","P_Agil","P_Int","P_Wis",null,null,"P_Str","P_Sta","P_Agil","P_Int","P_Wis"]
[]
[null,null,null,null,null,null,null,null,"최소 공격력","최대 생명력","최소 공격력","최소 공격력","생명력회복",null,null,"최소 공격력","최대 생명력","최소 공격력","최소 공격력","생명력회복"]
[null,null,null,null,null,null,null,null,"최대 공격력","생명력회복","최대 공격력","최대 공격력","활력도",null,null,"최대 공격력","생명력회복","최대 공격력","최대 공격력","활력도"]
[null,null,null,null,null,null,null,null,"치명타 저항","피해 감소","공격속도","치명타 세기","치명타 세기",null,null,"치명타 저항","피해 감소","공격속도","치명타 세기","치명타 세기"]
[null,null,null,null,null,null,null,null,null,null,"치명타 확률","적중도","상태이상저항",null,null,null,null,"치명타 확률","적중도","상태이상저항"]
[null,null,null,null,null,null,null,null,null,null,"방어력","재사용시간","치명타 저항",null,null,null,null,"방어력","재사용시간","치명타 저항"]
[null,null,null,null,null,null,null,null,null,null,"회피율",null,"재사용시간",null,null,null,null,"회피율",null,"재사용시간"]
[null,null,null,null,null,null,null,null,null,null,"적중도",null,null,null,null,null,null,"적중도"]

{"sheet":"Berserker_Simul","index":6,"n_rows":92,"n_cols":35,"rows_kept":92,"cut":false,"hidden":false,"merged":[]}
["클래스","레벨","최대 생명력","생명력회복","활력도","초당평균공격력","최소 공격력","최대 공격력","공격속도","치명타 확률","치명타 세기","치명타저항","피해감소","방어력","회피율","적중도","상태이상저항","스킬쿨타임감소","이동속도","신성력",1,null,"적중도",null,10000,null,null,null,"아이템 기본"]
["Berserker",1,{"$f":"(B2^2*0.7)+Berserker_Status!$C5*(Berserker_Status!$C5*Class_Compare!$D$7)/2+100","v":245.2},{"$f":"(U2)*(Class_Compare!$E$7*(50+1.5*(0.8*Berserker_Status!C5+0.2*Berserker_Status!F5)))","v":43.187175000000003},{"$f":"Berserker_Status!F5*(Berserker_Status!F5*Class_Compare!$O$7)+100","v":101.05799999999999},{"$f":"((G2+H2)/2)*(1000/(I2))","v":81.676072351421183},{"$f":"Class_Compare!$B$7*(100+1.2*(0.6*Berserker_Status!B5+0.2*Berserker_Status!D5+0.2*Berserker_Status!E5))","v":67.732799999999997},{"$f":"Class_Compare!$C$7*(100+1.2*(0.6*Berserker_Status!B5+0.2*Berserker_Status!D5+0.2*Berserker_Status!E5))","v":90.310400000000016},{"$f":"(Class_Compare!$G$7*1000)-(Berserker_Status!D5*5)","v":967.5},{"$f":"(Class_Compare!$K$7*1000+Berserker_Status!D5)/50","v":10.130000000000001},{"$f":"2+(Class_Compare!$L$7)+(Berserker_Status!E5/100)","v":2.222},{"$f":"(0.2*Berserker_Status!B5+0.8*Berserker_Status!F5)/250","v":1.9359999999999999E-2},{"$f":"(Berserker_Status!C5/25)","v":0.68},{"$f":"Class_Compare!$H$7*(0.2*(Berserker_Status!D5*35))","v":31.849999999999998},{"$f":"(Class_Compare!$I$7*1000+Berserker_Status!D5)/1000","v":1.0065},{"$f":"(Class_Compare!$J$7*1000+Berserker_Status!D5+Berserker_Status!E5)/10","v":100.87},{"$f":"( (Berserker_Status!F5*Class_Compare!$M$7)+5 ) /2","v":2.73},{"$f":"((Berserker_Status!E5+Berserker_Status!F5)*Class_Compare!$N$7)/5","v":0.18},200,0,{"$f":"$U$1*(1+0.05*(B2/4))","v":1.0125},null,{"$f":"(Class_Compare!$J$7*1000+Berserker_Status!D5+Berserker_Status!E5)/10","v":100.87},"기본과아이템비율",5000,5000,"공격력",null,"무기",null,"투","상의","하의","장갑","신발"]
["Berserker",2,{"$f":"(B3^2*0.7)+Berserker_Status!$C6*(Berserker_Status!$C6*Class_Compare!$D$7)/2+100","v":264.8},{"$f":"(U3)*(Class_Compare!$E$7*(50+1.5*(0.8*Berserker_Status!C6+0.2*Berserker_Status!F6)))","v":44.513699999999993},{"$f":"Berserker_Status!F6*(Berserker_Status!F6*Class_Compare!$O$7)+100","v":101.352},{"$f":"((G3+H3)/2)*(1000/(I3))","v":82.531813471502588},{"$f":"Class_Compare!$B$7*(100+1.2*(0.6*Berserker_Status!B6+0.2*Berserker_Status!D6+0.2*Berserker_Status!E6))","v":68.265599999999992},{"$f":"Class_Compare!$C$7*(100+1.2*(0.6*Berserker_Status!B6+0.2*Berserker_Status!D6+0.2*Berserker_Status!E6))","v":91.020800000000008},{"$f":"(Class_Compare!$G$7*1000)-(Berserker_Status!D6*5)","v":965},{"$f":"(Class_Compare!$K$7*1000+Berserker_Status!D6)/50","v":10.14},{"$f":"2+(Class_Compare!$L$7)+(Berserker_Status!E6/100)","v":2.2240000000000002},{"$f":"(0.2*Berserker_Status!B6+0.8*Berserker_Status!F6)/250","v":2.1119999999999996E-2},{"$f":"(Berserker_Status!C6/25)","v":0.72},{"$f":"Class_Compare!$H$7*(0.2*(Berserker_Status!D6*35))","v":34.299999999999997},{"$f":"(Class_Compare!$I$7*1000+Berserker_Status!D6)/1000","v":1.0069999999999999},{"$f":"(Class_Compare!$J$7*1000+Berserker_Status!D6+Berserker_Status!E6)/10","v":100.94},{"$f":"( (Berserker_Status!F6*Class_Compare!$M$7)+5 ) /2","v":2.76},{"$f":"((Berserker_Status!E6+Berserker_Status!F6)*Class_Compare!$N$7)/5","v":0.2},200,0,{"$f":"$U$1*(1+0.05*(B3/4))","v":1.0249999999999999},null,{"$f":"(Class_Compare!$J$7*1000+Berserker_Status!D6+Berserker_Status!E6)/10","v":100.94},"보정",35,null,"방어력",null,"방어구",100,15,35,30,10,10]
["Berserker",3,{"$f":"(B4^2*0.7)+Berserker_Status!$C7*(Berserker_Status!$C7*Class_Compare!$D$7)/2+100","v":286.8},{"$f":"(U4)*(Class_Compare!$E$7*(50+1.5*(0.8*Berserker_Status!C7+0.2*Berserker_Status!F7)))","v":45.859575},{"$f":"Berserker_Status!F7*(Berserker_Status!F7*Class_Compare!$O$7)+100","v":101.682},83.391999999999996,{"$f":"Class_Compare!$B$7*(100+1.2*(0.6*Berserker_Status!B7+0.2*Berserker_Status!D7+0.2*Berserker_Status!E7))","v":68.798400000000001},{"$f":"Class_Compare!$C$7*(100+1.2*(0.6*Berserker_Status!B7+0.2*Berserker_Status!D7+0.2*Berserker_Status!E7))","v":91.731200000000001},{"$f":"(Class_Compare!$G$7*1000)-(Berserker_Status!D7*5)","v":962.5},{"$f":"(Class_Compare!$K$7*1000+Berserker_Status!D7)/50","v":10.15},{"$f":"2+(Class_Compare!$L$7)+(Berserker_Status!E7/100)","v":2.226},{"$f":"(0.2*Berserker_Status!B7+0.8*Berserker_Status!F7)/250","v":2.2880000000000001E-2},{"$f":"(Berserker_Status!C7/25)","v":0.76},{"$f":"Class_Compare!$H$7*(0.2*(Berserker_Status!D7*35))","v":36.75},{"$f":"(Class_Compare!$I$7*1000+Berserker_Status!D7)/1000","v":1.0075000000000001},{"$f":"(Class_Compare!$J$7*1000+Berserker_Status!D7+Berserker_Status!E7)/10","v":101.01},{"$f":"( (Berserker_Status!F7*Class_Compare!$M$7)+5 ) /2","v":2.79},{"$f":"((Berserker_Status!E7+Berserker_Status!F7)*Class_Compare!$N$7)/5","v":0.22000000000000003},200,0,1.0375000000000001,null,{"$f":"(Class_Compare!$J$7*1000+Berserker_Status!D7+Berserker_Status!E7)/10","v":101.01},"agi",100,null,"최대 생명력",null,"악세서리","목"]
["Berserker",4,{"$f":"(B5^2*0.7)+Berserker_Status!$C8*(Berserker_Status!$C8*Class_Compare!$D$7)/2+100","v":311.2},{"$f":"(U5)*(Class_Compare!$E$7*(50+1.5*(0.8*Berserker_Status!C8+0.2*Berserker_Status!F8)))","v":47.224800000000009},{"$f":"Berserker_Status!F8*(Berserker_Status!F8*Class_Compare!$O$7)+100","v":102.048},84.256666666666661,{"$f":"Class_Compare!$B$7*(100+1.2*(0.6*Berserker_Status!B8+0.2*Berserker_Status!D8+0.2*Berserker_Status!E8))","v":69.331199999999995},{"$f":"Class_Compare!$C$7*(100+1.2*(0.6*Berserker_Status!B8+0.2*Berserker_Status!D8+0.2*Berserker_Status!E8))","v":92.441599999999994},{"$f":"(Class_Compare!$G$7*1000)-(Berserker_Status!D8*5)","v":960},{"$f":"(Class_Compare!$K$7*1000+Berserker_Status!D8)/50","v":10.16},{"$f":"2+(Class_Compare!$L$7)+(Berserker_Status!E8/100)","v":2.2280000000000002},{"$f":"(0.2*Berserker_Status!B8+0.8*Berserker_Status!F8)/250","v":2.4640000000000002E-2},{"$f":"(Berserker_Status!C8/25)","v":0.8},{"$f":"Class_Compare!$H$7*(0.2*(Berserker_Status!D8*35))","v":39.199999999999996},{"$f":"(Class_Compare!$I$7*1000+Berserker_Status!D8)/1000","v":1.008},{"$f":"(Class_Compare!$J$7*1000+Berserker_Status!D8+Berserker_Status!E8)/10","v":101.08},{"$f":"( (Berserker_Status!F8*Class_Compare!$M$7)+5 ) /2","v":2.82},{"$f":"((Berserker_Status!E8+Berserker_Status!F8)*Class_Compare!$N$7)/5","v":0.24000000000000005},200,0,1.05,null,{"$f":"(Class_Compare!$J$7*1000+Berserker_Status!D8+Berserker_Status!E8)/10","v":101.08},null,{"$f":"Y4*Y3","v":3500},2000,"생명력 회복률"]
["Berserker",5,{"$f":"(B6^2*0.7)+Berserker_Status!$C9*(Berserker_Status!$C9*Class_Compare!$D$7)/2+100","v":338},{"$f":"(U6)*(Class_Compare!$E$7*(50+1.5*(0.8*Berserker_Status!C9+0.2*Berserker_Status!F9)))","v":48.609375},{"$f":"Berserker_Status!F9*(Berserker_Status!F9*Class_Compare!$O$7)+100","v":102.45},85.125848563968674,{"$f":"Class_Compare!$B$7*(100+1.2*(0.6*Berserker_Status!B9+0.2*Berserker_Status!D9+0.2*Berserker_Status!E9))","v":69.86399999999999},{"$f":"Class_Compare!$C$7*(100+1.2*(0.6*Berserker_Status!B9+0.2*Berserker_Status!D9+0.2*Berserker_Status!E9))","v":93.152000000000001},{"$f":"(Class_Compare!$G$7*1000)-(Berserker_Status!D9*5)","v":957.5},{"$f":"(Class_Compare!$K$7*1000+Berserker_Status!D9)/50","v":10.17},{"$f":"2+(Class_Compare!$L$7)+(Berserker_Status!E9/100)","v":2.23},{"$f":"(0.2*Berserker_Status!B9+0.8*Berserker_Status!F9)/250","v":2.64E-2},{"$f":"(Berserker_Status!C9/25)","v":0.84},{"$f":"Class_Compare!$H$7*(0.2*(Berserker_Status!D9*35))","v":41.65},{"$f":"(Class_Compare!$I$7*1000+Berserker_Status!D9)/1000","v":1.0085},{"$f":"(Class_Compare!$J$7*1000+Berserker_Status!D9+Berserker_Status!E9)/10","v":101.15},{"$f":"( (Berserker_Status!F9*Class_Compare!$M$7)+5 ) /2","v":2.85},{"$f":"((Berserker_Status!E9+Berserker_Status!F9)*Class_Compare!$N$7)/5","v":0.26},200,0,1.0625,null,{"$f":"(Class_Compare!$J$7*1000+Berserker_Status!D9+Berserker_Status!E9)/10","v":101.15},null,{"$f":"Y5","v":3500},{"$f":"Z5","v":2000},"치명타 확률"]
["Berserker",6,{"$f":"(B7^2*0.7)+Berserker_Status!$C10*(Berserker_Status!$C10*Class_Compare!$D$7)/2+100","v":367.2},{"$f":"(U7)*(Class_Compare!$E$7*(50+1.5*(0.8*Berserker_Status!C10+0.2*Berserker_Status!F10)))","v":50.013299999999994},{"$f":"Berserker_Status!F10*(Berserker_Status!F10*Class_Compare!$O$7)+100","v":102.88800000000001},85.999581151832473,{"$f":"Class_Compare!$B$7*(100+1.2*(0.6*Berserker_Status!B10+0.2*Berserker_Status!D10+0.2*Berserker_Status!E10))","v":70.396799999999999},{"$f":"Class_Compare!$C$7*(100+1.2*(0.6*Berserker_Status!B10+0.2*Berserker_Status!D10+0.2*Berserker_Status!E10))","v":93.862400000000008},{"$f":"(Class_Compare!$G$7*1000)-(Berserker_Status!D10*5)","v":955},{"$f":"(Class_Compare!$K$7*1000+Berserker_Status!D10)/50","v":10.18},{"$f":"2+(Class_Compare!$L$7)+(Berserker_Status!E10/100)","v":2.2320000000000002},{"$f":"(0.2*Berserker_Status!B10+0.8*Berserker_Status!F10)/250","v":2.8159999999999998E-2},{"$f":"(Berserker_Status!C10/25)","v":0.88},{"$f":"Class_Compare!$H$7*(0.2*(Berserker_Status!D10*35))","v":44.099999999999994},{"$f":"(Class_Compare!$I$7*1000+Berserker_Status!D10)/1000","v":1.0089999999999999},{"$f":"(Class_Compare!$J$7*1000+Berserker_Status!D10+Berserker_Status!E10)/10","v":101.22},{"$f":"( (Berserker_Status!F10*Class_Compare!$M$7)+5 ) /2","v":2.88},{"$f":"((Berserker_Status!E10+Berserker_Status!F10)*Class_Compare!$N$7)/5","v":0.28000000000000003},200,0,1.075,null,{"$f":"(Class_Compare!$J$7*1000+Berserker_Status!D10+Berserker_Status!E10)/10","v":101.22},null,null,null,"치명타 피해","지능"]
["Berserker",7,{"$f":"(B8^2*0.7)+Berserker_Status!$C11*(Berserker_Status!$C11*Class_Compare!$D$7)/2+100","v":398.8},{"$f":"(U8)*(Class_Compare!$E$7*(50+1.5*(0.8*Berserker_Status!C11+0.2*Berserker_Status!F11)))","v":51.436575000000005},{"$f":"Berserker_Status!F11*(Berserker_Status!F11*Class_Compare!$O$7)+100","v":103.36199999999999},86.877900262467193,{"$f":"Class_Compare!$B$7*(100+1.2*(0.6*Berserker_Status!B11+0.2*Berserker_Status!D11+0.2*Berserker_Status!E11))","v":70.929599999999994},{"$f":"Class_Compare!$C$7*(100+1.2*(0.6*Berserker_Status!B11+0.2*Berserker_Status!D11+0.2*Berserker_Status!E11))","v":94.572800000000001},{"$f":"(Class_Compare!$G$7*1000)-(Berserker_Status!D11*5)","v":952.5},{"$f":"(Class_Compare!$K$7*1000+Berserker_Status!D11)/50","v":10.19},{"$f":"2+(Class_Compare!$L$7)+(Berserker_Status!E11/100)","v":2.234},{"$f":"(0.2*Berserker_Status!B11+0.8*Berserker_Status!F11)/250","v":2.9919999999999999E-2},{"$f":"(Berserker_Status!C11/25)","v":0.92},{"$f":"Class_Compare!$H$7*(0.2*(Berserker_Status!D11*35))","v":46.55},{"$f":"(Class_Compare!$I$7*1000+Berserker_Status!D11)/1000","v":1.0095000000000001},{"$f":"(Class_Compare!$J$7*1000+Berserker_Status!D11+Berserker_Status!E11)/10","v":101.28999999999999},{"$f":"( (Berserker_Status!F11*Class_Compare!$M$7)+5 ) /2","v":2.91},{"$f":"((Berserker_Status!E11+Berserker_Status!F11)*Class_Compare!$N$7)/5","v":0.3},200,0,1.0874999999999999,null,{"$f":"(Class_Compare!$J$7*1000+Berserker_Status!D11+Berserker_Status!E11)/10","v":101.28999999999999},null,{"$f":"0.5*(Y6+Z6)","v":2750},{"$f":"Y8*0.7","v":1924.9999999999998},"상태이상 저항력",null,"악세서리","반지","상태이상 저항력은 자신에게 걸린 상태이상효과의 지속시간을 감소시키는 능력"]
["Berserker",8,{"$f":"(B9^2*0.7)+Berserker_Status!$C12*(Berserker_Status!$C12*Class_Compare!$D$7)/2+100","v":432.8},{"$f":"(U9)*(Class_Compare!$E$7*(50+1.5*(0.8*Berserker_Status!C12+0.2*Berserker_Status!F12)))","v":52.879200000000004},{"$f":"Berserker_Status!F12*(Berserker_Status!F12*Class_Compare!$O$7)+100","v":103.872},87.760842105263166,{"$f":"Class_Compare!$B$7*(100+1.2*(0.6*Berserker_Status!B12+0.2*Berserker_Status!D12+0.2*Berserker_Status!E12))","v":71.462400000000002},{"$f":"Class_Compare!$C$7*(100+1.2*(0.6*Berserker_Status!B12+0.2*Berserker_Status!D12+0.2*Berserker_Status!E12))","v":95.283200000000008},{"$f":"(Class_Compare!$G$7*1000)-(Berserker_Status!D12*5)","v":950},{"$f":"(Class_Compare!$K$7*1000+Berserker_Status!D12)/50","v":10.199999999999999},{"$f":"2+(Class_Compare!$L$7)+(Berserker_Status!E12/100)","v":2.2360000000000002},{"$f":"(0.2*Berserker_Status!B12+0.8*Berserker_Status!F12)/250","v":3.168E-2},{"$f":"(Berserker_Status!C12/25)","v":0.96},{"$f":"Class_Compare!$H$7*(0.2*(Berserker_Status!D12*35))","v":49},{"$f":"(Class_Compare!$I$7*1000+Berserker_Status!D12)/1000","v":1.01},{"$f":"(Class_Compare!$J$7*1000+Berserker_Status!D12+Berserker_Status!E12)/10","v":101.36},{"$f":"( (Berserker_Status!F12*Class_Compare!$M$7)+5 ) /2","v":2.94},{"$f":"((Berserker_Status!E12+Berserker_Status!F12)*Class_Compare!$N$7)/5","v":0.32},200,0,1.1000000000000001,null,{"$f":"(Class_Compare!$J$7*1000+Berserker_Status!D12+Berserker_Status!E12)/10","v":101.36},null,{"$f":"Z8/100","v":19.249999999999996},null,"이동속도"]
["Berserker",9,{"$f":"(B10^2*0.7)+Berserker_Status!$C13*(Berserker_Status!$C13*Class_Compare!$D$7)/2+100","v":469.2},{"$f":"(U10)*(Class_Compare!$E$7*(50+1.5*(0.8*Berserker_Status!C13+0.2*Berserker_Status!F13)))","v":54.341175},{"$f":"Berserker_Status!F13*(Berserker_Status!F13*Class_Compare!$O$7)+100","v":104.41799999999999},88.648443271767817,{"$f":"Class_Compare!$B$7*(100+1.2*(0.6*Berserker_Status!B13+0.2*Berserker_Status!D13+0.2*Berserker_Status!E13))","v":71.995199999999997},{"$f":"Class_Compare!$C$7*(100+1.2*(0.6*Berserker_Status!B13+0.2*Berserker_Status!D13+0.2*Berserker_Status!E13))","v":95.993600000000015},{"$f":"(Class_Compare!$G$7*1000)-(Berserker_Status!D13*5)","v":947.5},{"$f":"(Class_Compare!$K$7*1000+Berserker_Status!D13)/50","v":10.210000000000001},{"$f":"2+(Class_Compare!$L$7)+(Berserker_Status!E13/100)","v":2.238},{"$f":"(0.2*Berserker_Status!B13+0.8*Berserker_Status!F13)/250","v":3.3439999999999998E-2},{"$f":"(Berserker_Status!C13/25)","v":1},{"$f":"Class_Compare!$H$7*(0.2*(Berserker_Status!D13*35))","v":51.449999999999996},{"$f":"(Class_Compare!$I$7*1000+Berserker_Status!D13)/1000","v":1.0105},{"$f":"(Class_Compare!$J$7*1000+Berserker_Status!D13+Berserker_Status!E13)/10","v":101.42999999999999},{"$f":"( (Berserker_Status!F13*Class_Compare!$M$7)+5 ) /2","v":2.9699999999999998},{"$f":"((Berserker_Status!E13+Berserker_Status!F13)*Class_Compare!$N$7)/5","v":0.34},200,0,1.1125,null,{"$f":"(Class_Compare!$J$7*1000+Berserker_Status!D13+Berserker_Status!E13)/10","v":101.42999999999999},null,null,null,"활력 충전"]
["Berserker",10,{"$f":"(B11^2*0.7)+Berserker_Status!$C14*(Berserker_Status!$C14*Class_Compare!$D$7)/2+100","v":508},{"$f":"(U11)*(Class_Compare!$E$7*(50+1.5*(0.8*Berserker_Status!C14+0.2*Berserker_Status!F14)))","v":55.822499999999998},{"$f":"Berserker_Status!F14*(Berserker_Status!F14*Class_Compare!$O$7)+100","v":105},89.540740740740731,{"$f":"Class_Compare!$B$7*(100+1.2*(0.6*Berserker_Status!B14+0.2*Berserker_Status!D14+0.2*Berserker_Status!E14))","v":72.527999999999992},{"$f":"Class_Compare!$C$7*(100+1.2*(0.6*Berserker_Status!B14+0.2*Berserker_Status!D14+0.2*Berserker_Status!E14))","v":96.704000000000008},{"$f":"(Class_Compare!$G$7*1000)-(Berserker_Status!D14*5)","v":945},{"$f":"(Class_Compare!$K$7*1000+Berserker_Status!D14)/50","v":10.220000000000001},{"$f":"2+(Class_Compare!$L$7)+(Berserker_Status!E14/100)","v":2.2400000000000002},{"$f":"(0.2*Berserker_Status!B14+0.8*Berserker_Status!F14)/250","v":3.5199999999999995E-2},{"$f":"(Berserker_Status!C14/25)","v":1.04},{"$f":"Class_Compare!$H$7*(0.2*(Berserker_Status!D14*35))","v":53.9},{"$f":"(Class_Compare!$I$7*1000+Berserker_Status!D14)/1000","v":1.0109999999999999},{"$f":"(Class_Compare!$J$7*1000+Berserker_Status!D14+Berserker_Status!E14)/10","v":101.5},{"$f":"( (Berserker_Status!F14*Class_Compare!$M$7)+5 ) /2","v":3},{"$f":"((Berserker_Status!E14+Berserker_Status!F14)*Class_Compare!$N$7)/5","v":0.36},200,0,1.125,null,{"$f":"(Class_Compare!$J$7*1000+Berserker_Status!D14+Berserker_Status!E14)/10","v":101.5},null,null,null,"충전 증가률"]
["Berserker",11,{"$f":"(B12^2*0.7)+Berserker_Status!$C15*(Berserker_Status!$C15*Class_Compare!$D$7)/2+100","v":549.20000000000005},{"$f":"(U12)*(Class_Compare!$E$7*(50+1.5*(0.8*Berserker_Status!C15+0.2*Berserker_Status!F15)))","v":57.323175000000006},{"$f":"Berserker_Status!F15*(Berserker_Status!F15*Class_Compare!$O$7)+100","v":105.61799999999999},90.43777188328913,{"$f":"Class_Compare!$B$7*(100+1.2*(0.6*Berserker_Status!B15+0.2*Berserker_Status!D15+0.2*Berserker_Status!E15))","v":73.0608},{"$f":"Class_Compare!$C$7*(100+1.2*(0.6*Berserker_Status!B15+0.2*Berserker_Status!D15+0.2*Berserker_Status!E15))","v":97.414400000000001},{"$f":"(Class_Compare!$G$7*1000)-(Berserker_Status!D15*5)","v":942.5},{"$f":"(Class_Compare!$K$7*1000+Berserker_Status!D15)/50","v":10.23},{"$f":"2+(Class_Compare!$L$7)+(Berserker_Status!E15/100)","v":2.242},{"$f":"(0.2*Berserker_Status!B15+0.8*Berserker_Status!F15)/250","v":3.6959999999999993E-2},{"$f":"(Berserker_Status!C15/25)","v":1.08},{"$f":"Class_Compare!$H$7*(0.2*(Berserker_Status!D15*35))","v":56.349999999999994},{"$f":"(Class_Compare!$I$7*1000+Berserker_Status!D15)/1000","v":1.0115000000000001},{"$f":"(Class_Compare!$J$7*1000+Berserker_Status!D15+Berserker_Status!E15)/10","v":101.57000000000001},{"$f":"( (Berserker_Status!F15*Class_Compare!$M$7)+5 ) /2","v":3.03},{"$f":"((Berserker_Status!E15+Berserker_Status!F15)*Class_Compare!$N$7)/5","v":0.38},200,0,1.1375,null,{"$f":"(Class_Compare!$J$7*1000+Berserker_Status!D15+Berserker_Status!E15)/10","v":101.57000000000001},null,null,null,"수호력",null,null,null,"특정 몬스터에게 더 큰 피해를 주는 속성"]
["Berserker",12,{"$f":"(B13^2*0.7)+Berserker_Status!$C16*(Berserker_Status!$C16*Class_Compare!$D$7)/2+100","v":592.79999999999995},{"$f":"(U13)*(Class_Compare!$E$7*(50+1.5*(0.8*Berserker_Status!C16+0.2*Berserker_Status!F16)))","v":58.843199999999996},{"$f":"Berserker_Status!F16*(Berserker_Status!F16*Class_Compare!$O$7)+100","v":106.27199999999999},91.339574468085104,{"$f":"Class_Compare!$B$7*(100+1.2*(0.6*Berserker_Status!B16+0.2*Berserker_Status!D16+0.2*Berserker_Status!E16))","v":73.593599999999995},{"$f":"Class_Compare!$C$7*(100+1.2*(0.6*Berserker_Status!B16+0.2*Berserker_Status!D16+0.2*Berserker_Status!E16))","v":98.124800000000008},{"$f":"(Class_Compare!$G$7*1000)-(Berserker_Status!D16*5)","v":940},{"$f":"(Class_Compare!$K$7*1000+Berserker_Status!D16)/50","v":10.24},{"$f":"2+(Class_Compare!$L$7)+(Berserker_Status!E16/100)","v":2.2440000000000002},{"$f":"(0.2*Berserker_Status!B16+0.8*Berserker_Status!F16)/250","v":3.8719999999999997E-2},{"$f":"(Berserker_Status!C16/25)","v":1.1200000000000001},{"$f":"Class_Compare!$H$7*(0.2*(Berserker_Status!D16*35))","v":58.8},{"$f":"(Class_Compare!$I$7*1000+Berserker_Status!D16)/1000","v":1.012},{"$f":"(Class_Compare!$J$7*1000+Berserker_Status!D16+Berserker_Status!E16)/10","v":101.64},{"$f":"( (Berserker_Status!F16*Class_Compare!$M$7)+5 ) /2","v":3.0599999999999996},{"$f":"((Berserker_Status!E16+Berserker_Status!F16)*Class_Compare!$N$7)/5","v":0.4},200,0,1.1499999999999999,null,{"$f":"(Class_Compare!$J$7*1000+Berserker_Status!D16+Berserker_Status!E16)/10","v":101.64},null,null,null,"수호저항력",null,null,null,"특정 몬스터가 갖는 수호력의 피해를 감소시키는 속성"]
["Berserker",13,{"$f":"(B14^2*0.7)+Berserker_Status!$C17*(Berserker_Status!$C17*Class_Compare!$D$7)/2+100","v":638.79999999999995},{"$f":"(U14)*(Class_Compare!$E$7*(50+1.5*(0.8*Berserker_Status!C17+0.2*Berserker_Status!F17)))","v":60.382575000000003},{"$f":"Berserker_Status!F17*(Berserker_Status!F17*Class_Compare!$O$7)+100","v":106.96199999999999},92.246186666666659,{"$f":"Class_Compare!$B$7*(100+1.2*(0.6*Berserker_Status!B17+0.2*Berserker_Status!D17+0.2*Berserker_Status!E17))","v":74.12639999999999},{"$f":"Class_Compare!$C$7*(100+1.2*(0.6*Berserker_Status!B17+0.2*Berserker_Status!D17+0.2*Berserker_Status!E17))","v":98.8352},{"$f":"(Class_Compare!$G$7*1000)-(Berserker_Status!D17*5)","v":937.5},{"$f":"(Class_Compare!$K$7*1000+Berserker_Status!D17)/50","v":10.25},{"$f":"2+(Class_Compare!$L$7)+(Berserker_Status!E17/100)","v":2.246},{"$f":"(0.2*Berserker_Status!B17+0.8*Berserker_Status!F17)/250","v":4.0479999999999988E-2},{"$f":"(Berserker_Status!C17/25)","v":1.1599999999999999},{"$f":"Class_Compare!$H$7*(0.2*(Berserker_Status!D17*35))","v":61.249999999999993},{"$f":"(Class_Compare!$I$7*1000+Berserker_Status!D17)/1000","v":1.0125},{"$f":"(Class_Compare!$J$7*1000+Berserker_Status!D17+Berserker_Status!E17)/10","v":101.71000000000001},{"$f":"( (Berserker_Status!F17*Class_Compare!$M$7)+5 ) /2","v":3.09},{"$f":"((Berserker_Status!E17+Berserker_Status!F17)*Class_Compare!$N$7)/5","v":0.42000000000000004},200,0,1.1625000000000001,null,{"$f":"(Class_Compare!$J$7*1000+Berserker_Status!D17+Berserker_Status!E17)/10","v":101.71000000000001}]
["Berserker",14,{"$f":"(B15^2*0.7)+Berserker_Status!$C18*(Berserker_Status!$C18*Class_Compare!$D$7)/2+100","v":687.2},{"$f":"(U15)*(Class_Compare!$E$7*(50+1.5*(0.8*Berserker_Status!C18+0.2*Berserker_Status!F18)))","v":61.941300000000005},{"$f":"Berserker_Status!F18*(Berserker_Status!F18*Class_Compare!$O$7)+100","v":107.68799999999999},93.157647058823542,{"$f":"Class_Compare!$B$7*(100+1.2*(0.6*Berserker_Status!B18+0.2*Berserker_Status!D18+0.2*Berserker_Status!E18))","v":74.659199999999998},{"$f":"Class_Compare!$C$7*(100+1.2*(0.6*Berserker_Status!B18+0.2*Berserker_Status!D18+0.2*Berserker_Status!E18))","v":99.545600000000007},{"$f":"(Class_Compare!$G$7*1000)-(Berserker_Status!D18*5)","v":935},{"$f":"(Class_Compare!$K$7*1000+Berserker_Status!D18)/50","v":10.26},{"$f":"2+(Class_Compare!$L$7)+(Berserker_Status!E18/100)","v":2.2480000000000002},{"$f":"(0.2*Berserker_Status!B18+0.8*Berserker_Status!F18)/250","v":4.2239999999999993E-2},{"$f":"(Berserker_Status!C18/25)","v":1.2},{"$f":"Class_Compare!$H$7*(0.2*(Berserker_Status!D18*35))","v":63.699999999999996},{"$f":"(Class_Compare!$I$7*1000+Berserker_Status!D18)/1000","v":1.0129999999999999},{"$f":"(Class_Compare!$J$7*1000+Berserker_Status!D18+Berserker_Status!E18)/10","v":101.78},{"$f":"( (Berserker_Status!F18*Class_Compare!$M$7)+5 ) /2","v":3.1199999999999997},{"$f":"((Berserker_Status!E18+Berserker_Status!F18)*Class_Compare!$N$7)/5","v":0.44000000000000006},200,0,1.175,null,{"$f":"(Class_Compare!$J$7*1000+Berserker_Status!D18+Berserker_Status!E18)/10","v":101.78},null,null,null,"공격력"]
["Berserker",15,{"$f":"(B16^2*0.7)+Berserker_Status!$C19*(Berserker_Status!$C19*Class_Compare!$D$7)/2+100","v":738},{"$f":"(U16)*(Class_Compare!$E$7*(50+1.5*(0.8*Berserker_Status!C19+0.2*Berserker_Status!F19)))","v":63.519375000000004},{"$f":"Berserker_Status!F19*(Berserker_Status!F19*Class_Compare!$O$7)+100","v":108.44999999999999},94.073994638069692,{"$f":"Class_Compare!$B$7*(100+1.2*(0.6*Berserker_Status!B19+0.2*Berserker_Status!D19+0.2*Berserker_Status!E19))","v":75.191999999999993},{"$f":"Class_Compare!$C$7*(100+1.2*(0.6*Berserker_Status!B19+0.2*Berserker_Status!D19+0.2*Berserker_Status!E19))","v":100.256},{"$f":"(Class_Compare!$G$7*1000)-(Berserker_Status!D19*5)","v":932.5},{"$f":"(Class_Compare!$K$7*1000+Berserker_Status!D19)/50","v":10.27},{"$f":"2+(Class_Compare!$L$7)+(Berserker_Status!E19/100)","v":2.25},{"$f":"(0.2*Berserker_Status!B19+0.8*Berserker_Status!F19)/250","v":4.3999999999999997E-2},{"$f":"(Berserker_Status!C19/25)","v":1.24},{"$f":"Class_Compare!$H$7*(0.2*(Berserker_Status!D19*35))","v":66.149999999999991},{"$f":"(Class_Compare!$I$7*1000+Berserker_Status!D19)/1000","v":1.0135000000000001},{"$f":"(Class_Compare!$J$7*1000+Berserker_Status!D19+Berserker_Status!E19)/10","v":101.85},{"$f":"( (Berserker_Status!F19*Class_Compare!$M$7)+5 ) /2","v":3.15},{"$f":"((Berserker_Status!E19+Berserker_Status!F19)*Class_Compare!$N$7)/5","v":0.46000000000000008},200,0,1.1875,null,{"$f":"(Class_Compare!$J$7*1000+Berserker_Status!D19+Berserker_Status!E19)/10","v":101.85},null," ",null,"방어력"]
["Berserker",16,{"$f":"(B17^2*0.7)+Berserker_Status!$C20*(Berserker_Status!$C20*Class_Compare!$D$7)/2+100","v":791.2},{"$f":"(U17)*(Class_Compare!$E$7*(50+1.5*(0.8*Berserker_Status!C20+0.2*Berserker_Status!F20)))","v":65.116799999999998},{"$f":"Berserker_Status!F20*(Berserker_Status!F20*Class_Compare!$O$7)+100","v":109.24799999999999},94.995268817204305,{"$f":"Class_Compare!$B$7*(100+1.2*(0.6*Berserker_Status!B20+0.2*Berserker_Status!D20+0.2*Berserker_Status!E20))","v":75.724800000000002},{"$f":"Class_Compare!$C$7*(100+1.2*(0.6*Berserker_Status!B20+0.2*Berserker_Status!D20+0.2*Berserker_Status!E20))","v":100.96640000000001},{"$f":"(Class_Compare!$G$7*1000)-(Berserker_Status!D20*5)","v":930},{"$f":"(Class_Compare!$K$7*1000+Berserker_Status!D20)/50","v":10.28},{"$f":"2+(Class_Compare!$L$7)+(Berserker_Status!E20/100)","v":2.2520000000000002},{"$f":"(0.2*Berserker_Status!B20+0.8*Berserker_Status!F20)/250","v":4.5759999999999988E-2},{"$f":"(Berserker_Status!C20/25)","v":1.28},{"$f":"Class_Compare!$H$7*(0.2*(Berserker_Status!D20*35))","v":68.599999999999994},{"$f":"(Class_Compare!$I$7*1000+Berserker_Status!D20)/1000","v":1.014},{"$f":"(Class_Compare!$J$7*1000+Berserker_Status!D20+Berserker_Status!E20)/10","v":101.92},{"$f":"( (Berserker_Status!F20*Class_Compare!$M$7)+5 ) /2","v":3.1799999999999997},{"$f":"((Berserker_Status!E20+Berserker_Status!F20)*Class_Compare!$N$7)/5","v":0.48000000000000009},200,0,1.2,null,{"$f":"(Class_Compare!$J$7*1000+Berserker_Status!D20+Berserker_Status!E20)/10","v":101.92},null,null,null,"생명력"]
["Berserker",17,{"$f":"(B18^2*0.7)+Berserker_Status!$C21*(Berserker_Status!$C21*Class_Compare!$D$7)/2+100","v":846.8},{"$f":"(U18)*(Class_Compare!$E$7*(50+1.5*(0.8*Berserker_Status!C21+0.2*Berserker_Status!F21)))","v":66.733575000000002},{"$f":"Berserker_Status!F21*(Berserker_Status!F21*Class_Compare!$O$7)+100","v":110.08199999999999},95.921509433962257,{"$f":"Class_Compare!$B$7*(100+1.2*(0.6*Berserker_Status!B21+0.2*Berserker_Status!D21+0.2*Berserker_Status!E21))","v":76.257599999999996},{"$f":"Class_Compare!$C$7*(100+1.2*(0.6*Berserker_Status!B21+0.2*Berserker_Status!D21+0.2*Berserker_Status!E21))","v":101.67680000000001},{"$f":"(Class_Compare!$G$7*1000)-(Berserker_Status!D21*5)","v":927.5},{"$f":"(Class_Compare!$K$7*1000+Berserker_Status!D21)/50","v":10.29},{"$f":"2+(Class_Compare!$L$7)+(Berserker_Status!E21/100)","v":2.254},{"$f":"(0.2*Berserker_Status!B21+0.8*Berserker_Status!F21)/250","v":4.7519999999999993E-2},{"$f":"(Berserker_Status!C21/25)","v":1.32},{"$f":"Class_Compare!$H$7*(0.2*(Berserker_Status!D21*35))","v":71.05},{"$f":"(Class_Compare!$I$7*1000+Berserker_Status!D21)/1000","v":1.0145},{"$f":"(Class_Compare!$J$7*1000+Berserker_Status!D21+Berserker_Status!E21)/10","v":101.99},{"$f":"( (Berserker_Status!F21*Class_Compare!$M$7)+5 ) /2","v":3.21},{"$f":"((Berserker_Status!E21+Berserker_Status!F21)*Class_Compare!$N$7)/5","v":0.5},200,0,1.2124999999999999,null,{"$f":"(Class_Compare!$J$7*1000+Berserker_Status!D21+Berserker_Status!E21)/10","v":101.99},null,{"$f":"21234+(2500*(1+((20+13)/100)))","v":24559},null,"생명력회복률"]
["Berserker",18,{"$f":"(B19^2*0.7)+Berserker_Status!$C22*(Berserker_Status!$C22*Class_Compare!$D$7)/2+100","v":904.8},{"$f":"(U19)*(Class_Compare!$E$7*(50+1.5*(0.8*Berserker_Status!C22+0.2*Berserker_Status!F22)))","v":68.369700000000009},{"$f":"Berserker_Status!F22*(Berserker_Status!F22*Class_Compare!$O$7)+100","v":110.952},96.852756756756747,{"$f":"Class_Compare!$B$7*(100+1.2*(0.6*Berserker_Status!B22+0.2*Berserker_Status!D22+0.2*Berserker_Status!E22))","v":76.790399999999991},{"$f":"Class_Compare!$C$7*(100+1.2*(0.6*Berserker_Status!B22+0.2*Berserker_Status!D22+0.2*Berserker_Status!E22))","v":102.38720000000001},{"$f":"(Class_Compare!$G$7*1000)-(Berserker_Status!D22*5)","v":925},{"$f":"(Class_Compare!$K$7*1000+Berserker_Status!D22)/50","v":10.3},{"$f":"2+(Class_Compare!$L$7)+(Berserker_Status!E22/100)","v":2.2560000000000002},{"$f":"(0.2*Berserker_Status!B22+0.8*Berserker_Status!F22)/250","v":4.9279999999999997E-2},{"$f":"(Berserker_Status!C22/25)","v":1.36},{"$f":"Class_Compare!$H$7*(0.2*(Berserker_Status!D22*35))","v":73.5},{"$f":"(Class_Compare!$I$7*1000+Berserker_Status!D22)/1000","v":1.0149999999999999},{"$f":"(Class_Compare!$J$7*1000+Berserker_Status!D22+Berserker_Status!E22)/10","v":102.06},{"$f":"( (Berserker_Status!F22*Class_Compare!$M$7)+5 ) /2","v":3.2399999999999998},{"$f":"((Berserker_Status!E22+Berserker_Status!F22)*Class_Compare!$N$7)/5","v":0.52},200,0,1.2250000000000001,null,{"$f":"(Class_Compare!$J$7*1000+Berserker_Status!D22+Berserker_Status!E22)/10","v":102.06},null,null,null,"회피율"]
["Berserker",19,{"$f":"(B20^2*0.7)+Berserker_Status!$C23*(Berserker_Status!$C23*Class_Compare!$D$7)/2+100","v":965.2},{"$f":"(U20)*(Class_Compare!$E$7*(50+1.5*(0.8*Berserker_Status!C23+0.2*Berserker_Status!F23)))","v":70.025175000000004},{"$f":"Berserker_Status!F23*(Berserker_Status!F23*Class_Compare!$O$7)+100","v":111.85799999999999},97.789051490514908,{"$f":"Class_Compare!$B$7*(100+1.2*(0.6*Berserker_Status!B23+0.2*Berserker_Status!D23+0.2*Berserker_Status!E23))","v":77.3232},{"$f":"Class_Compare!$C$7*(100+1.2*(0.6*Berserker_Status!B23+0.2*Berserker_Status!D23+0.2*Berserker_Status!E23))","v":103.09760000000001},{"$f":"(Class_Compare!$G$7*1000)-(Berserker_Status!D23*5)","v":922.5},{"$f":"(Class_Compare!$K$7*1000+Berserker_Status!D23)/50","v":10.31},{"$f":"2+(Class_Compare!$L$7)+(Berserker_Status!E23/100)","v":2.258},{"$f":"(0.2*Berserker_Status!B23+0.8*Berserker_Status!F23)/250","v":5.1039999999999995E-2},{"$f":"(Berserker_Status!C23/25)","v":1.4},{"$f":"Class_Compare!$H$7*(0.2*(Berserker_Status!D23*35))","v":75.949999999999989},{"$f":"(Class_Compare!$I$7*1000+Berserker_Status!D23)/1000","v":1.0155000000000001},{"$f":"(Class_Compare!$J$7*1000+Berserker_Status!D23+Berserker_Status!E23)/10","v":102.13},{"$f":"( (Berserker_Status!F23*Class_Compare!$M$7)+5 ) /2","v":3.2699999999999996},{"$f":"((Berserker_Status!E23+Berserker_Status!F23)*Class_Compare!$N$7)/5","v":0.54},200,0,1.2375,null,{"$f":"(Class_Compare!$J$7*1000+Berserker_Status!D23+Berserker_Status!E23)/10","v":102.13},null,{"$f":"21234+2500","v":23734},null,"공격속도"]
["Berserker",20,{"$f":"(B21^2*0.7)+Berserker_Status!$C24*(Berserker_Status!$C24*Class_Compare!$D$7)/2+100","v":1028},{"$f":"(U21)*(Class_Compare!$E$7*(50+1.5*(0.8*Berserker_Status!C24+0.2*Berserker_Status!F24)))","v":71.699999999999989},{"$f":"Berserker_Status!F24*(Berserker_Status!F24*Class_Compare!$O$7)+100","v":112.79999999999998},98.730434782608683,{"$f":"Class_Compare!$B$7*(100+1.2*(0.6*Berserker_Status!B24+0.2*Berserker_Status!D24+0.2*Berserker_Status!E24))","v":77.855999999999995},{"$f":"Class_Compare!$C$7*(100+1.2*(0.6*Berserker_Status!B24+0.2*Berserker_Status!D24+0.2*Berserker_Status!E24))","v":103.80799999999999},{"$f":"(Class_Compare!$G$7*1000)-(Berserker_Status!D24*5)","v":920},{"$f":"(Class_Compare!$K$7*1000+Berserker_Status!D24)/50","v":10.32},{"$f":"2+(Class_Compare!$L$7)+(Berserker_Status!E24/100)","v":2.2600000000000002},{"$f":"(0.2*Berserker_Status!B24+0.8*Berserker_Status!F24)/250","v":5.28E-2},{"$f":"(Berserker_Status!C24/25)","v":1.44},{"$f":"Class_Compare!$H$7*(0.2*(Berserker_Status!D24*35))","v":78.399999999999991},{"$f":"(Class_Compare!$I$7*1000+Berserker_Status!D24)/1000","v":1.016},{"$f":"(Class_Compare!$J$7*1000+Berserker_Status!D24+Berserker_Status!E24)/10","v":102.2},{"$f":"( (Berserker_Status!F24*Class_Compare!$M$7)+5 ) /2","v":3.3},{"$f":"((Berserker_Status!E24+Berserker_Status!F24)*Class_Compare!$N$7)/5","v":0.56000000000000005},200,0,1.25,null,{"$f":"(Class_Compare!$J$7*1000+Berserker_Status!D24+Berserker_Status!E24)/10","v":102.2},null,null,null,"스킬쿨타임 감소"]
["클래스","BskM1","Sts(C / J), com(D7 / D8)","Sts(C,F / J,M), com(E7 / E8)",null,null,null,null,null,null,null,null,null,null,null,null,null,null,null,null,null,null,null,null,null,null,"방어감소"]
["BskM1",21,{"$f":"(B23^2*0.7)+Berserker_Status!$J5*(Berserker_Status!$J5*Class_Compare!$D$8)/2+100","v":1256.9559999999999},{"$f":"(U23)*(Class_Compare!$E$8*(50+(0.8*Berserker_Status!J5+0.2*Berserker_Status!M5)))","v":82.537199999999999},{"$f":"Berserker_Status!M5*(Berserker_Status!M5*Class_Compare!$O$8)+100","v":126.89599999999997},{"$f":"((G23+H23)/2)*(1000/(I23))","v":135.67284623773173},{"$f":"Class_Compare!$B$8*(100+1.2*(0.6*Berserker_Status!I5+0.2*Berserker_Status!K5+0.2*Berserker_Status!L5))","v":104.76800000000001},{"$f":"Class_Compare!$C$8*(100+1.2*(0.6*Berserker_Status!I5+0.2*Berserker_Status!K5+0.2*Berserker_Status!L5))","v":144.05600000000001},{"$f":"(Class_Compare!$G$7*1000)-(Berserker_Status!K5*5)","v":917},{"$f":"(Class_Compare!$K$8*1000+Berserker_Status!K5)/50","v":14.332000000000001},{"$f":"2+(Class_Compare!$L$8)/2+(Berserker_Status!L5/100)","v":2.262},{"$f":"(0.2*Berserker_Status!I5+0.8*Berserker_Status!M5)/250","v":5.455999999999999E-2},{"$f":"(Berserker_Status!J5/25)","v":1.504},{"$f":"Class_Compare!$H$8*(0.2*(Berserker_Status!K5*35))","v":104.58},{"$f":"(Class_Compare!$I$8*1000+Berserker_Status!K5)/1000","v":1.1165999999999998},{"$f":"(Class_Compare!$J$8*1000+Berserker_Status!K5+Berserker_Status!L5)/10","v":102.28},{"$f":"( (Berserker_Status!M5*Class_Compare!$M$8)+5 )/2","v":3.7299999999999995},{"$f":"((Berserker_Status!L5+Berserker_Status!M5)*Class_Compare!$N$8)/5","v":0.86399999999999988},200,0,{"$f":"$U$1*(1+0.05*(B23/4))","v":1.2625},null,{"$f":"(Class_Compare!$J$8*1000+Berserker_Status!K5+Berserker_Status!L5)/10","v":102.28},null,null,null,"치명타확률"]
["BskM1",22,{"$f":"(B24^2*0.7)+Berserker_Status!$J6*(Berserker_Status!$J6*Class_Compare!$D$8)/2+100","v":1360.7840000000001},{"$f":"(U24)*(Class_Compare!$E$8*(50+(0.8*Berserker_Status!J6+0.2*Berserker_Status!M6)))","v":84.700800000000001},{"$f":"Berserker_Status!M6*(Berserker_Status!M6*Class_Compare!$O$8)+100","v":128.22399999999996},{"$f":"((G24+H24)/2)*(1000/(I24))","v":137.36542669584244},{"$f":"Class_Compare!$B$8*(100+1.2*(0.6*Berserker_Status!I6+0.2*Berserker_Status!K6+0.2*Berserker_Status!L6))","v":105.72800000000001},{"$f":"Class_Compare!$C$8*(100+1.2*(0.6*Berserker_Status!I6+0.2*Berserker_Status!K6+0.2*Berserker_Status!L6))","v":145.376},{"$f":"(Class_Compare!$G$7*1000)-(Berserker_Status!K6*5)","v":914},{"$f":"(Class_Compare!$K$8*1000+Berserker_Status!K6)/50","v":14.344000000000001},{"$f":"2+(Class_Compare!$L$8)/2+(Berserker_Status!L6/100)","v":2.2640000000000002},{"$f":"(0.2*Berserker_Status!I6+0.8*Berserker_Status!M6)/250","v":5.6319999999999981E-2},{"$f":"(Berserker_Status!J6/25)","v":1.5680000000000001},{"$f":"Class_Compare!$H$8*(0.2*(Berserker_Status!K6*35))","v":108.36000000000003},{"$f":"(Class_Compare!$I$8*1000+Berserker_Status!K6)/1000","v":1.1172},{"$f":"(Class_Compare!$J$8*1000+Berserker_Status!K6+Berserker_Status!L6)/10","v":102.36},{"$f":"( (Berserker_Status!M6*Class_Compare!$M$8)+5 )/2","v":3.7599999999999989},{"$f":"((Berserker_Status!L6+Berserker_Status!M6)*Class_Compare!$N$8)/5","v":0.8879999999999999},200,0,{"$f":"$U$1*(1+0.05*(B24/4))","v":1.2749999999999999},null,{"$f":"(Class_Compare!$J$8*1000+Berserker_Status!K6+Berserker_Status!L6)/10","v":102.36},null,null,null,"치명타확률감소"]
["BskM1",23,{"$f":"(B25^2*0.7)+Berserker_Status!$J7*(Berserker_Status!$J7*Class_Compare!$D$8)/2+100","v":1469.0840000000001},{"$f":"(U25)*(Class_Compare!$E$8*(50+(0.8*Berserker_Status!J7+0.2*Berserker_Status!M7)))","v":86.890800000000027},{"$f":"Berserker_Status!M7*(Berserker_Status!M7*Class_Compare!$O$8)+100","v":129.58399999999995},139.06915477497259,{"$f":"Class_Compare!$B$8*(100+1.2*(0.6*Berserker_Status!I7+0.2*Berserker_Status!K7+0.2*Berserker_Status!L7))","v":106.68800000000002},{"$f":"Class_Compare!$C$8*(100+1.2*(0.6*Berserker_Status!I7+0.2*Berserker_Status!K7+0.2*Berserker_Status!L7))","v":146.69600000000003},{"$f":"(Class_Compare!$G$7*1000)-(Berserker_Status!K7*5)","v":911},{"$f":"(Class_Compare!$K$8*1000+Berserker_Status!K7)/50","v":14.356},{"$f":"2+(Class_Compare!$L$8)/2+(Berserker_Status!L7/100)","v":2.266},{"$f":"(0.2*Berserker_Status!I7+0.8*Berserker_Status!M7)/250","v":5.8079999999999986E-2},{"$f":"(Berserker_Status!J7/25)","v":1.6320000000000001},{"$f":"Class_Compare!$H$8*(0.2*(Berserker_Status!K7*35))","v":112.14000000000003},{"$f":"(Class_Compare!$I$8*1000+Berserker_Status!K7)/1000","v":1.1177999999999999},{"$f":"(Class_Compare!$J$8*1000+Berserker_Status!K7+Berserker_Status!L7)/10","v":102.43999999999998},{"$f":"( (Berserker_Status!M7*Class_Compare!$M$8)+5 )/2","v":3.7899999999999991},{"$f":"((Berserker_Status!L7+Berserker_Status!M7)*Class_Compare!$N$8)/5","v":0.91199999999999992},200,0,1.2875000000000001,null,{"$f":"(Class_Compare!$J$8*1000+Berserker_Status!K7+Berserker_Status!L7)/10","v":102.43999999999998},null,null,null,"치명타피해"]
["BskM1",24,{"$f":"(B26^2*0.7)+Berserker_Status!$J8*(Berserker_Status!$J8*Class_Compare!$D$8)/2+100","v":1581.8560000000002},{"$f":"(U26)*(Class_Compare!$E$8*(50+(0.8*Berserker_Status!J8+0.2*Berserker_Status!M8)))","v":89.10720000000002},{"$f":"Berserker_Status!M8*(Berserker_Status!M8*Class_Compare!$O$8)+100","v":130.97599999999994},140.78414096916302,{"$f":"Class_Compare!$B$8*(100+1.2*(0.6*Berserker_Status!I8+0.2*Berserker_Status!K8+0.2*Berserker_Status!L8))","v":107.64800000000001},{"$f":"Class_Compare!$C$8*(100+1.2*(0.6*Berserker_Status!I8+0.2*Berserker_Status!K8+0.2*Berserker_Status!L8))","v":148.01600000000002},{"$f":"(Class_Compare!$G$7*1000)-(Berserker_Status!K8*5)","v":908},{"$f":"(Class_Compare!$K$8*1000+Berserker_Status!K8)/50","v":14.368},{"$f":"2+(Class_Compare!$L$8)/2+(Berserker_Status!L8/100)","v":2.2680000000000002},{"$f":"(0.2*Berserker_Status!I8+0.8*Berserker_Status!M8)/250","v":5.9839999999999977E-2},{"$f":"(Berserker_Status!J8/25)","v":1.6960000000000002},{"$f":"Class_Compare!$H$8*(0.2*(Berserker_Status!K8*35))","v":115.92000000000004},{"$f":"(Class_Compare!$I$8*1000+Berserker_Status!K8)/1000","v":1.1184000000000001},{"$f":"(Class_Compare!$J$8*1000+Berserker_Status!K8+Berserker_Status!L8)/10","v":102.52000000000001},{"$f":"( (Berserker_Status!M8*Class_Compare!$M$8)+5 )/2","v":3.819999999999999},{"$f":"((Berserker_Status!L8+Berserker_Status!M8)*Class_Compare!$N$8)/5","v":0.93599999999999972},200,0,1.3,null,{"$f":"(Class_Compare!$J$8*1000+Berserker_Status!K8+Berserker_Status!L8)/10","v":102.52000000000001},null,null,null,"치명타피해감소"]
["BskM1",25,{"$f":"(B27^2*0.7)+Berserker_Status!$J9*(Berserker_Status!$J9*Class_Compare!$D$8)/2+100","v":1699.1000000000004},{"$f":"(U27)*(Class_Compare!$E$8*(50+(0.8*Berserker_Status!J9+0.2*Berserker_Status!M9)))","v":91.350000000000009},{"$f":"Berserker_Status!M9*(Berserker_Status!M9*Class_Compare!$O$8)+100","v":132.39999999999995},142.51049723756907,{"$f":"Class_Compare!$B$8*(100+1.2*(0.6*Berserker_Status!I9+0.2*Berserker_Status!K9+0.2*Berserker_Status!L9))","v":108.608},{"$f":"Class_Compare!$C$8*(100+1.2*(0.6*Berserker_Status!I9+0.2*Berserker_Status!K9+0.2*Berserker_Status!L9))","v":149.33600000000001},{"$f":"(Class_Compare!$G$7*1000)-(Berserker_Status!K9*5)","v":905},{"$f":"(Class_Compare!$K$8*1000+Berserker_Status!K9)/50","v":14.38},{"$f":"2+(Class_Compare!$L$8)/2+(Berserker_Status!L9/100)","v":2.27},{"$f":"(0.2*Berserker_Status!I9+0.8*Berserker_Status!M9)/250","v":6.1599999999999981E-2},{"$f":"(Berserker_Status!J9/25)","v":1.7600000000000002},{"$f":"Class_Compare!$H$8*(0.2*(Berserker_Status!K9*35))","v":119.70000000000006},{"$f":"(Class_Compare!$I$8*1000+Berserker_Status!K9)/1000","v":1.119},{"$f":"(Class_Compare!$J$8*1000+Berserker_Status!K9+Berserker_Status!L9)/10","v":102.6},{"$f":"( (Berserker_Status!M9*Class_Compare!$M$8)+5 )/2","v":3.8499999999999988},{"$f":"((Berserker_Status!L9+Berserker_Status!M9)*Class_Compare!$N$8)/5","v":0.95999999999999974},200,0,1.3125,null,{"$f":"(Class_Compare!$J$8*1000+Berserker_Status!K9+Berserker_Status!L9)/10","v":102.6},null,null,null,"피해감소"]
["BskM1",26,{"$f":"(B28^2*0.7)+Berserker_Status!$J10*(Berserker_Status!$J10*Class_Compare!$D$8)/2+100","v":1820.8160000000005},{"$f":"(U28)*(Class_Compare!$E$8*(50+(0.8*Berserker_Status!J10+0.2*Berserker_Status!M10)))","v":93.619200000000006},{"$f":"Berserker_Status!M10*(Berserker_Status!M10*Class_Compare!$O$8)+100","v":133.85599999999994},144.24833702882481,{"$f":"Class_Compare!$B$8*(100+1.2*(0.6*Berserker_Status!I10+0.2*Berserker_Status!K10+0.2*Berserker_Status!L10))","v":109.56799999999998},{"$f":"Class_Compare!$C$8*(100+1.2*(0.6*Berserker_Status!I10+0.2*Berserker_Status!K10+0.2*Berserker_Status!L10))","v":150.65599999999998},{"$f":"(Class_Compare!$G$7*1000)-(Berserker_Status!K10*5)","v":902},{"$f":"(Class_Compare!$K$8*1000+Berserker_Status!K10)/50","v":14.392000000000001},{"$f":"2+(Class_Compare!$L$8)/2+(Berserker_Status!L10/100)","v":2.2720000000000002},{"$f":"(0.2*Berserker_Status!I10+0.8*Berserker_Status!M10)/250","v":6.3359999999999972E-2},{"$f":"(Berserker_Status!J10/25)","v":1.8240000000000003},{"$f":"Class_Compare!$H$8*(0.2*(Berserker_Status!K10*35))","v":123.48000000000008},{"$f":"(Class_Compare!$I$8*1000+Berserker_Status!K10)/1000","v":1.1195999999999999},{"$f":"(Class_Compare!$J$8*1000+Berserker_Status!K10+Berserker_Status!L10)/10","v":102.67999999999999},{"$f":"( (Berserker_Status!M10*Class_Compare!$M$8)+5 )/2","v":3.879999999999999},{"$f":"((Berserker_Status!L10+Berserker_Status!M10)*Class_Compare!$N$8)/5","v":0.98399999999999976},200,0,1.325,null,{"$f":"(Class_Compare!$J$8*1000+Berserker_Status!K10+Berserker_Status!L10)/10","v":102.67999999999999},null,null,null,"상태이상 저항력"]
["BskM1",27,{"$f":"(B29^2*0.7)+Berserker_Status!$J11*(Berserker_Status!$J11*Class_Compare!$D$8)/2+100","v":1947.0040000000004},{"$f":"(U29)*(Class_Compare!$E$8*(50+(0.8*Berserker_Status!J11+0.2*Berserker_Status!M11)))","v":95.914800000000014},{"$f":"Berserker_Status!M11*(Berserker_Status!M11*Class_Compare!$O$8)+100","v":135.34399999999994},145.99777530589543,{"$f":"Class_Compare!$B$8*(100+1.2*(0.6*Berserker_Status!I11+0.2*Berserker_Status!K11+0.2*Berserker_Status!L11))","v":110.52800000000001},{"$f":"Class_Compare!$C$8*(100+1.2*(0.6*Berserker_Status!I11+0.2*Berserker_Status!K11+0.2*Berserker_Status!L11))","v":151.976},{"$f":"(Class_Compare!$G$7*1000)-(Berserker_Status!K11*5)","v":899},{"$f":"(Class_Compare!$K$8*1000+Berserker_Status!K11)/50","v":14.404000000000002},{"$f":"2+(Class_Compare!$L$8)/2+(Berserker_Status!L11/100)","v":2.274},{"$f":"(0.2*Berserker_Status!I11+0.8*Berserker_Status!M11)/250","v":6.5119999999999956E-2},{"$f":"(Berserker_Status!J11/25)","v":1.8880000000000003},{"$f":"Class_Compare!$H$8*(0.2*(Berserker_Status!K11*35))","v":127.26000000000006},{"$f":"(Class_Compare!$I$8*1000+Berserker_Status!K11)/1000","v":1.1202000000000001},{"$f":"(Class_Compare!$J$8*1000+Berserker_Status!K11+Berserker_Status!L11)/10","v":102.76000000000002},{"$f":"( (Berserker_Status!M11*Class_Compare!$M$8)+5 )/2","v":3.9099999999999984},{"$f":"((Berserker_Status!L11+Berserker_Status!M11)*Class_Compare!$N$8)/5","v":1.0079999999999998},200,0,1.3374999999999999,null,{"$f":"(Class_Compare!$J$8*1000+Berserker_Status!K11+Berserker_Status!L11)/10","v":102.76000000000002},null,null,null,"이동속도"]
["BskM1",28,{"$f":"(B30^2*0.7)+Berserker_Status!$J12*(Berserker_Status!$J12*Class_Compare!$D$8)/2+100","v":2077.6640000000007},{"$f":"(U30)*(Class_Compare!$E$8*(50+(0.8*Berserker_Status!J12+0.2*Berserker_Status!M12)))","v":98.236800000000031},{"$f":"Berserker_Status!M12*(Berserker_Status!M12*Class_Compare!$O$8)+100","v":136.86399999999992},147.75892857142858,{"$f":"Class_Compare!$B$8*(100+1.2*(0.6*Berserker_Status!I12+0.2*Berserker_Status!K12+0.2*Berserker_Status!L12))","v":111.488},{"$f":"Class_Compare!$C$8*(100+1.2*(0.6*Berserker_Status!I12+0.2*Berserker_Status!K12+0.2*Berserker_Status!L12))","v":153.29599999999999},{"$f":"(Class_Compare!$G$7*1000)-(Berserker_Status!K12*5)","v":896},{"$f":"(Class_Compare!$K$8*1000+Berserker_Status!K12)/50","v":14.415999999999999},{"$f":"2+(Class_Compare!$L$8)/2+(Berserker_Status!L12/100)","v":2.2760000000000002},{"$f":"(0.2*Berserker_Status!I12+0.8*Berserker_Status!M12)/250","v":6.6879999999999967E-2},{"$f":"(Berserker_Status!J12/25)","v":1.9520000000000004},{"$f":"Class_Compare!$H$8*(0.2*(Berserker_Status!K12*35))","v":131.04000000000011},{"$f":"(Class_Compare!$I$8*1000+Berserker_Status!K12)/1000","v":1.1208},{"$f":"(Class_Compare!$J$8*1000+Berserker_Status!K12+Berserker_Status!L12)/10","v":102.83999999999999},{"$f":"( (Berserker_Status!M12*Class_Compare!$M$8)+5 )/2","v":3.9399999999999986},{"$f":"((Berserker_Status!L12+Berserker_Status!M12)*Class_Compare!$N$8)/5","v":1.0319999999999996},200,0,1.35,null,{"$f":"(Class_Compare!$J$8*1000+Berserker_Status!K12+Berserker_Status!L12)/10","v":102.83999999999999},null,null,null,"활력 충전"]
["BskM1",29,{"$f":"(B31^2*0.7)+Berserker_Status!$J13*(Berserker_Status!$J13*Class_Compare!$D$8)/2+100","v":2212.7960000000007},{"$f":"(U31)*(Class_Compare!$E$8*(50+(0.8*Berserker_Status!J13+0.2*Berserker_Status!M13)))","v":100.58520000000001},{"$f":"Berserker_Status!M13*(Berserker_Status!M13*Class_Compare!$O$8)+100","v":138.41599999999994},149.53191489361703,{"$f":"Class_Compare!$B$8*(100+1.2*(0.6*Berserker_Status!I13+0.2*Berserker_Status!K13+0.2*Berserker_Status!L13))","v":112.44800000000001},{"$f":"Class_Compare!$C$8*(100+1.2*(0.6*Berserker_Status!I13+0.2*Berserker_Status!K13+0.2*Berserker_Status!L13))","v":154.61600000000001},{"$f":"(Class_Compare!$G$7*1000)-(Berserker_Status!K13*5)","v":893},{"$f":"(Class_Compare!$K$8*1000+Berserker_Status!K13)/50","v":14.427999999999999},{"$f":"2+(Class_Compare!$L$8)/2+(Berserker_Status!L13/100)","v":2.278},{"$f":"(0.2*Berserker_Status!I13+0.8*Berserker_Status!M13)/250","v":6.8639999999999951E-2},{"$f":"(Berserker_Status!J13/25)","v":2.0160000000000005},{"$f":"Class_Compare!$H$8*(0.2*(Berserker_Status!K13*35))","v":134.82000000000008},{"$f":"(Class_Compare!$I$8*1000+Berserker_Status!K13)/1000","v":1.1214000000000002},{"$f":"(Class_Compare!$J$8*1000+Berserker_Status!K13+Berserker_Status!L13)/10","v":102.92},{"$f":"( (Berserker_Status!M13*Class_Compare!$M$8)+5 )/2","v":3.9699999999999984},{"$f":"((Berserker_Status!L13+Berserker_Status!M13)*Class_Compare!$N$8)/5","v":1.0559999999999996},200,0,1.3625,null,{"$f":"(Class_Compare!$J$8*1000+Berserker_Status!K13+Berserker_Status!L13)/10","v":102.92},null,null,null,"충전 증가률"]
["BskM1",30,{"$f":"(B32^2*0.7)+Berserker_Status!$J14*(Berserker_Status!$J14*Class_Compare!$D$8)/2+100","v":2352.4000000000005},{"$f":"(U32)*(Class_Compare!$E$8*(50+(0.8*Berserker_Status!J14+0.2*Berserker_Status!M14)))","v":102.96000000000004},{"$f":"Berserker_Status!M14*(Berserker_Status!M14*Class_Compare!$O$8)+100","v":139.99999999999991},151.31685393258428,{"$f":"Class_Compare!$B$8*(100+1.2*(0.6*Berserker_Status!I14+0.2*Berserker_Status!K14+0.2*Berserker_Status!L14))","v":113.408},{"$f":"Class_Compare!$C$8*(100+1.2*(0.6*Berserker_Status!I14+0.2*Berserker_Status!K14+0.2*Berserker_Status!L14))","v":155.93600000000001},{"$f":"(Class_Compare!$G$7*1000)-(Berserker_Status!K14*5)","v":889.99999999999989},{"$f":"(Class_Compare!$K$8*1000+Berserker_Status!K14)/50","v":14.44},{"$f":"2+(Class_Compare!$L$8)/2+(Berserker_Status!L14/100)","v":2.2800000000000002},{"$f":"(0.2*Berserker_Status!I14+0.8*Berserker_Status!M14)/250","v":7.0399999999999963E-2},{"$f":"(Berserker_Status!J14/25)","v":2.0800000000000005},{"$f":"Class_Compare!$H$8*(0.2*(Berserker_Status!K14*35))","v":138.60000000000011},{"$f":"(Class_Compare!$I$8*1000+Berserker_Status!K14)/1000","v":1.1220000000000001},{"$f":"(Class_Compare!$J$8*1000+Berserker_Status!K14+Berserker_Status!L14)/10","v":103},{"$f":"( (Berserker_Status!M14*Class_Compare!$M$8)+5 )/2","v":3.9999999999999982},{"$f":"((Berserker_Status!L14+Berserker_Status!M14)*Class_Compare!$N$8)/5","v":1.0799999999999996},200,0,1.375,null,{"$f":"(Class_Compare!$J$8*1000+Berserker_Status!K14+Berserker_Status!L14)/10","v":103},null,null,null,"수호력"]
["BskM1",31,{"$f":"(B33^2*0.7)+Berserker_Status!$J15*(Berserker_Status!$J15*Class_Compare!$D$8)/2+100","v":2496.476000000001},{"$f":"(U33)*(Class_Compare!$E$8*(50+(0.8*Berserker_Status!J15+0.2*Berserker_Status!M15)))","v":105.36120000000003},{"$f":"Berserker_Status!M15*(Berserker_Status!M15*Class_Compare!$O$8)+100","v":141.6159999999999},153.11386696730557,{"$f":"Class_Compare!$B$8*(100+1.2*(0.6*Berserker_Status!I15+0.2*Berserker_Status!K15+0.2*Berserker_Status!L15))","v":114.36799999999999},{"$f":"Class_Compare!$C$8*(100+1.2*(0.6*Berserker_Status!I15+0.2*Berserker_Status!K15+0.2*Berserker_Status!L15))","v":157.256},{"$f":"(Class_Compare!$G$7*1000)-(Berserker_Status!K15*5)","v":886.99999999999989},{"$f":"(Class_Compare!$K$8*1000+Berserker_Status!K15)/50","v":14.452},{"$f":"2+(Class_Compare!$L$8)/2+(Berserker_Status!L15/100)","v":2.282},{"$f":"(0.2*Berserker_Status!I15+0.8*Berserker_Status!M15)/250","v":7.215999999999996E-2},{"$f":"(Berserker_Status!J15/25)","v":2.1440000000000006},{"$f":"Class_Compare!$H$8*(0.2*(Berserker_Status!K15*35))","v":142.38000000000011},{"$f":"(Class_Compare!$I$8*1000+Berserker_Status!K15)/1000","v":1.1225999999999998},{"$f":"(Class_Compare!$J$8*1000+Berserker_Status!K15+Berserker_Status!L15)/10","v":103.08},{"$f":"( (Berserker_Status!M15*Class_Compare!$M$8)+5 )/2","v":4.0299999999999985},{"$f":"((Berserker_Status!L15+Berserker_Status!M15)*Class_Compare!$N$8)/5","v":1.1039999999999994},200,0,1.3875,null,{"$f":"(Class_Compare!$J$8*1000+Berserker_Status!K15+Berserker_Status!L15)/10","v":103.08},null,null,null,"수호저항력"]
["BskM1",32,{"$f":"(B34^2*0.7)+Berserker_Status!$J16*(Berserker_Status!$J16*Class_Compare!$D$8)/2+100","v":2645.0240000000013},{"$f":"(U34)*(Class_Compare!$E$8*(50+(0.8*Berserker_Status!J16+0.2*Berserker_Status!M16)))","v":107.78880000000002},{"$f":"Berserker_Status!M16*(Berserker_Status!M16*Class_Compare!$O$8)+100","v":143.2639999999999},154.92307692307696,{"$f":"Class_Compare!$B$8*(100+1.2*(0.6*Berserker_Status!I16+0.2*Berserker_Status!K16+0.2*Berserker_Status!L16))","v":115.328},{"$f":"Class_Compare!$C$8*(100+1.2*(0.6*Berserker_Status!I16+0.2*Berserker_Status!K16+0.2*Berserker_Status!L16))","v":158.57600000000002},{"$f":"(Class_Compare!$G$7*1000)-(Berserker_Status!K16*5)","v":883.99999999999989},{"$f":"(Class_Compare!$K$8*1000+Berserker_Status!K16)/50","v":14.464},{"$f":"2+(Class_Compare!$L$8)/2+(Berserker_Status!L16/100)","v":2.2840000000000003},{"$f":"(0.2*Berserker_Status!I16+0.8*Berserker_Status!M16)/250","v":7.3919999999999958E-2},{"$f":"(Berserker_Status!J16/25)","v":2.2080000000000006},{"$f":"Class_Compare!$H$8*(0.2*(Berserker_Status!K16*35))","v":146.16000000000011},{"$f":"(Class_Compare!$I$8*1000+Berserker_Status!K16)/1000","v":1.1232},{"$f":"(Class_Compare!$J$8*1000+Berserker_Status!K16+Berserker_Status!L16)/10","v":103.16000000000001},{"$f":"( (Berserker_Status!M16*Class_Compare!$M$8)+5 )/2","v":4.0599999999999978},{"$f":"((Berserker_Status!L16+Berserker_Status!M16)*Class_Compare!$N$8)/5","v":1.1279999999999994},200,0,1.4,null,{"$f":"(Class_Compare!$J$8*1000+Berserker_Status!K16+Berserker_Status!L16)/10","v":103.16000000000001}]
["BskM1",33,{"$f":"(B35^2*0.7)+Berserker_Status!$J17*(Berserker_Status!$J17*Class_Compare!$D$8)/2+100","v":2798.0440000000012},{"$f":"(U35)*(Class_Compare!$E$8*(50+(0.8*Berserker_Status!J17+0.2*Berserker_Status!M17)))","v":110.24280000000003},{"$f":"Berserker_Status!M17*(Berserker_Status!M17*Class_Compare!$O$8)+100","v":144.9439999999999},156.74460839954597,{"$f":"Class_Compare!$B$8*(100+1.2*(0.6*Berserker_Status!I17+0.2*Berserker_Status!K17+0.2*Berserker_Status!L17))","v":116.288},{"$f":"Class_Compare!$C$8*(100+1.2*(0.6*Berserker_Status!I17+0.2*Berserker_Status!K17+0.2*Berserker_Status!L17))","v":159.89599999999999},{"$f":"(Class_Compare!$G$7*1000)-(Berserker_Status!K17*5)","v":880.99999999999989},{"$f":"(Class_Compare!$K$8*1000+Berserker_Status!K17)/50","v":14.476000000000001},{"$f":"2+(Class_Compare!$L$8)/2+(Berserker_Status!L17/100)","v":2.286},{"$f":"(0.2*Berserker_Status!I17+0.8*Berserker_Status!M17)/250","v":7.5679999999999956E-2},{"$f":"(Berserker_Status!J17/25)","v":2.2720000000000007},{"$f":"Class_Compare!$H$8*(0.2*(Berserker_Status!K17*35))","v":149.94000000000014},{"$f":"(Class_Compare!$I$8*1000+Berserker_Status!K17)/1000","v":1.1237999999999999},{"$f":"(Class_Compare!$J$8*1000+Berserker_Status!K17+Berserker_Status!L17)/10","v":103.24000000000001},{"$f":"( (Berserker_Status!M17*Class_Compare!$M$8)+5 )/2","v":4.0899999999999981},{"$f":"((Berserker_Status!L17+Berserker_Status!M17)*Class_Compare!$N$8)/5","v":1.1519999999999992},200,0,1.4125000000000001,null,{"$f":"(Class_Compare!$J$8*1000+Berserker_Status!K17+Berserker_Status!L17)/10","v":103.24000000000001}]
["BskM1",34,{"$f":"(B36^2*0.7)+Berserker_Status!$J18*(Berserker_Status!$J18*Class_Compare!$D$8)/2+100","v":2955.5360000000014},{"$f":"(U36)*(Class_Compare!$E$8*(50+(0.8*Berserker_Status!J18+0.2*Berserker_Status!M18)))","v":112.72320000000005},{"$f":"Berserker_Status!M18*(Berserker_Status!M18*Class_Compare!$O$8)+100","v":146.65599999999989},158.57858769931664,{"$f":"Class_Compare!$B$8*(100+1.2*(0.6*Berserker_Status!I18+0.2*Berserker_Status!K18+0.2*Berserker_Status!L18))","v":117.248},{"$f":"Class_Compare!$C$8*(100+1.2*(0.6*Berserker_Status!I18+0.2*Berserker_Status!K18+0.2*Berserker_Status!L18))","v":161.21600000000001},{"$f":"(Class_Compare!$G$7*1000)-(Berserker_Status!K18*5)","v":877.99999999999989},{"$f":"(Class_Compare!$K$8*1000+Berserker_Status!K18)/50","v":14.488},{"$f":"2+(Class_Compare!$L$8)/2+(Berserker_Status!L18/100)","v":2.2880000000000003},{"$f":"(0.2*Berserker_Status!I18+0.8*Berserker_Status!M18)/250","v":7.7439999999999939E-2},{"$f":"(Berserker_Status!J18/25)","v":2.3360000000000007},{"$f":"Class_Compare!$H$8*(0.2*(Berserker_Status!K18*35))","v":153.72000000000014},{"$f":"(Class_Compare!$I$8*1000+Berserker_Status!K18)/1000","v":1.1244000000000001},{"$f":"(Class_Compare!$J$8*1000+Berserker_Status!K18+Berserker_Status!L18)/10","v":103.32000000000001},{"$f":"( (Berserker_Status!M18*Class_Compare!$M$8)+5 )/2","v":4.1199999999999974},{"$f":"((Berserker_Status!L18+Berserker_Status!M18)*Class_Compare!$N$8)/5","v":1.1759999999999993},200,0,1.425,null,{"$f":"(Class_Compare!$J$8*1000+Berserker_Status!K18+Berserker_Status!L18)/10","v":103.32000000000001}]
["BskM1",35,{"$f":"(B37^2*0.7)+Berserker_Status!$J19*(Berserker_Status!$J19*Class_Compare!$D$8)/2+100","v":3117.5000000000018},{"$f":"(U37)*(Class_Compare!$E$8*(50+(0.8*Berserker_Status!J19+0.2*Berserker_Status!M19)))","v":115.23000000000003},{"$f":"Berserker_Status!M19*(Berserker_Status!M19*Class_Compare!$O$8)+100","v":148.39999999999986},160.4251428571429,{"$f":"Class_Compare!$B$8*(100+1.2*(0.6*Berserker_Status!I19+0.2*Berserker_Status!K19+0.2*Berserker_Status!L19))","v":118.208},{"$f":"Class_Compare!$C$8*(100+1.2*(0.6*Berserker_Status!I19+0.2*Berserker_Status!K19+0.2*Berserker_Status!L19))","v":162.536},{"$f":"(Class_Compare!$G$7*1000)-(Berserker_Status!K19*5)","v":874.99999999999989},{"$f":"(Class_Compare!$K$8*1000+Berserker_Status!K19)/50","v":14.5},{"$f":"2+(Class_Compare!$L$8)/2+(Berserker_Status!L19/100)","v":2.29},{"$f":"(0.2*Berserker_Status!I19+0.8*Berserker_Status!M19)/250","v":7.9199999999999937E-2},{"$f":"(Berserker_Status!J19/25)","v":2.4000000000000008},{"$f":"Class_Compare!$H$8*(0.2*(Berserker_Status!K19*35))","v":157.50000000000017},{"$f":"(Class_Compare!$I$8*1000+Berserker_Status!K19)/1000","v":1.125},{"$f":"(Class_Compare!$J$8*1000+Berserker_Status!K19+Berserker_Status!L19)/10","v":103.4},{"$f":"( (Berserker_Status!M19*Class_Compare!$M$8)+5 )/2","v":4.1499999999999977},{"$f":"((Berserker_Status!L19+Berserker_Status!M19)*Class_Compare!$N$8)/5","v":1.1999999999999991},200,0,1.4375,null,{"$f":"(Class_Compare!$J$8*1000+Berserker_Status!K19+Berserker_Status!L19)/10","v":103.4}]
["BskM1",36,{"$f":"(B38^2*0.7)+Berserker_Status!$J20*(Berserker_Status!$J20*Class_Compare!$D$8)/2+100","v":3283.9360000000015},{"$f":"(U38)*(Class_Compare!$E$8*(50+(0.8*Berserker_Status!J20+0.2*Berserker_Status!M20)))","v":117.76320000000001},{"$f":"Berserker_Status!M20*(Berserker_Status!M20*Class_Compare!$O$8)+100","v":150.17599999999987},162.28440366972481,{"$f":"Class_Compare!$B$8*(100+1.2*(0.6*Berserker_Status!I20+0.2*Berserker_Status!K20+0.2*Berserker_Status!L20))","v":119.16799999999999},{"$f":"Class_Compare!$C$8*(100+1.2*(0.6*Berserker_Status!I20+0.2*Berserker_Status!K20+0.2*Berserker_Status!L20))","v":163.85599999999999},{"$f":"(Class_Compare!$G$7*1000)-(Berserker_Status!K20*5)","v":871.99999999999989},{"$f":"(Class_Compare!$K$8*1000+Berserker_Status!K20)/50","v":14.512},{"$f":"2+(Class_Compare!$L$8)/2+(Berserker_Status!L20/100)","v":2.2920000000000003},{"$f":"(0.2*Berserker_Status!I20+0.8*Berserker_Status!M20)/250","v":8.0959999999999935E-2},{"$f":"(Berserker_Status!J20/25)","v":2.4640000000000009},{"$f":"Class_Compare!$H$8*(0.2*(Berserker_Status!K20*35))","v":161.28000000000014},{"$f":"(Class_Compare!$I$8*1000+Berserker_Status!K20)/1000","v":1.1255999999999999},{"$f":"(Class_Compare!$J$8*1000+Berserker_Status!K20+Berserker_Status!L20)/10","v":103.47999999999999},{"$f":"( (Berserker_Status!M20*Class_Compare!$M$8)+5 )/2","v":4.1799999999999979},{"$f":"((Berserker_Status!L20+Berserker_Status!M20)*Class_Compare!$N$8)/5","v":1.2239999999999989},200,0,1.45,null,{"$f":"(Class_Compare!$J$8*1000+Berserker_Status!K20+Berserker_Status!L20)/10","v":103.47999999999999}]
["BskM1",37,{"$f":"(B39^2*0.7)+Berserker_Status!$J21*(Berserker_Status!$J21*Class_Compare!$D$8)/2+100","v":3454.8440000000019},{"$f":"(U39)*(Class_Compare!$E$8*(50+(0.8*Berserker_Status!J21+0.2*Berserker_Status!M21)))","v":120.32280000000002},{"$f":"Berserker_Status!M21*(Berserker_Status!M21*Class_Compare!$O$8)+100","v":151.98399999999987},164.15650172612203,{"$f":"Class_Compare!$B$8*(100+1.2*(0.6*Berserker_Status!I21+0.2*Berserker_Status!K21+0.2*Berserker_Status!L21))","v":120.128},{"$f":"Class_Compare!$C$8*(100+1.2*(0.6*Berserker_Status!I21+0.2*Berserker_Status!K21+0.2*Berserker_Status!L21))","v":165.17600000000002},{"$f":"(Class_Compare!$G$7*1000)-(Berserker_Status!K21*5)","v":868.99999999999989},{"$f":"(Class_Compare!$K$8*1000+Berserker_Status!K21)/50","v":14.524000000000001},{"$f":"2+(Class_Compare!$L$8)/2+(Berserker_Status!L21/100)","v":2.294},{"$f":"(0.2*Berserker_Status!I21+0.8*Berserker_Status!M21)/250","v":8.2719999999999946E-2},{"$f":"(Berserker_Status!J21/25)","v":2.5280000000000009},{"$f":"Class_Compare!$H$8*(0.2*(Berserker_Status!K21*35))","v":165.06000000000017},{"$f":"(Class_Compare!$I$8*1000+Berserker_Status!K21)/1000","v":1.1262000000000001},{"$f":"(Class_Compare!$J$8*1000+Berserker_Status!K21+Berserker_Status!L21)/10","v":103.56000000000002},{"$f":"( (Berserker_Status!M21*Class_Compare!$M$8)+5 )/2","v":4.2099999999999973},{"$f":"((Berserker_Status!L21+Berserker_Status!M21)*Class_Compare!$N$8)/5","v":1.2479999999999989},200,0,1.4624999999999999,null,{"$f":"(Class_Compare!$J$8*1000+Berserker_Status!K21+Berserker_Status!L21)/10","v":103.56000000000002}]
["BskM1",38,{"$f":"(B40^2*0.7)+Berserker_Status!$J22*(Berserker_Status!$J22*Class_Compare!$D$8)/2+100","v":3630.224000000002},{"$f":"(U40)*(Class_Compare!$E$8*(50+(0.8*Berserker_Status!J22+0.2*Berserker_Status!M22)))","v":122.90880000000006},{"$f":"Berserker_Status!M22*(Berserker_Status!M22*Class_Compare!$O$8)+100","v":153.82399999999984},166.04157043879911,{"$f":"Class_Compare!$B$8*(100+1.2*(0.6*Berserker_Status!I22+0.2*Berserker_Status!K22+0.2*Berserker_Status!L22))","v":121.08799999999999},{"$f":"Class_Compare!$C$8*(100+1.2*(0.6*Berserker_Status!I22+0.2*Berserker_Status!K22+0.2*Berserker_Status!L22))","v":166.49600000000001},{"$f":"(Class_Compare!$G$7*1000)-(Berserker_Status!K22*5)","v":865.99999999999989},{"$f":"(Class_Compare!$K$8*1000+Berserker_Status!K22)/50","v":14.536000000000001},{"$f":"2+(Class_Compare!$L$8)/2+(Berserker_Status!L22/100)","v":2.2960000000000003},{"$f":"(0.2*Berserker_Status!I22+0.8*Berserker_Status!M22)/250","v":8.447999999999993E-2},{"$f":"(Berserker_Status!J22/25)","v":2.592000000000001},{"$f":"Class_Compare!$H$8*(0.2*(Berserker_Status!K22*35))","v":168.84000000000017},{"$f":"(Class_Compare!$I$8*1000+Berserker_Status!K22)/1000","v":1.1268},{"$f":"(Class_Compare!$J$8*1000+Berserker_Status!K22+Berserker_Status!L22)/10","v":103.63999999999999},{"$f":"( (Berserker_Status!M22*Class_Compare!$M$8)+5 )/2","v":4.2399999999999975},{"$f":"((Berserker_Status!L22+Berserker_Status!M22)*Class_Compare!$N$8)/5","v":1.2719999999999989},200,0,1.4750000000000001,null,{"$f":"(Class_Compare!$J$8*1000+Berserker_Status!K22+Berserker_Status!L22)/10","v":103.63999999999999}]
["BskM1",39,{"$f":"(B41^2*0.7)+Berserker_Status!$J23*(Berserker_Status!$J23*Class_Compare!$D$8)/2+100","v":3810.0760000000018},{"$f":"(U41)*(Class_Compare!$E$8*(50+(0.8*Berserker_Status!J23+0.2*Berserker_Status!M23)))","v":125.52120000000002},{"$f":"Berserker_Status!M23*(Berserker_Status!M23*Class_Compare!$O$8)+100","v":155.69599999999986},167.93974507531871,{"$f":"Class_Compare!$B$8*(100+1.2*(0.6*Berserker_Status!I23+0.2*Berserker_Status!K23+0.2*Berserker_Status!L23))","v":122.048},{"$f":"Class_Compare!$C$8*(100+1.2*(0.6*Berserker_Status!I23+0.2*Berserker_Status!K23+0.2*Berserker_Status!L23))","v":167.816},{"$f":"(Class_Compare!$G$7*1000)-(Berserker_Status!K23*5)","v":862.99999999999989},{"$f":"(Class_Compare!$K$8*1000+Berserker_Status!K23)/50","v":14.548},{"$f":"2+(Class_Compare!$L$8)/2+(Berserker_Status!L23/100)","v":2.298},{"$f":"(0.2*Berserker_Status!I23+0.8*Berserker_Status!M23)/250","v":8.6239999999999928E-2},{"$f":"(Berserker_Status!J23/25)","v":2.6560000000000006},{"$f":"Class_Compare!$H$8*(0.2*(Berserker_Status!K23*35))","v":172.62000000000018},{"$f":"(Class_Compare!$I$8*1000+Berserker_Status!K23)/1000","v":1.1274000000000002},{"$f":"(Class_Compare!$J$8*1000+Berserker_Status!K23+Berserker_Status!L23)/10","v":103.72},{"$f":"( (Berserker_Status!M23*Class_Compare!$M$8)+5 )/2","v":4.2699999999999978},{"$f":"((Berserker_Status!L23+Berserker_Status!M23)*Class_Compare!$N$8)/5","v":1.2959999999999989},200,0,1.4875,null,{"$f":"(Class_Compare!$J$8*1000+Berserker_Status!K23+Berserker_Status!L23)/10","v":103.72}]
["BskM1",40,{"$f":"(B42^2*0.7)+Berserker_Status!$J24*(Berserker_Status!$J24*Class_Compare!$D$8)/2+100","v":3994.400000000001},{"$f":"(U42)*(Class_Compare!$E$8*(50+(0.8*Berserker_Status!J24+0.2*Berserker_Status!M24)))","v":128.16000000000003},{"$f":"Berserker_Status!M24*(Berserker_Status!M24*Class_Compare!$O$8)+100","v":157.59999999999985},169.85116279069769,{"$f":"Class_Compare!$B$8*(100+1.2*(0.6*Berserker_Status!I24+0.2*Berserker_Status!K24+0.2*Berserker_Status!L24))","v":123.008},{"$f":"Class_Compare!$C$8*(100+1.2*(0.6*Berserker_Status!I24+0.2*Berserker_Status!K24+0.2*Berserker_Status!L24))","v":169.136},{"$f":"(Class_Compare!$G$7*1000)-(Berserker_Status!K24*5)","v":859.99999999999989},{"$f":"(Class_Compare!$K$8*1000+Berserker_Status!K24)/50","v":14.56},{"$f":"2+(Class_Compare!$L$8)/2+(Berserker_Status!L24/100)","v":2.3000000000000003},{"$f":"(0.2*Berserker_Status!I24+0.8*Berserker_Status!M24)/250","v":8.7999999999999926E-2},{"$f":"(Berserker_Status!J24/25)","v":2.7200000000000006},{"$f":"Class_Compare!$H$8*(0.2*(Berserker_Status!K24*35))","v":176.4000000000002},{"$f":"(Class_Compare!$I$8*1000+Berserker_Status!K24)/1000","v":1.1279999999999999},{"$f":"(Class_Compare!$J$8*1000+Berserker_Status!K24+Berserker_Status!L24)/10","v":103.8},{"$f":"( (Berserker_Status!M24*Class_Compare!$M$8)+5 )/2","v":4.2999999999999972},{"$f":"((Berserker_Status!L24+Berserker_Status!M24)*Class_Compare!$N$8)/5","v":1.3199999999999987},200,0,1.5,null,{"$f":"(Class_Compare!$J$8*1000+Berserker_Status!K24+Berserker_Status!L24)/10","v":103.8}]
["BskM1",41,{"$f":"(B43^2*0.7)+Berserker_Status!$J25*(Berserker_Status!$J25*Class_Compare!$D$8)/2+100","v":4183.1959999999999},{"$f":"(U43)*(Class_Compare!$E$8*(50+(0.8*Berserker_Status!J25+0.2*Berserker_Status!M25)))","v":130.82520000000002},{"$f":"Berserker_Status!M25*(Berserker_Status!M25*Class_Compare!$O$8)+100","v":159.53599999999983},171.77596266044344,{"$f":"Class_Compare!$B$8*(100+1.2*(0.6*Berserker_Status!I25+0.2*Berserker_Status!K25+0.2*Berserker_Status!L25))","v":123.96799999999999},{"$f":"Class_Compare!$C$8*(100+1.2*(0.6*Berserker_Status!I25+0.2*Berserker_Status!K25+0.2*Berserker_Status!L25))","v":170.45599999999999},{"$f":"(Class_Compare!$G$7*1000)-(Berserker_Status!K25*5)","v":856.99999999999989},{"$f":"(Class_Compare!$K$8*1000+Berserker_Status!K25)/50","v":14.572000000000001},{"$f":"2+(Class_Compare!$L$8)/2+(Berserker_Status!L25/100)","v":2.302},{"$f":"(0.2*Berserker_Status!I25+0.8*Berserker_Status!M25)/250","v":8.9759999999999923E-2},{"$f":"(Berserker_Status!J25/25)","v":2.7840000000000003},{"$f":"Class_Compare!$H$8*(0.2*(Berserker_Status!K25*35))","v":180.18000000000021},{"$f":"(Class_Compare!$I$8*1000+Berserker_Status!K25)/1000","v":1.1286},{"$f":"(Class_Compare!$J$8*1000+Berserker_Status!K25+Berserker_Status!L25)/10","v":103.88000000000002},{"$f":"( (Berserker_Status!M25*Class_Compare!$M$8)+5 )/2","v":4.3299999999999974},{"$f":"((Berserker_Status!L25+Berserker_Status!M25)*Class_Compare!$N$8)/5","v":1.3439999999999985},200,0,1.5125000000000002,null,{"$f":"(Class_Compare!$J$8*1000+Berserker_Status!K25+Berserker_Status!L25)/10","v":103.88000000000002}]
["BskM1",42,{"$f":"(B44^2*0.7)+Berserker_Status!$J26*(Berserker_Status!$J26*Class_Compare!$D$8)/2+100","v":4376.4639999999999},{"$f":"(U44)*(Class_Compare!$E$8*(50+(0.8*Berserker_Status!J26+0.2*Berserker_Status!M26)))","v":133.51679999999999},{"$f":"Berserker_Status!M26*(Berserker_Status!M26*Class_Compare!$O$8)+100","v":161.50399999999982},173.71428571428575,{"$f":"Class_Compare!$B$8*(100+1.2*(0.6*Berserker_Status!I26+0.2*Berserker_Status!K26+0.2*Berserker_Status!L26))","v":124.92799999999998},{"$f":"Class_Compare!$C$8*(100+1.2*(0.6*Berserker_Status!I26+0.2*Berserker_Status!K26+0.2*Berserker_Status!L26))","v":171.77599999999998},{"$f":"(Class_Compare!$G$7*1000)-(Berserker_Status!K26*5)","v":853.99999999999977},{"$f":"(Class_Compare!$K$8*1000+Berserker_Status!K26)/50","v":14.584000000000001},{"$f":"2+(Class_Compare!$L$8)/2+(Berserker_Status!L26/100)","v":2.3040000000000003},{"$f":"(0.2*Berserker_Status!I26+0.8*Berserker_Status!M26)/250","v":9.1519999999999921E-2},{"$f":"(Berserker_Status!J26/25)","v":2.8480000000000003},{"$f":"Class_Compare!$H$8*(0.2*(Berserker_Status!K26*35))","v":183.96000000000021},{"$f":"(Class_Compare!$I$8*1000+Berserker_Status!K26)/1000","v":1.1292},{"$f":"(Class_Compare!$J$8*1000+Berserker_Status!K26+Berserker_Status!L26)/10","v":103.96000000000001},{"$f":"( (Berserker_Status!M26*Class_Compare!$M$8)+5 )/2","v":4.3599999999999968},{"$f":"((Berserker_Status!L26+Berserker_Status!M26)*Class_Compare!$N$8)/5","v":1.3679999999999986},200,0,1.5249999999999999,null,{"$f":"(Class_Compare!$J$8*1000+Berserker_Status!K26+Berserker_Status!L26)/10","v":103.96000000000001}]
["BskM1",43,{"$f":"(B45^2*0.7)+Berserker_Status!$J27*(Berserker_Status!$J27*Class_Compare!$D$8)/2+100","v":4574.2039999999997},{"$f":"(U45)*(Class_Compare!$E$8*(50+(0.8*Berserker_Status!J27+0.2*Berserker_Status!M27)))","v":136.23480000000001},{"$f":"Berserker_Status!M27*(Berserker_Status!M27*Class_Compare!$O$8)+100","v":163.50399999999979},175.66627497062285,{"$f":"Class_Compare!$B$8*(100+1.2*(0.6*Berserker_Status!I27+0.2*Berserker_Status!K27+0.2*Berserker_Status!L27))","v":125.88799999999999},{"$f":"Class_Compare!$C$8*(100+1.2*(0.6*Berserker_Status!I27+0.2*Berserker_Status!K27+0.2*Berserker_Status!L27))","v":173.096},{"$f":"(Class_Compare!$G$7*1000)-(Berserker_Status!K27*5)","v":850.99999999999977},{"$f":"(Class_Compare!$K$8*1000+Berserker_Status!K27)/50","v":14.596000000000002},{"$f":"2+(Class_Compare!$L$8)/2+(Berserker_Status!L27/100)","v":2.306},{"$f":"(0.2*Berserker_Status!I27+0.8*Berserker_Status!M27)/250","v":9.3279999999999919E-2},{"$f":"(Berserker_Status!J27/25)","v":2.9119999999999999},{"$f":"Class_Compare!$H$8*(0.2*(Berserker_Status!K27*35))","v":187.74000000000024},{"$f":"(Class_Compare!$I$8*1000+Berserker_Status!K27)/1000","v":1.1297999999999999},{"$f":"(Class_Compare!$J$8*1000+Berserker_Status!K27+Berserker_Status!L27)/10","v":104.03999999999999},{"$f":"( (Berserker_Status!M27*Class_Compare!$M$8)+5 )/2","v":4.389999999999997},{"$f":"((Berserker_Status!L27+Berserker_Status!M27)*Class_Compare!$N$8)/5","v":1.3919999999999983},200,0,1.5375000000000001,null,{"$f":"(Class_Compare!$J$8*1000+Berserker_Status!K27+Berserker_Status!L27)/10","v":104.03999999999999}]
["BskM1",44,{"$f":"(B46^2*0.7)+Berserker_Status!$J28*(Berserker_Status!$J28*Class_Compare!$D$8)/2+100","v":4776.4159999999993},{"$f":"(U46)*(Class_Compare!$E$8*(50+(0.8*Berserker_Status!J28+0.2*Berserker_Status!M28)))","v":138.97919999999999},{"$f":"Berserker_Status!M28*(Berserker_Status!M28*Class_Compare!$O$8)+100","v":165.53599999999977},177.63207547169816,{"$f":"Class_Compare!$B$8*(100+1.2*(0.6*Berserker_Status!I28+0.2*Berserker_Status!K28+0.2*Berserker_Status!L28))","v":126.84800000000001},{"$f":"Class_Compare!$C$8*(100+1.2*(0.6*Berserker_Status!I28+0.2*Berserker_Status!K28+0.2*Berserker_Status!L28))","v":174.41600000000003},{"$f":"(Class_Compare!$G$7*1000)-(Berserker_Status!K28*5)","v":847.99999999999977},{"$f":"(Class_Compare!$K$8*1000+Berserker_Status!K28)/50","v":14.608000000000002},{"$f":"2+(Class_Compare!$L$8)/2+(Berserker_Status!L28/100)","v":2.3080000000000003},{"$f":"(0.2*Berserker_Status!I28+0.8*Berserker_Status!M28)/250","v":9.5039999999999916E-2},{"$f":"(Berserker_Status!J28/25)","v":2.9759999999999995},{"$f":"Class_Compare!$H$8*(0.2*(Berserker_Status!K28*35))","v":191.52000000000021},{"$f":"(Class_Compare!$I$8*1000+Berserker_Status!K28)/1000","v":1.1304000000000001},{"$f":"(Class_Compare!$J$8*1000+Berserker_Status!K28+Berserker_Status!L28)/10","v":104.12},{"$f":"( (Berserker_Status!M28*Class_Compare!$M$8)+5 )/2","v":4.4199999999999964},{"$f":"((Berserker_Status!L28+Berserker_Status!M28)*Class_Compare!$N$8)/5","v":1.4159999999999984},200,0,1.55,null,{"$f":"(Class_Compare!$J$8*1000+Berserker_Status!K28+Berserker_Status!L28)/10","v":104.12}]
["BskM1",45,{"$f":"(B47^2*0.7)+Berserker_Status!$J29*(Berserker_Status!$J29*Class_Compare!$D$8)/2+100","v":4983.0999999999985},{"$f":"(U47)*(Class_Compare!$E$8*(50+(0.8*Berserker_Status!J29+0.2*Berserker_Status!M29)))","v":141.74999999999997},{"$f":"Berserker_Status!M29*(Berserker_Status!M29*Class_Compare!$O$8)+100","v":167.5999999999998},179.61183431952665,{"$f":"Class_Compare!$B$8*(100+1.2*(0.6*Berserker_Status!I29+0.2*Berserker_Status!K29+0.2*Berserker_Status!L29))","v":127.80799999999999},{"$f":"Class_Compare!$C$8*(100+1.2*(0.6*Berserker_Status!I29+0.2*Berserker_Status!K29+0.2*Berserker_Status!L29))","v":175.73599999999999},{"$f":"(Class_Compare!$G$7*1000)-(Berserker_Status!K29*5)","v":844.99999999999977},{"$f":"(Class_Compare!$K$8*1000+Berserker_Status!K29)/50","v":14.62},{"$f":"2+(Class_Compare!$L$8)/2+(Berserker_Status!L29/100)","v":2.31},{"$f":"(0.2*Berserker_Status!I29+0.8*Berserker_Status!M29)/250","v":9.6799999999999928E-2},{"$f":"(Berserker_Status!J29/25)","v":3.0399999999999996},{"$f":"Class_Compare!$H$8*(0.2*(Berserker_Status!K29*35))","v":195.30000000000021},{"$f":"(Class_Compare!$I$8*1000+Berserker_Status!K29)/1000","v":1.131},{"$f":"(Class_Compare!$J$8*1000+Berserker_Status!K29+Berserker_Status!L29)/10","v":104.2},{"$f":"( (Berserker_Status!M29*Class_Compare!$M$8)+5 )/2","v":4.4499999999999966},{"$f":"((Berserker_Status!L29+Berserker_Status!M29)*Class_Compare!$N$8)/5","v":1.4399999999999982},200,0,1.5625,null,{"$f":"(Class_Compare!$J$8*1000+Berserker_Status!K29+Berserker_Status!L29)/10","v":104.2}]
["BskM1",46,{"$f":"(B48^2*0.7)+Berserker_Status!$J30*(Berserker_Status!$J30*Class_Compare!$D$8)/2+100","v":5194.2559999999976},{"$f":"(U48)*(Class_Compare!$E$8*(50+(0.8*Berserker_Status!J30+0.2*Berserker_Status!M30)))","v":144.5472},{"$f":"Berserker_Status!M30*(Berserker_Status!M30*Class_Compare!$O$8)+100","v":169.69599999999977},181.60570071258914,{"$f":"Class_Compare!$B$8*(100+1.2*(0.6*Berserker_Status!I30+0.2*Berserker_Status!K30+0.2*Berserker_Status!L30))","v":128.768},{"$f":"Class_Compare!$C$8*(100+1.2*(0.6*Berserker_Status!I30+0.2*Berserker_Status!K30+0.2*Berserker_Status!L30))","v":177.05600000000001},{"$f":"(Class_Compare!$G$7*1000)-(Berserker_Status!K30*5)","v":841.99999999999977},{"$f":"(Class_Compare!$K$8*1000+Berserker_Status!K30)/50","v":14.632},{"$f":"2+(Class_Compare!$L$8)/2+(Berserker_Status!L30/100)","v":2.3120000000000003},{"$f":"(0.2*Berserker_Status!I30+0.8*Berserker_Status!M30)/250","v":9.8559999999999912E-2},{"$f":"(Berserker_Status!J30/25)","v":3.1039999999999992},{"$f":"Class_Compare!$H$8*(0.2*(Berserker_Status!K30*35))","v":199.08000000000024},{"$f":"(Class_Compare!$I$8*1000+Berserker_Status!K30)/1000","v":1.1316000000000002},{"$f":"(Class_Compare!$J$8*1000+Berserker_Status!K30+Berserker_Status!L30)/10","v":104.28000000000002},{"$f":"( (Berserker_Status!M30*Class_Compare!$M$8)+5 )/2","v":4.4799999999999969},{"$f":"((Berserker_Status!L30+Berserker_Status!M30)*Class_Compare!$N$8)/5","v":1.4639999999999982},200,0,1.5750000000000002,null,{"$f":"(Class_Compare!$J$8*1000+Berserker_Status!K30+Berserker_Status!L30)/10","v":104.28000000000002}]
["BskM1",47,{"$f":"(B49^2*0.7)+Berserker_Status!$J31*(Berserker_Status!$J31*Class_Compare!$D$8)/2+100","v":5409.8839999999973},{"$f":"(U49)*(Class_Compare!$E$8*(50+(0.8*Berserker_Status!J31+0.2*Berserker_Status!M31)))","v":147.37079999999997},{"$f":"Berserker_Status!M31*(Berserker_Status!M31*Class_Compare!$O$8)+100","v":171.82399999999976},183.61382598331355,{"$f":"Class_Compare!$B$8*(100+1.2*(0.6*Berserker_Status!I31+0.2*Berserker_Status!K31+0.2*Berserker_Status!L31))","v":129.72800000000004},{"$f":"Class_Compare!$C$8*(100+1.2*(0.6*Berserker_Status!I31+0.2*Berserker_Status!K31+0.2*Berserker_Status!L31))","v":178.37600000000003},{"$f":"(Class_Compare!$G$7*1000)-(Berserker_Status!K31*5)","v":838.99999999999977},{"$f":"(Class_Compare!$K$8*1000+Berserker_Status!K31)/50","v":14.644},{"$f":"2+(Class_Compare!$L$8)/2+(Berserker_Status!L31/100)","v":2.3140000000000001},{"$f":"(0.2*Berserker_Status!I31+0.8*Berserker_Status!M31)/250","v":0.10031999999999994},{"$f":"(Berserker_Status!J31/25)","v":3.1679999999999988},{"$f":"Class_Compare!$H$8*(0.2*(Berserker_Status!K31*35))","v":202.86000000000027},{"$f":"(Class_Compare!$I$8*1000+Berserker_Status!K31)/1000","v":1.1322000000000001},{"$f":"(Class_Compare!$J$8*1000+Berserker_Status!K31+Berserker_Status!L31)/10","v":104.36000000000001},{"$f":"( (Berserker_Status!M31*Class_Compare!$M$8)+5 )/2","v":4.5099999999999962},{"$f":"((Berserker_Status!L31+Berserker_Status!M31)*Class_Compare!$N$8)/5","v":1.4879999999999982},200,0,1.5874999999999999,null,{"$f":"(Class_Compare!$J$8*1000+Berserker_Status!K31+Berserker_Status!L31)/10","v":104.36000000000001}]
["BskM1",48,{"$f":"(B50^2*0.7)+Berserker_Status!$J32*(Berserker_Status!$J32*Class_Compare!$D$8)/2+100","v":5629.9839999999967},{"$f":"(U50)*(Class_Compare!$E$8*(50+(0.8*Berserker_Status!J32+0.2*Berserker_Status!M32)))","v":150.22079999999997},{"$f":"Berserker_Status!M32*(Berserker_Status!M32*Class_Compare!$O$8)+100","v":173.98399999999975},185.63636363636368,{"$f":"Class_Compare!$B$8*(100+1.2*(0.6*Berserker_Status!I32+0.2*Berserker_Status!K32+0.2*Berserker_Status!L32))","v":130.68800000000002},{"$f":"Class_Compare!$C$8*(100+1.2*(0.6*Berserker_Status!I32+0.2*Berserker_Status!K32+0.2*Berserker_Status!L32))","v":179.69600000000003},{"$f":"(Class_Compare!$G$7*1000)-(Berserker_Status!K32*5)","v":835.99999999999977},{"$f":"(Class_Compare!$K$8*1000+Berserker_Status!K32)/50","v":14.656000000000001},{"$f":"2+(Class_Compare!$L$8)/2+(Berserker_Status!L32/100)","v":2.3160000000000003},{"$f":"(0.2*Berserker_Status!I32+0.8*Berserker_Status!M32)/250","v":0.10207999999999992},{"$f":"(Berserker_Status!J32/25)","v":3.2319999999999989},{"$f":"Class_Compare!$H$8*(0.2*(Berserker_Status!K32*35))","v":206.64000000000024},{"$f":"(Class_Compare!$I$8*1000+Berserker_Status!K32)/1000","v":1.1328},{"$f":"(Class_Compare!$J$8*1000+Berserker_Status!K32+Berserker_Status!L32)/10","v":104.43999999999998},{"$f":"( (Berserker_Status!M32*Class_Compare!$M$8)+5 )/2","v":4.5399999999999965},{"$f":"((Berserker_Status!L32+Berserker_Status!M32)*Class_Compare!$N$8)/5","v":1.511999999999998},200,0,1.6,null,{"$f":"(Class_Compare!$J$8*1000+Berserker_Status!K32+Berserker_Status!L32)/10","v":104.43999999999998}]
["BskM1",49,{"$f":"(B51^2*0.7)+Berserker_Status!$J33*(Berserker_Status!$J33*Class_Compare!$D$8)/2+100","v":5854.5559999999959},{"$f":"(U51)*(Class_Compare!$E$8*(50+(0.8*Berserker_Status!J33+0.2*Berserker_Status!M33)))","v":153.09719999999996},{"$f":"Berserker_Status!M33*(Berserker_Status!M33*Class_Compare!$O$8)+100","v":176.17599999999973},187.67346938775515,{"$f":"Class_Compare!$B$8*(100+1.2*(0.6*Berserker_Status!I33+0.2*Berserker_Status!K33+0.2*Berserker_Status!L33))","v":131.648},{"$f":"Class_Compare!$C$8*(100+1.2*(0.6*Berserker_Status!I33+0.2*Berserker_Status!K33+0.2*Berserker_Status!L33))","v":181.01600000000002},{"$f":"(Class_Compare!$G$7*1000)-(Berserker_Status!K33*5)","v":832.99999999999977},{"$f":"(Class_Compare!$K$8*1000+Berserker_Status!K33)/50","v":14.668000000000001},{"$f":"2+(Class_Compare!$L$8)/2+(Berserker_Status!L33/100)","v":2.3180000000000001},{"$f":"(0.2*Berserker_Status!I33+0.8*Berserker_Status!M33)/250","v":0.10383999999999993},{"$f":"(Berserker_Status!J33/25)","v":3.2959999999999985},{"$f":"Class_Compare!$H$8*(0.2*(Berserker_Status!K33*35))","v":210.42000000000027},{"$f":"(Class_Compare!$I$8*1000+Berserker_Status!K33)/1000","v":1.1334000000000002},{"$f":"(Class_Compare!$J$8*1000+Berserker_Status!K33+Berserker_Status!L33)/10","v":104.52000000000001},{"$f":"( (Berserker_Status!M33*Class_Compare!$M$8)+5 )/2","v":4.5699999999999967},{"$f":"((Berserker_Status!L33+Berserker_Status!M33)*Class_Compare!$N$8)/5","v":1.5359999999999978},200,0,1.6125,null,{"$f":"(Class_Compare!$J$8*1000+Berserker_Status!K33+Berserker_Status!L33)/10","v":104.52000000000001}]
["BskM1",50,{"$f":"(B52^2*0.7)+Berserker_Status!$J34*(Berserker_Status!$J34*Class_Compare!$D$8)/2+100","v":6083.5999999999949},{"$f":"(U52)*(Class_Compare!$E$8*(50+(0.8*Berserker_Status!J34+0.2*Berserker_Status!M34)))","v":155.99999999999997},{"$f":"Berserker_Status!M34*(Berserker_Status!M34*Class_Compare!$O$8)+100","v":178.39999999999975},189.72530120481937,{"$f":"Class_Compare!$B$8*(100+1.2*(0.6*Berserker_Status!I34+0.2*Berserker_Status!K34+0.2*Berserker_Status!L34))","v":132.60800000000003},{"$f":"Class_Compare!$C$8*(100+1.2*(0.6*Berserker_Status!I34+0.2*Berserker_Status!K34+0.2*Berserker_Status!L34))","v":182.33600000000004},{"$f":"(Class_Compare!$G$7*1000)-(Berserker_Status!K34*5)","v":829.99999999999977},{"$f":"(Class_Compare!$K$8*1000+Berserker_Status!K34)/50","v":14.68},{"$f":"2+(Class_Compare!$L$8)/2+(Berserker_Status!L34/100)","v":2.3200000000000003},{"$f":"(0.2*Berserker_Status!I34+0.8*Berserker_Status!M34)/250","v":0.10559999999999994},{"$f":"(Berserker_Status!J34/25)","v":3.3599999999999981},{"$f":"Class_Compare!$H$8*(0.2*(Berserker_Status!K34*35))","v":214.2000000000003},{"$f":"(Class_Compare!$I$8*1000+Berserker_Status!K34)/1000","v":1.1339999999999999},{"$f":"(Class_Compare!$J$8*1000+Berserker_Status!K34+Berserker_Status!L34)/10","v":104.6},{"$f":"( (Berserker_Status!M34*Class_Compare!$M$8)+5 )/2","v":4.5999999999999961},{"$f":"((Berserker_Status!L34+Berserker_Status!M34)*Class_Compare!$N$8)/5","v":1.5599999999999978},200,0,1.625,null,{"$f":"(Class_Compare!$J$8*1000+Berserker_Status!K34+Berserker_Status!L34)/10","v":104.6}]
["클래스","BskM2"]
["BskM2",21,1256.9559999999999,82.537199999999999,126.89599999999997,135.67284623773173,104.76800000000001,144.05600000000001,917,14.332000000000001,2.262,5.455999999999999E-2,1.504,104.58,1.1165999999999998,102.28,3.7299999999999995,0.86399999999999988,200,0,null,null,12.839999999999998]
["BskM2",22,1360.7840000000001,84.700800000000001,128.22399999999996,137.36542669584244,105.72800000000001,145.376,914,14.344000000000001,2.2640000000000002,5.6319999999999981E-2,1.5680000000000001,108.36000000000003,1.1172,102.36,3.7599999999999989,0.8879999999999999,200,0,null,null,13.679999999999998]
["BskM2",23,1469.0840000000001,86.890800000000027,129.58399999999995,139.06915477497259,106.68800000000002,146.69600000000003,911,14.356,2.266,5.8079999999999986E-2,1.6320000000000001,112.14000000000003,1.1177999999999999,102.43999999999998,3.7899999999999991,0.91199999999999992,200,0,null,null,14.519999999999996]
["BskM2",24,1581.8560000000002,89.10720000000002,130.97599999999994,140.78414096916302,107.64800000000001,148.01600000000002,908,14.368,2.2680000000000002,5.9839999999999977E-2,1.6960000000000002,115.92000000000004,1.1184000000000001,102.52000000000001,3.819999999999999,0.93599999999999972,200,0,null,null,15.359999999999996]
["BskM2",25,1699.1000000000004,91.350000000000009,132.39999999999995,142.51049723756907,108.608,149.33600000000001,905,14.38,2.27,6.1599999999999981E-2,1.7600000000000002,119.70000000000006,1.119,102.6,3.8499999999999988,0.95999999999999974,200,0,null,null,16.199999999999996]
["BskM2",26,1820.8160000000005,93.619200000000006,133.85599999999994,144.24833702882481,109.56799999999998,150.65599999999998,902,14.392000000000001,2.2720000000000002,6.3359999999999972E-2,1.8240000000000003,123.48000000000008,1.1195999999999999,102.67999999999999,3.879999999999999,0.98399999999999976,200,0,null,null,17.039999999999996]
["BskM2",27,1947.0040000000004,95.914800000000014,135.34399999999994,145.99777530589543,110.52800000000001,151.976,899,14.404000000000002,2.274,6.5119999999999956E-2,1.8880000000000003,127.26000000000006,1.1202000000000001,102.76000000000002,3.9099999999999984,1.0079999999999998,200,0,null,null,17.879999999999992]
["BskM2",28,2077.6640000000007,98.236800000000031,136.86399999999992,147.75892857142858,111.488,153.29599999999999,896,14.415999999999999,2.2760000000000002,6.6879999999999967E-2,1.9520000000000004,131.04000000000011,1.1208,102.83999999999999,3.9399999999999986,1.0319999999999996,200,0,null,null,18.719999999999992]
["BskM2",29,2212.7960000000007,100.58520000000001,138.41599999999994,149.53191489361703,112.44800000000001,154.61600000000001,893,14.427999999999999,2.278,6.8639999999999951E-2,2.0160000000000005,134.82000000000008,1.1214000000000002,102.92,3.9699999999999984,1.0559999999999996,200,0,null,null,19.559999999999992]
["BskM2",30,2352.4000000000005,102.96000000000004,139.99999999999991,151.31685393258428,113.408,155.93600000000001,889.99999999999989,14.44,2.2800000000000002,7.0399999999999963E-2,2.0800000000000005,138.60000000000011,1.1220000000000001,103,3.9999999999999982,1.0799999999999996,200,0,null,null,20.399999999999991]
["BskM2",31,2496.476000000001,105.36120000000003,141.6159999999999,153.11386696730557,114.36799999999999,157.256,886.99999999999989,14.452,2.282,7.215999999999996E-2,2.1440000000000006,142.38000000000011,1.1225999999999998,103.08,4.0299999999999985,1.1039999999999994,200,0,null,null,21.239999999999991]
["BskM2",32,2645.0240000000013,107.78880000000002,143.2639999999999,154.92307692307696,115.328,158.57600000000002,883.99999999999989,14.464,2.2840000000000003,7.3919999999999958E-2,2.2080000000000006,146.16000000000011,1.1232,103.16000000000001,4.0599999999999978,1.1279999999999994,200,0,null,null,22.079999999999988]
["BskM2",33,2798.0440000000012,110.24280000000003,144.9439999999999,156.74460839954597,116.288,159.89599999999999,880.99999999999989,14.476000000000001,2.286,7.5679999999999956E-2,2.2720000000000007,149.94000000000014,1.1237999999999999,103.24000000000001,4.0899999999999981,1.1519999999999992,200,0,null,null,22.919999999999987]
["BskM2",34,2955.5360000000014,112.72320000000005,146.65599999999989,158.57858769931664,117.248,161.21600000000001,877.99999999999989,14.488,2.2880000000000003,7.7439999999999939E-2,2.3360000000000007,153.72000000000014,1.1244000000000001,103.32000000000001,4.1199999999999974,1.1759999999999993,200,0,null,null,23.759999999999987]
["BskM2",35,3117.5000000000018,115.23000000000003,148.39999999999986,160.4251428571429,118.208,162.536,874.99999999999989,14.5,2.29,7.9199999999999937E-2,2.4000000000000008,157.50000000000017,1.125,103.4,4.1499999999999977,1.1999999999999991,200,0,null,null,24.599999999999987]
["BskM2",36,3283.9360000000015,117.76320000000001,150.17599999999987,162.28440366972481,119.16799999999999,163.85599999999999,871.99999999999989,14.512,2.2920000000000003,8.0959999999999935E-2,2.4640000000000009,161.28000000000014,1.1255999999999999,103.47999999999999,4.1799999999999979,1.2239999999999989,200,0,null,null,25.439999999999987]
["BskM2",37,3454.8440000000019,120.32280000000002,151.98399999999987,164.15650172612203,120.128,165.17600000000002,868.99999999999989,14.524000000000001,2.294,8.2719999999999946E-2,2.5280000000000009,165.06000000000017,1.1262000000000001,103.56000000000002,4.2099999999999973,1.2479999999999989,200,0,null,null,26.279999999999983]
["BskM2",38,3630.224000000002,122.90880000000006,153.82399999999984,166.04157043879911,121.08799999999999,166.49600000000001,865.99999999999989,14.536000000000001,2.2960000000000003,8.447999999999993E-2,2.592000000000001,168.84000000000017,1.1268,103.63999999999999,4.2399999999999975,1.2719999999999989,200,0,null,null,27.119999999999983]
["BskM2",39,3810.0760000000018,125.52120000000002,155.69599999999986,167.93974507531871,122.048,167.816,862.99999999999989,14.548,2.298,8.6239999999999928E-2,2.6560000000000006,172.62000000000018,1.1274000000000002,103.72,4.2699999999999978,1.2959999999999989,200,0,null,null,27.959999999999983]
["BskM2",40,3994.400000000001,128.16000000000003,157.59999999999985,169.85116279069769,123.008,169.136,859.99999999999989,14.56,2.3000000000000003,8.7999999999999926E-2,2.7200000000000006,176.4000000000002,1.1279999999999999,103.8,4.2999999999999972,1.3199999999999987,200,0,null,null,28.799999999999983]
["BskM2",41,4183.1959999999999,130.82520000000002,159.53599999999983,171.77596266044344,123.96799999999999,170.45599999999999,856.99999999999989,14.572000000000001,2.302,8.9759999999999923E-2,2.7840000000000003,180.18000000000021,1.1286,103.88000000000002,4.3299999999999974,1.3439999999999985,200,0,null,null,29.639999999999979]
["BskM2",42,4376.4639999999999,133.51679999999999,161.50399999999982,173.71428571428575,124.92799999999998,171.77599999999998,853.99999999999977,14.584000000000001,2.3040000000000003,9.1519999999999921E-2,2.8480000000000003,183.96000000000021,1.1292,103.96000000000001,4.3599999999999968,1.3679999999999986,200,0,null,null,30.479999999999979]
["BskM2",43,4574.2039999999997,136.23480000000001,163.50399999999979,175.66627497062285,125.88799999999999,173.096,850.99999999999977,14.596000000000002,2.306,9.3279999999999919E-2,2.9119999999999999,187.74000000000024,1.1297999999999999,104.03999999999999,4.389999999999997,1.3919999999999983,200,0,null,null,31.319999999999979]
["BskM2",44,4776.4159999999993,138.97919999999999,165.53599999999977,177.63207547169816,126.84800000000001,174.41600000000003,847.99999999999977,14.608000000000002,2.3080000000000003,9.5039999999999916E-2,2.9759999999999995,191.52000000000021,1.1304000000000001,104.12,4.4199999999999964,1.4159999999999984,200,0,null,null,32.159999999999975]
["BskM2",45,4983.0999999999985,141.74999999999997,167.5999999999998,179.61183431952665,127.80799999999999,175.73599999999999,844.99999999999977,14.62,2.31,9.6799999999999928E-2,3.0399999999999996,195.30000000000021,1.131,104.2,4.4499999999999966,1.4399999999999982,200,0,null,null,32.999999999999979]
["BskM2",46,5194.2559999999976,144.5472,169.69599999999977,181.60570071258914,128.768,177.05600000000001,841.99999999999977,14.632,2.3120000000000003,9.8559999999999912E-2,3.1039999999999992,199.08000000000024,1.1316000000000002,104.28000000000002,4.4799999999999969,1.4639999999999982,200,0,null,null,33.839999999999975]
["BskM2",47,5409.8839999999973,147.37079999999997,171.82399999999976,183.61382598331355,129.72800000000004,178.37600000000003,838.99999999999977,14.644,2.3140000000000001,0.10031999999999994,3.1679999999999988,202.86000000000027,1.1322000000000001,104.36000000000001,4.5099999999999962,1.4879999999999982,200,0,null,null,34.679999999999978]
["BskM2",48,5629.9839999999967,150.22079999999997,173.98399999999975,185.63636363636368,130.68800000000002,179.69600000000003,835.99999999999977,14.656000000000001,2.3160000000000003,0.10207999999999992,3.2319999999999989,206.64000000000024,1.1328,104.43999999999998,4.5399999999999965,1.511999999999998,200,0,null,null,35.519999999999975]
["BskM2",49,5854.5559999999959,153.09719999999996,176.17599999999973,187.67346938775515,131.648,181.01600000000002,832.99999999999977,14.668000000000001,2.3180000000000001,0.10383999999999993,3.2959999999999985,210.42000000000027,1.1334000000000002,104.52000000000001,4.5699999999999967,1.5359999999999978,200,0,null,null,36.359999999999971]
["BskM2",50,6083.5999999999949,155.99999999999997,178.39999999999975,189.72530120481937,132.60800000000003,182.33600000000004,829.99999999999977,14.68,2.3200000000000003,0.10559999999999994,3.3599999999999981,214.2000000000003,1.1339999999999999,104.6,4.5999999999999961,1.5599999999999978,200,0,null,null,37.199999999999974]
["클래스"]
["최고레벨","Berserker",1028,71.699999999999989,112.79999999999998,98.730434782608683,77.855999999999995,103.80799999999999,920,10.32,2.2600000000000002,5.28E-2,1.44,78.399999999999991,1.016,102.2,3.3,0.56000000000000005,200,0,null,null,39.200000000000031]
["최고레벨","BskM1",6083.5999999999949,155.99999999999997,178.39999999999975,189.72530120481937,132.60800000000003,182.33600000000004,829.99999999999977,14.68,2.3200000000000003,0.10559999999999994,3.3599999999999981,214.2000000000003,1.1339999999999999,104.6,4.5999999999999961,1.5599999999999978,200,0,null,null,37.199999999999974]
["최고레벨","Knight",687.2,67.875,114.70000000000002,44.185454545454547,35.832000000000001,37.073999999999998,825,20.7,2.7600000000000002,3.0400000000000014E-2,1.28,220.5,1.0349999999999999,105.1,3.5500000000000007,1.3800000000000003,200,0,null,null,86.399999999999949]
["최고레벨","KntM1",3699.6000000000049,177.32000000000014,228.00000000000034,131.26666666666665,71.599999999999994,85.919999999999987,600,23.6,3.14,6.8800000000000069E-2,2.7200000000000033,616,1.18,111.4,5.7000000000000046,4.0000000000000053,200,0,null,null,79.79999999999994]
["최고레벨","DemonHunter",413.80000000000007,8.8000000000000007,228,43.761403508771934,24.944000000000003,49.888000000000005,855,20.58,3.2600000000000002,5.9200000000000003E-2,0.52000000000000024,121.80000000000007,1.0289999999999999,105.5,7.3,4.2000000000000011,200,0,null,null,37.199999999999974]
["최고레벨","DmHM1",2085.1999999999998,45.727500000000006,793.60000000000161,128.5333333333333,61.696000000000005,107.968,660.00000000000023,23.36,3.7600000000000002,0.13600000000000018,1.1200000000000003,380.79999999999973,1.1679999999999999,112.4,16.100000000000016,10.800000000000008,200,0,null,null,33.60000000000003]
["최고레벨","Archon",758.45000000000039,46.300000000000018,776.00000000000068,45.073913043478264,35.543999999999997,47.392000000000003,920,20.32,2.63,9.6000000000000044E-2,1.1600000000000006,33.6,1.016,102.9,12.900000000000006,1.5600000000000009,200,0,null,null,22.499999999999979]
["최고레벨","ArchM1",4393.1999999999953,144.68999999999994,3863.2000000000021,92.346987951807279,55.744000000000021,97.552000000000021,829.99999999999977,22.68,2.9800000000000004,0.20640000000000008,2.7199999999999975,119.00000000000017,1.1339999999999999,106.2,27.700000000000006,5.0400000000000009,200,0,null,null,24]

{"sheet":"DemonHunter_Status","index":7,"n_rows":44,"n_cols":20,"rows_kept":44,"cut":false,"hidden":false,"merged":[]}
["초기시작",6,5,13,10,6,null,null,0.6,0.5,1.3,1,0.6,null,null,0.6,0.5,1.3,1,0.6]
["DemonHunter",{"$f":"VLOOKUP($A2,Class_Status!$B$3:$G$25,2,0)","v":0.5},{"$f":"VLOOKUP($A2,Class_Status!$B$3:$G$25,3,0)","v":0.4},{"$f":"VLOOKUP($A2,Class_Status!$B$3:$G$25,4,0)","v":0.8},{"$f":"VLOOKUP($A2,Class_Status!$B$3:$G$25,5,0)","v":0.8},{"$f":"VLOOKUP($A2,Class_Status!$B$3:$G$25,6,0)","v":0.5},null,"DmHM1",{"$f":"VLOOKUP($H2,Class_Status!$B$3:$G$25,2,0)","v":0.6},{"$f":"VLOOKUP($H2,Class_Status!$B$3:$G$25,3,0)","v":0.5},{"$f":"VLOOKUP($H2,Class_Status!$B$3:$G$25,4,0)","v":1.3},{"$f":"VLOOKUP($H2,Class_Status!$B$3:$G$25,5,0)","v":1},{"$f":"VLOOKUP($H2,Class_Status!$B$3:$G$25,6,0)","v":0.6},null,"DmHM2",{"$f":"VLOOKUP($H2,Class_Status!$B$3:$G$25,2,0)","v":0.6},{"$f":"VLOOKUP($H2,Class_Status!$B$3:$G$25,3,0)","v":0.5},{"$f":"VLOOKUP($H2,Class_Status!$B$3:$G$25,4,0)","v":1.3},{"$f":"VLOOKUP($H2,Class_Status!$B$3:$G$25,5,0)","v":1},{"$f":"VLOOKUP($H2,Class_Status!$B$3:$G$25,6,0)","v":0.6}]
["DemonHunter",{"$f":"SUM(B1:B2)","v":6.5},{"$f":"SUM(C1:C2)","v":5.4},{"$f":"SUM(D1:D2)","v":13.8},{"$f":"SUM(E1:E2)","v":10.8},{"$f":"SUM(F1:F2)","v":6.5},null,"DmHM1",{"$f":"B24","v":16},{"$f":"C24","v":13.000000000000007},29.000000000000014,26.000000000000014,16,null,"DmHM2",{"$f":"B24","v":16},{"$f":"C24","v":13.000000000000007},29.000000000000014,26.000000000000014,16]
["Lvl","P_Str","P_Sta","P_Agil","P_Int","P_Wis",null,"Lvl","P_Str","P_Sta","P_Agil","P_Int","P_Wis",null,"Lvl","P_Str","P_Sta","P_Agil","P_Int","P_Wis"]
[1,{"$f":"B3","v":6.5},{"$f":"C3","v":5.4},{"$f":"D3","v":13.8},{"$f":"E3","v":10.8},{"$f":"F3","v":6.5},null,21,{"$f":"B24+I$2","v":16.600000000000001},{"$f":"C24+J$2","v":13.500000000000007},{"$f":"D24+K$2","v":30.300000000000015},{"$f":"E24+L$2","v":27.000000000000014},{"$f":"F24+M$2","v":16.600000000000001},null,21,{"$f":"B24+P$2","v":16.600000000000001},{"$f":"C24+Q$2","v":13.500000000000007},{"$f":"D24+R$2","v":30.300000000000015},{"$f":"E24+S$2","v":27.000000000000014},{"$f":"F24+T$2","v":16.600000000000001}]
[2,{"$f":"B5+B$2","v":7},{"$f":"C5+C$2","v":5.8000000000000007},{"$f":"D5+D$2","v":14.600000000000001},{"$f":"E5+E$2","v":11.600000000000001},{"$f":"F5+F$2","v":7},null,22,{"$f":"I5+I$2","v":17.200000000000003},{"$f":"J5+J$2","v":14.000000000000007},31.600000000000016,{"$f":"L5+L$2","v":28.000000000000014},17.200000000000003,null,22,{"$f":"P5+P$2","v":17.200000000000003},{"$f":"Q5+Q$2","v":14.000000000000007},{"$f":"R5+R$2","v":31.600000000000016},{"$f":"S5+S$2","v":28.000000000000014},{"$f":"T5+T$2","v":17.200000000000003}]
[3,{"$f":"B6+B$2","v":7.5},6.2000000000000011,15.400000000000002,12.400000000000002,7.5,null,23,{"$f":"I6+I$2","v":17.800000000000004},14.500000000000007,32.900000000000013,{"$f":"L6+L$2","v":29.000000000000014},17.800000000000004,null,23,{"$f":"P6+P$2","v":17.800000000000004},{"$f":"Q6+Q$2","v":14.500000000000007},{"$f":"R6+R$2","v":32.900000000000013},{"$f":"S6+S$2","v":29.000000000000014},{"$f":"T6+T$2","v":17.800000000000004}]
[4,8,6.6000000000000014,16.200000000000003,13.200000000000003,8,null,24,18.400000000000006,15.000000000000007,34.20000000000001,30.000000000000014,18.400000000000006,null,24,18.400000000000006,15.000000000000007,34.20000000000001,30.000000000000014,18.400000000000006]
[5,8.5,7.0000000000000018,17.000000000000004,14.000000000000004,8.5,null,25,19.000000000000007,15.500000000000007,35.500000000000007,31.000000000000014,19.000000000000007,null,25,19.000000000000007,15.500000000000007,35.500000000000007,31.000000000000014,19.000000000000007]
[6,9,7.4000000000000021,17.800000000000004,14.800000000000004,9,null,26,19.600000000000009,16.000000000000007,36.800000000000004,32.000000000000014,19.600000000000009,null,26,19.600000000000009,16.000000000000007,36.800000000000004,32.000000000000014,19.600000000000009]
[7,9.5,7.8000000000000025,18.600000000000005,15.600000000000005,9.5,null,27,20.20000000000001,16.500000000000007,38.1,33.000000000000014,20.20000000000001,null,27,20.20000000000001,16.500000000000007,38.1,33.000000000000014,20.20000000000001]
[8,10,8.2000000000000028,19.400000000000006,16.400000000000006,10,null,28,20.800000000000011,17.000000000000007,39.4,34.000000000000014,20.800000000000011,null,28,20.800000000000011,17.000000000000007,39.4,34.000000000000014,20.800000000000011]
[9,10.5,8.6000000000000032,20.200000000000006,17.200000000000006,10.5,null,29,21.400000000000013,17.500000000000007,40.699999999999996,35.000000000000014,21.400000000000013,null,29,21.400000000000013,17.500000000000007,40.699999999999996,35.000000000000014,21.400000000000013]
[10,11,9.0000000000000036,21.000000000000007,18.000000000000007,11,null,30,22.000000000000014,18.000000000000007,41.999999999999993,36.000000000000014,22.000000000000014,null,30,22.000000000000014,18.000000000000007,41.999999999999993,36.000000000000014,22.000000000000014]
[11,11.5,9.4000000000000039,21.800000000000008,18.800000000000008,11.5,null,31,22.600000000000016,18.500000000000007,43.29999999999999,37.000000000000014,22.600000000000016,null,31,22.600000000000016,18.500000000000007,43.29999999999999,37.000000000000014,22.600000000000016]
[12,12,9.8000000000000043,22.600000000000009,19.600000000000009,12,null,32,23.200000000000017,19.000000000000007,44.599999999999987,38.000000000000014,23.200000000000017,null,32,23.200000000000017,19.000000000000007,44.599999999999987,38.000000000000014,23.200000000000017]
[13,12.5,10.200000000000005,23.400000000000009,20.400000000000009,12.5,null,33,23.800000000000018,19.500000000000007,45.899999999999984,39.000000000000014,23.800000000000018,null,33,23.800000000000018,19.500000000000007,45.899999999999984,39.000000000000014,23.800000000000018]
[14,13,10.600000000000005,24.20000000000001,21.20000000000001,13,null,34,24.40000000000002,20.000000000000007,47.199999999999982,40.000000000000014,24.40000000000002,null,34,24.40000000000002,20.000000000000007,47.199999999999982,40.000000000000014,24.40000000000002]
[15,13.5,11.000000000000005,25.000000000000011,22.000000000000011,13.5,null,35,25.000000000000021,20.500000000000007,48.499999999999979,41.000000000000014,25.000000000000021,null,35,25.000000000000021,20.500000000000007,48.499999999999979,41.000000000000014,25.000000000000021]
[16,14,11.400000000000006,25.800000000000011,22.800000000000011,14,null,36,25.600000000000023,21.000000000000007,49.799999999999976,42.000000000000014,25.600000000000023,null,36,25.600000000000023,21.000000000000007,49.799999999999976,42.000000000000014,25.600000000000023]
[17,14.5,11.800000000000006,26.600000000000012,23.600000000000012,14.5,null,37,26.200000000000024,21.500000000000007,51.099999999999973,43.000000000000014,26.200000000000024,null,37,26.200000000000024,21.500000000000007,51.099999999999973,43.000000000000014,26.200000000000024]
[18,15,12.200000000000006,27.400000000000013,24.400000000000013,15,null,38,26.800000000000026,22.000000000000007,52.39999999999997,44.000000000000014,26.800000000000026,null,38,26.800000000000026,22.000000000000007,52.39999999999997,44.000000000000014,26.800000000000026]
[19,{"$f":"B22+B$2","v":15.5},12.600000000000007,28.200000000000014,25.200000000000014,15.5,null,39,27.400000000000027,22.500000000000007,53.699999999999967,45.000000000000014,27.400000000000027,null,39,27.400000000000027,22.500000000000007,53.699999999999967,45.000000000000014,27.400000000000027]
[20,16,13.000000000000007,29.000000000000014,26.000000000000014,16,{"$f":"SUM(B24:F24)","v":100.00000000000003},40,28.000000000000028,23.000000000000007,54.999999999999964,46.000000000000014,28.000000000000028,null,40,28.000000000000028,23.000000000000007,54.999999999999964,46.000000000000014,28.000000000000028]
[null,null,null,null,null,null,null,41,28.60000000000003,23.500000000000007,56.299999999999962,47.000000000000014,28.60000000000003,null,41,28.60000000000003,23.500000000000007,56.299999999999962,47.000000000000014,28.60000000000003]
[null,"최소 공격력","최대 생명력","최소 공격력","최소 공격력","생명력회복",null,42,29.200000000000031,24.000000000000007,57.599999999999959,48.000000000000014,29.200000000000031,null,42,29.200000000000031,24.000000000000007,57.599999999999959,48.000000000000014,29.200000000000031]
[null,"최대 공격력","생명력회복","최대 공격력","최대 공격력","활력도",null,43,29.800000000000033,24.500000000000007,58.899999999999956,49.000000000000014,29.800000000000033,null,43,29.800000000000033,24.500000000000007,58.899999999999956,49.000000000000014,29.800000000000033]
[null,"치명타 저항","피해 감소","공격속도","치명타 세기","치명타 세기",null,44,30.400000000000034,25.000000000000007,60.199999999999953,50.000000000000014,30.400000000000034,null,44,30.400000000000034,25.000000000000007,60.199999999999953,50.000000000000014,30.400000000000034]
[null,null,null,"치명타 확률","적중도","상태이상저항",null,45,31.000000000000036,25.500000000000007,61.49999999999995,51.000000000000014,31.000000000000036,null,45,31.000000000000036,25.500000000000007,61.49999999999995,51.000000000000014,31.000000000000036]
[null,null,null,"방어력","재사용시간","치명타 저항",null,46,31.600000000000037,26.000000000000007,62.799999999999947,52.000000000000014,31.600000000000037,null,46,31.600000000000037,26.000000000000007,62.799999999999947,52.000000000000014,31.600000000000037]
[null,null,null,"회피율",null,"재사용시간",null,47,32.200000000000038,26.500000000000007,64.099999999999952,53.000000000000014,32.200000000000038,null,47,32.200000000000038,26.500000000000007,64.099999999999952,53.000000000000014,32.200000000000038]
[null,null,null,"적중도",null,null,null,48,32.80000000000004,27.000000000000007,65.399999999999949,54.000000000000014,32.80000000000004,null,48,32.80000000000004,27.000000000000007,65.399999999999949,54.000000000000014,32.80000000000004]
[null,null,null,null,null,null,null,49,33.400000000000041,27.500000000000007,66.699999999999946,55.000000000000014,33.400000000000041,null,49,33.400000000000041,27.500000000000007,66.699999999999946,55.000000000000014,33.400000000000041]
[null,null,null,null,null,null,null,50,34.000000000000043,{"$f":"J33+J$2","v":28.000000000000007},67.999999999999943,56.000000000000014,34.000000000000043,{"$f":"SUM(I34:M34)","v":220.00000000000006},50,34.000000000000043,28.000000000000007,67.999999999999943,56.000000000000014,34.000000000000043]
[]
[null,null,null,null,null,null,null,null,"P_Str","P_Sta","P_Agil","P_Int","P_Wis",null,null,"P_Str","P_Sta","P_Agil","P_Int","P_Wis"]
[]
[null,null,null,null,null,null,null,null,"최소 공격력","최대 생명력","최소 공격력","최소 공격력","생명력회복",null,null,"최소 공격력","최대 생명력","최소 공격력","최소 공격력","생명력회복"]
[null,null,null,null,null,null,null,null,"최대 공격력","생명력회복","최대 공격력","최대 공격력","활력도",null,null,"최대 공격력","생명력회복","최대 공격력","최대 공격력","활력도"]
[null,null,null,null,null,null,null,null,"치명타 저항","피해 감소","공격속도","치명타 세기","치명타 세기",null,null,"치명타 저항","피해 감소","공격속도","치명타 세기","치명타 세기"]
[null,null,null,null,null,null,null,null,null,null,"치명타 확률","적중도","상태이상저항",null,null,null,null,"치명타 확률","적중도","상태이상저항"]
[null,null,null,null,null,null,null,null,null,null,"방어력","재사용시간","치명타 저항",null,null,null,null,"방어력","재사용시간","치명타 저항"]
[null,null,null,null,null,null,null,null,null,null,"회피율",null,"재사용시간",null,null,null,null,"회피율",null,"재사용시간"]
[null,null,null,null,null,null,null,null,null,null,"적중도",null,null,null,null,null,null,"적중도"]

{"sheet":"DemonHunter_Simul","index":8,"n_rows":83,"n_cols":21,"rows_kept":83,"cut":false,"hidden":false,"merged":[]}
["클래스","레벨","최대 생명력","생명력회복","활력도","초당평균공격력","최소 공격력","최대 공격력","공격속도","치명타 확률","치명타 세기","치명타저항","피해감소","방어력","회피율","적중도","상태이상저항","스킬쿨타임감소","이동속도","신성력",1]
["DemonHunter",1,{"$f":"(B2^2*0.7)+DemonHunter_Status!$C5*(DemonHunter_Status!$C5*Class_Compare!$D$27)/2+100","v":106.532},{"$f":"(U2)*(Class_Compare!$E$27*(50+1.5*(0.8*DemonHunter_Status!C5+0.2*DemonHunter_Status!F5)))","v":5.9160374999999998},{"$f":"DemonHunter_Status!F5*(DemonHunter_Status!F5*Class_Compare!$O$27)+100","v":121.125},{"$f":"((G2+H2)/2)*(1000/(I2))","v":35.633941997851778},{"$f":"Class_Compare!$B$27*(100+1.2*(0.6*DemonHunter_Status!B5+0.2*DemonHunter_Status!D5+0.2*DemonHunter_Status!E5))","v":22.116800000000001},{"$f":"Class_Compare!$C$27*(100+1.2*(0.6*DemonHunter_Status!B5+0.2*DemonHunter_Status!D5+0.2*DemonHunter_Status!E5))","v":44.233600000000003},{"$f":"(Class_Compare!$G$27*1000)-(DemonHunter_Status!D5*5)","v":931},{"$f":"(Class_Compare!$I$27*1000+DemonHunter_Status!D5)/50","v":20.276},{"$f":"2+(Class_Compare!$L$27)+(DemonHunter_Status!E5/100)","v":3.1080000000000001},{"$f":"(0.2*Knight_Status!B5+0.8*DemonHunter_Status!F5)/250","v":2.4240000000000001E-2},{"$f":"(DemonHunter_Status!C5/25)","v":0.21600000000000003},{"$f":"Class_Compare!$H$27*(0.2*(DemonHunter_Status!D5*35))","v":57.96},{"$f":"(Class_Compare!$I$27*1000+DemonHunter_Status!D5)/1000","v":1.0138},{"$f":"(Class_Compare!$J$27*1000+DemonHunter_Status!D5+DemonHunter_Status!E5)/10","v":102.46},{"$f":"((DemonHunter_Status!F5*Class_Compare!$M$27)+5)/2","v":4.45},{"$f":"((DemonHunter_Status!E5+DemonHunter_Status!F5)*Class_Compare!$N$27)/5","v":1.73},200,0,{"$f":"$U$1*(1+0.05*(B2/4))","v":1.0125}]
["DemonHunter",2,{"$f":"(B3^2*0.7)+DemonHunter_Status!$C6*(DemonHunter_Status!$C6*Class_Compare!$D$27)/2+100","v":109.52800000000001},{"$f":"(U3)*(Class_Compare!$E$27*(50+1.5*(0.8*DemonHunter_Status!C6+0.2*DemonHunter_Status!F6)))","v":6.0536500000000002},{"$f":"DemonHunter_Status!F6*(DemonHunter_Status!F6*Class_Compare!$O$27)+100","v":124.5},{"$f":"((G3+H3)/2)*(1000/(I3))","v":36.028478964401295},{"$f":"Class_Compare!$B$27*(100+1.2*(0.6*DemonHunter_Status!B6+0.2*DemonHunter_Status!D6+0.2*DemonHunter_Status!E6))","v":22.265600000000003},{"$f":"Class_Compare!$C$27*(100+1.2*(0.6*DemonHunter_Status!B6+0.2*DemonHunter_Status!D6+0.2*DemonHunter_Status!E6))","v":44.531200000000005},{"$f":"(Class_Compare!$G$27*1000)-(DemonHunter_Status!D6*5)","v":927},{"$f":"(Class_Compare!$I$27*1000+DemonHunter_Status!D6)/50","v":20.292000000000002},{"$f":"2+(Class_Compare!$L$27)+(DemonHunter_Status!E6/100)","v":3.1160000000000001},{"$f":"(0.2*Knight_Status!B6+0.8*DemonHunter_Status!F6)/250","v":2.6080000000000002E-2},{"$f":"(DemonHunter_Status!C6/25)","v":0.23200000000000004},{"$f":"Class_Compare!$H$27*(0.2*(DemonHunter_Status!D6*35))","v":61.320000000000007},{"$f":"(Class_Compare!$I$27*1000+DemonHunter_Status!D6)/1000","v":1.0145999999999999},{"$f":"(Class_Compare!$J$27*1000+DemonHunter_Status!D6+DemonHunter_Status!E6)/10","v":102.62},{"$f":"((DemonHunter_Status!F6*Class_Compare!$M$27)+5)/2","v":4.5999999999999996},{"$f":"((DemonHunter_Status!E6+DemonHunter_Status!F6)*Class_Compare!$N$27)/5","v":1.86},200,0,{"$f":"$U$1*(1+0.05*(B3/4))","v":1.0249999999999999}]
["DemonHunter",3,{"$f":"(B4^2*0.7)+DemonHunter_Status!$C7*(DemonHunter_Status!$C7*Class_Compare!$D$27)/2+100","v":113.988},{"$f":"(U4)*(Class_Compare!$E$27*(50+1.5*(0.8*DemonHunter_Status!C7+0.2*DemonHunter_Status!F7)))","v":6.1928375000000004},{"$f":"DemonHunter_Status!F7*(DemonHunter_Status!F7*Class_Compare!$O$27)+100","v":128.125},36.42643553629469,{"$f":"Class_Compare!$B$27*(100+1.2*(0.6*DemonHunter_Status!B7+0.2*DemonHunter_Status!D7+0.2*DemonHunter_Status!E7))","v":22.414400000000001},{"$f":"Class_Compare!$C$27*(100+1.2*(0.6*DemonHunter_Status!B7+0.2*DemonHunter_Status!D7+0.2*DemonHunter_Status!E7))","v":44.828800000000001},{"$f":"(Class_Compare!$G$27*1000)-(DemonHunter_Status!D7*5)","v":923},{"$f":"(Class_Compare!$I$27*1000+DemonHunter_Status!D7)/50","v":20.308},{"$f":"2+(Class_Compare!$L$27)+(DemonHunter_Status!E7/100)","v":3.1240000000000001},{"$f":"(0.2*Knight_Status!B7+0.8*DemonHunter_Status!F7)/250","v":2.792E-2},{"$f":"(DemonHunter_Status!C7/25)","v":0.24800000000000005},{"$f":"Class_Compare!$H$27*(0.2*(DemonHunter_Status!D7*35))","v":64.680000000000007},{"$f":"(Class_Compare!$I$27*1000+DemonHunter_Status!D7)/1000","v":1.0154000000000001},{"$f":"(Class_Compare!$J$27*1000+DemonHunter_Status!D7+DemonHunter_Status!E7)/10","v":102.78},{"$f":"((DemonHunter_Status!F7*Class_Compare!$M$27)+5)/2","v":4.75},{"$f":"((DemonHunter_Status!E7+DemonHunter_Status!F7)*Class_Compare!$N$27)/5","v":1.9900000000000002},200,0,1.0375000000000001]
["DemonHunter",4,{"$f":"(B5^2*0.7)+DemonHunter_Status!$C8*(DemonHunter_Status!$C8*Class_Compare!$D$27)/2+100","v":119.91200000000001},{"$f":"(U5)*(Class_Compare!$E$27*(50+1.5*(0.8*DemonHunter_Status!C8+0.2*DemonHunter_Status!F8)))","v":6.3336000000000006},{"$f":"DemonHunter_Status!F8*(DemonHunter_Status!F8*Class_Compare!$O$27)+100","v":132},36.827856365614807,{"$f":"Class_Compare!$B$27*(100+1.2*(0.6*DemonHunter_Status!B8+0.2*DemonHunter_Status!D8+0.2*DemonHunter_Status!E8))","v":22.563200000000002},{"$f":"Class_Compare!$C$27*(100+1.2*(0.6*DemonHunter_Status!B8+0.2*DemonHunter_Status!D8+0.2*DemonHunter_Status!E8))","v":45.126400000000004},{"$f":"(Class_Compare!$G$27*1000)-(DemonHunter_Status!D8*5)","v":919},{"$f":"(Class_Compare!$I$27*1000+DemonHunter_Status!D8)/50","v":20.324000000000002},{"$f":"2+(Class_Compare!$L$27)+(DemonHunter_Status!E8/100)","v":3.1320000000000001},{"$f":"(0.2*Knight_Status!B8+0.8*DemonHunter_Status!F8)/250","v":2.9760000000000002E-2},{"$f":"(DemonHunter_Status!C8/25)","v":0.26400000000000007},{"$f":"Class_Compare!$H$27*(0.2*(DemonHunter_Status!D8*35))","v":68.04000000000002},{"$f":"(Class_Compare!$I$27*1000+DemonHunter_Status!D8)/1000","v":1.0162},{"$f":"(Class_Compare!$J$27*1000+DemonHunter_Status!D8+DemonHunter_Status!E8)/10","v":102.94000000000001},{"$f":"((DemonHunter_Status!F8*Class_Compare!$M$27)+5)/2","v":4.9000000000000004},{"$f":"((DemonHunter_Status!E8+DemonHunter_Status!F8)*Class_Compare!$N$27)/5","v":2.12},200,0,1.05]
["DemonHunter",5,{"$f":"(B6^2*0.7)+DemonHunter_Status!$C9*(DemonHunter_Status!$C9*Class_Compare!$D$27)/2+100","v":127.30000000000001},{"$f":"(U6)*(Class_Compare!$E$27*(50+1.5*(0.8*DemonHunter_Status!C9+0.2*DemonHunter_Status!F9)))","v":6.4759375000000006},{"$f":"DemonHunter_Status!F9*(DemonHunter_Status!F9*Class_Compare!$O$27)+100","v":136.125},37.232786885245908,{"$f":"Class_Compare!$B$27*(100+1.2*(0.6*DemonHunter_Status!B9+0.2*DemonHunter_Status!D9+0.2*DemonHunter_Status!E9))","v":22.712000000000003},{"$f":"Class_Compare!$C$27*(100+1.2*(0.6*DemonHunter_Status!B9+0.2*DemonHunter_Status!D9+0.2*DemonHunter_Status!E9))","v":45.424000000000007},{"$f":"(Class_Compare!$G$27*1000)-(DemonHunter_Status!D9*5)","v":915},{"$f":"(Class_Compare!$I$27*1000+DemonHunter_Status!D9)/50","v":20.34},{"$f":"2+(Class_Compare!$L$27)+(DemonHunter_Status!E9/100)","v":3.14},{"$f":"(0.2*Knight_Status!B9+0.8*DemonHunter_Status!F9)/250","v":3.1600000000000003E-2},{"$f":"(DemonHunter_Status!C9/25)","v":0.28000000000000008},{"$f":"Class_Compare!$H$27*(0.2*(DemonHunter_Status!D9*35))","v":71.40000000000002},{"$f":"(Class_Compare!$I$27*1000+DemonHunter_Status!D9)/1000","v":1.0169999999999999},{"$f":"(Class_Compare!$J$27*1000+DemonHunter_Status!D9+DemonHunter_Status!E9)/10","v":103.1},{"$f":"((DemonHunter_Status!F9*Class_Compare!$M$27)+5)/2","v":5.05},{"$f":"((DemonHunter_Status!E9+DemonHunter_Status!F9)*Class_Compare!$N$27)/5","v":2.2500000000000004},200,0,1.0625]
["DemonHunter",6,{"$f":"(B7^2*0.7)+DemonHunter_Status!$C10*(DemonHunter_Status!$C10*Class_Compare!$D$27)/2+100","v":136.15200000000002},{"$f":"(U7)*(Class_Compare!$E$27*(50+1.5*(0.8*DemonHunter_Status!C10+0.2*DemonHunter_Status!F10)))","v":6.6198500000000005},{"$f":"DemonHunter_Status!F10*(DemonHunter_Status!F10*Class_Compare!$O$27)+100","v":140.5},37.641273326015373,{"$f":"Class_Compare!$B$27*(100+1.2*(0.6*DemonHunter_Status!B10+0.2*DemonHunter_Status!D10+0.2*DemonHunter_Status!E10))","v":22.860800000000001},{"$f":"Class_Compare!$C$27*(100+1.2*(0.6*DemonHunter_Status!B10+0.2*DemonHunter_Status!D10+0.2*DemonHunter_Status!E10))","v":45.721600000000002},{"$f":"(Class_Compare!$G$27*1000)-(DemonHunter_Status!D10*5)","v":911},{"$f":"(Class_Compare!$I$27*1000+DemonHunter_Status!D10)/50","v":20.355999999999998},{"$f":"2+(Class_Compare!$L$27)+(DemonHunter_Status!E10/100)","v":3.1480000000000001},{"$f":"(0.2*Knight_Status!B10+0.8*DemonHunter_Status!F10)/250","v":3.3439999999999998E-2},{"$f":"(DemonHunter_Status!C10/25)","v":0.2960000000000001},{"$f":"Class_Compare!$H$27*(0.2*(DemonHunter_Status!D10*35))","v":74.760000000000005},{"$f":"(Class_Compare!$I$27*1000+DemonHunter_Status!D10)/1000","v":1.0178},{"$f":"(Class_Compare!$J$27*1000+DemonHunter_Status!D10+DemonHunter_Status!E10)/10","v":103.25999999999999},{"$f":"((DemonHunter_Status!F10*Class_Compare!$M$27)+5)/2","v":5.1999999999999993},{"$f":"((DemonHunter_Status!E10+DemonHunter_Status!F10)*Class_Compare!$N$27)/5","v":2.3800000000000003},200,0,1.075]
["DemonHunter",7,{"$f":"(B8^2*0.7)+DemonHunter_Status!$C11*(DemonHunter_Status!$C11*Class_Compare!$D$27)/2+100","v":146.46800000000002},{"$f":"(U8)*(Class_Compare!$E$27*(50+1.5*(0.8*DemonHunter_Status!C11+0.2*DemonHunter_Status!F11)))","v":6.7653375000000002},{"$f":"DemonHunter_Status!F11*(DemonHunter_Status!F11*Class_Compare!$O$27)+100","v":145.125},38.053362734288868,{"$f":"Class_Compare!$B$27*(100+1.2*(0.6*DemonHunter_Status!B11+0.2*DemonHunter_Status!D11+0.2*DemonHunter_Status!E11))","v":23.009600000000002},{"$f":"Class_Compare!$C$27*(100+1.2*(0.6*DemonHunter_Status!B11+0.2*DemonHunter_Status!D11+0.2*DemonHunter_Status!E11))","v":46.019200000000005},{"$f":"(Class_Compare!$G$27*1000)-(DemonHunter_Status!D11*5)","v":907},{"$f":"(Class_Compare!$I$27*1000+DemonHunter_Status!D11)/50","v":20.372},{"$f":"2+(Class_Compare!$L$27)+(DemonHunter_Status!E11/100)","v":3.1560000000000001},{"$f":"(0.2*Knight_Status!B11+0.8*DemonHunter_Status!F11)/250","v":3.5279999999999999E-2},{"$f":"(DemonHunter_Status!C11/25)","v":0.31200000000000011},{"$f":"Class_Compare!$H$27*(0.2*(DemonHunter_Status!D11*35))","v":78.120000000000019},{"$f":"(Class_Compare!$I$27*1000+DemonHunter_Status!D11)/1000","v":1.0185999999999999},{"$f":"(Class_Compare!$J$27*1000+DemonHunter_Status!D11+DemonHunter_Status!E11)/10","v":103.42},{"$f":"((DemonHunter_Status!F11*Class_Compare!$M$27)+5)/2","v":5.35},{"$f":"((DemonHunter_Status!E11+DemonHunter_Status!F11)*Class_Compare!$N$27)/5","v":2.5100000000000007},200,0,1.0874999999999999]
["DemonHunter",8,{"$f":"(B9^2*0.7)+DemonHunter_Status!$C12*(DemonHunter_Status!$C12*Class_Compare!$D$27)/2+100","v":158.24799999999999},{"$f":"(U9)*(Class_Compare!$E$27*(50+1.5*(0.8*DemonHunter_Status!C12+0.2*DemonHunter_Status!F12)))","v":6.9124000000000017},{"$f":"DemonHunter_Status!F12*(DemonHunter_Status!F12*Class_Compare!$O$27)+100","v":150},38.469102990033221,{"$f":"Class_Compare!$B$27*(100+1.2*(0.6*DemonHunter_Status!B12+0.2*DemonHunter_Status!D12+0.2*DemonHunter_Status!E12))","v":23.1584},{"$f":"Class_Compare!$C$27*(100+1.2*(0.6*DemonHunter_Status!B12+0.2*DemonHunter_Status!D12+0.2*DemonHunter_Status!E12))","v":46.316800000000001},{"$f":"(Class_Compare!$G$27*1000)-(DemonHunter_Status!D12*5)","v":903},{"$f":"(Class_Compare!$I$27*1000+DemonHunter_Status!D12)/50","v":20.387999999999998},{"$f":"2+(Class_Compare!$L$27)+(DemonHunter_Status!E12/100)","v":3.1640000000000001},{"$f":"(0.2*Knight_Status!B12+0.8*DemonHunter_Status!F12)/250","v":3.712E-2},{"$f":"(DemonHunter_Status!C12/25)","v":0.32800000000000012},{"$f":"Class_Compare!$H$27*(0.2*(DemonHunter_Status!D12*35))","v":81.480000000000018},{"$f":"(Class_Compare!$I$27*1000+DemonHunter_Status!D12)/1000","v":1.0194000000000001},{"$f":"(Class_Compare!$J$27*1000+DemonHunter_Status!D12+DemonHunter_Status!E12)/10","v":103.58},{"$f":"((DemonHunter_Status!F12*Class_Compare!$M$27)+5)/2","v":5.5},{"$f":"((DemonHunter_Status!E12+DemonHunter_Status!F12)*Class_Compare!$N$27)/5","v":2.6400000000000006},200,0,1.1000000000000001]
["DemonHunter",9,{"$f":"(B10^2*0.7)+DemonHunter_Status!$C13*(DemonHunter_Status!$C13*Class_Compare!$D$27)/2+100","v":171.49200000000002},{"$f":"(U10)*(Class_Compare!$E$27*(50+1.5*(0.8*DemonHunter_Status!C13+0.2*DemonHunter_Status!F13)))","v":7.0610375000000012},{"$f":"DemonHunter_Status!F13*(DemonHunter_Status!F13*Class_Compare!$O$27)+100","v":155.125},38.888542825361519,{"$f":"Class_Compare!$B$27*(100+1.2*(0.6*DemonHunter_Status!B13+0.2*DemonHunter_Status!D13+0.2*DemonHunter_Status!E13))","v":23.307200000000002},{"$f":"Class_Compare!$C$27*(100+1.2*(0.6*DemonHunter_Status!B13+0.2*DemonHunter_Status!D13+0.2*DemonHunter_Status!E13))","v":46.614400000000003},{"$f":"(Class_Compare!$G$27*1000)-(DemonHunter_Status!D13*5)","v":899},{"$f":"(Class_Compare!$I$27*1000+DemonHunter_Status!D13)/50","v":20.404},{"$f":"2+(Class_Compare!$L$27)+(DemonHunter_Status!E13/100)","v":3.1720000000000002},{"$f":"(0.2*Knight_Status!B13+0.8*DemonHunter_Status!F13)/250","v":3.8960000000000002E-2},{"$f":"(DemonHunter_Status!C13/25)","v":0.34400000000000014},{"$f":"Class_Compare!$H$27*(0.2*(DemonHunter_Status!D13*35))","v":84.840000000000032},{"$f":"(Class_Compare!$I$27*1000+DemonHunter_Status!D13)/1000","v":1.0202},{"$f":"(Class_Compare!$J$27*1000+DemonHunter_Status!D13+DemonHunter_Status!E13)/10","v":103.74000000000001},{"$f":"((DemonHunter_Status!F13*Class_Compare!$M$27)+5)/2","v":5.65},{"$f":"((DemonHunter_Status!E13+DemonHunter_Status!F13)*Class_Compare!$N$27)/5","v":2.7700000000000005},200,0,1.1125]
["DemonHunter",10,{"$f":"(B11^2*0.7)+DemonHunter_Status!$C14*(DemonHunter_Status!$C14*Class_Compare!$D$27)/2+100","v":186.20000000000002},{"$f":"(U11)*(Class_Compare!$E$27*(50+1.5*(0.8*DemonHunter_Status!C14+0.2*DemonHunter_Status!F14)))","v":7.2112500000000015},{"$f":"DemonHunter_Status!F14*(DemonHunter_Status!F14*Class_Compare!$O$27)+100","v":160.5},39.311731843575423,{"$f":"Class_Compare!$B$27*(100+1.2*(0.6*DemonHunter_Status!B14+0.2*DemonHunter_Status!D14+0.2*DemonHunter_Status!E14))","v":23.456000000000003},{"$f":"Class_Compare!$C$27*(100+1.2*(0.6*DemonHunter_Status!B14+0.2*DemonHunter_Status!D14+0.2*DemonHunter_Status!E14))","v":46.912000000000006},{"$f":"(Class_Compare!$G$27*1000)-(DemonHunter_Status!D14*5)","v":895},{"$f":"(Class_Compare!$I$27*1000+DemonHunter_Status!D14)/50","v":20.420000000000002},{"$f":"2+(Class_Compare!$L$27)+(DemonHunter_Status!E14/100)","v":3.18},{"$f":"(0.2*Knight_Status!B14+0.8*DemonHunter_Status!F14)/250","v":4.0800000000000003E-2},{"$f":"(DemonHunter_Status!C14/25)","v":0.36000000000000015},{"$f":"Class_Compare!$H$27*(0.2*(DemonHunter_Status!D14*35))","v":88.200000000000031},{"$f":"(Class_Compare!$I$27*1000+DemonHunter_Status!D14)/1000","v":1.0209999999999999},{"$f":"(Class_Compare!$J$27*1000+DemonHunter_Status!D14+DemonHunter_Status!E14)/10","v":103.9},{"$f":"((DemonHunter_Status!F14*Class_Compare!$M$27)+5)/2","v":5.8},{"$f":"((DemonHunter_Status!E14+DemonHunter_Status!F14)*Class_Compare!$N$27)/5","v":2.9000000000000008},200,0,1.125]
["DemonHunter",11,{"$f":"(B12^2*0.7)+DemonHunter_Status!$C15*(DemonHunter_Status!$C15*Class_Compare!$D$27)/2+100","v":202.37200000000001},{"$f":"(U12)*(Class_Compare!$E$27*(50+1.5*(0.8*DemonHunter_Status!C15+0.2*DemonHunter_Status!F15)))","v":7.3630375000000008},{"$f":"DemonHunter_Status!F15*(DemonHunter_Status!F15*Class_Compare!$O$27)+100","v":166.125},39.738720538720543,{"$f":"Class_Compare!$B$27*(100+1.2*(0.6*DemonHunter_Status!B15+0.2*DemonHunter_Status!D15+0.2*DemonHunter_Status!E15))","v":23.604800000000001},{"$f":"Class_Compare!$C$27*(100+1.2*(0.6*DemonHunter_Status!B15+0.2*DemonHunter_Status!D15+0.2*DemonHunter_Status!E15))","v":47.209600000000002},{"$f":"(Class_Compare!$G$27*1000)-(DemonHunter_Status!D15*5)","v":891},{"$f":"(Class_Compare!$I$27*1000+DemonHunter_Status!D15)/50","v":20.436},{"$f":"2+(Class_Compare!$L$27)+(DemonHunter_Status!E15/100)","v":3.1880000000000002},{"$f":"(0.2*Knight_Status!B15+0.8*DemonHunter_Status!F15)/250","v":4.2639999999999997E-2},{"$f":"(DemonHunter_Status!C15/25)","v":0.37600000000000017},{"$f":"Class_Compare!$H$27*(0.2*(DemonHunter_Status!D15*35))","v":91.560000000000031},{"$f":"(Class_Compare!$I$27*1000+DemonHunter_Status!D15)/1000","v":1.0218},{"$f":"(Class_Compare!$J$27*1000+DemonHunter_Status!D15+DemonHunter_Status!E15)/10","v":104.05999999999999},{"$f":"((DemonHunter_Status!F15*Class_Compare!$M$27)+5)/2","v":5.9499999999999993},{"$f":"((DemonHunter_Status!E15+DemonHunter_Status!F15)*Class_Compare!$N$27)/5","v":3.0300000000000007},200,0,1.1375]
["DemonHunter",12,{"$f":"(B13^2*0.7)+DemonHunter_Status!$C16*(DemonHunter_Status!$C16*Class_Compare!$D$27)/2+100","v":220.00800000000001},{"$f":"(U13)*(Class_Compare!$E$27*(50+1.5*(0.8*DemonHunter_Status!C16+0.2*DemonHunter_Status!F16)))","v":7.5164000000000009},{"$f":"DemonHunter_Status!F16*(DemonHunter_Status!F16*Class_Compare!$O$27)+100","v":172},40.1695603156708,{"$f":"Class_Compare!$B$27*(100+1.2*(0.6*DemonHunter_Status!B16+0.2*DemonHunter_Status!D16+0.2*DemonHunter_Status!E16))","v":23.753600000000002},{"$f":"Class_Compare!$C$27*(100+1.2*(0.6*DemonHunter_Status!B16+0.2*DemonHunter_Status!D16+0.2*DemonHunter_Status!E16))","v":47.507200000000005},{"$f":"(Class_Compare!$G$27*1000)-(DemonHunter_Status!D16*5)","v":887},{"$f":"(Class_Compare!$I$27*1000+DemonHunter_Status!D16)/50","v":20.452000000000002},{"$f":"2+(Class_Compare!$L$27)+(DemonHunter_Status!E16/100)","v":3.1960000000000002},{"$f":"(0.2*Knight_Status!B16+0.8*DemonHunter_Status!F16)/250","v":4.4480000000000006E-2},{"$f":"(DemonHunter_Status!C16/25)","v":0.39200000000000018},{"$f":"Class_Compare!$H$27*(0.2*(DemonHunter_Status!D16*35))","v":94.920000000000044},{"$f":"(Class_Compare!$I$27*1000+DemonHunter_Status!D16)/1000","v":1.0226},{"$f":"(Class_Compare!$J$27*1000+DemonHunter_Status!D16+DemonHunter_Status!E16)/10","v":104.22},{"$f":"((DemonHunter_Status!F16*Class_Compare!$M$27)+5)/2","v":6.1},{"$f":"((DemonHunter_Status!E16+DemonHunter_Status!F16)*Class_Compare!$N$27)/5","v":3.160000000000001},200,0,1.1499999999999999]
["DemonHunter",13,{"$f":"(B14^2*0.7)+DemonHunter_Status!$C17*(DemonHunter_Status!$C17*Class_Compare!$D$27)/2+100","v":239.108},{"$f":"(U14)*(Class_Compare!$E$27*(50+1.5*(0.8*DemonHunter_Status!C17+0.2*DemonHunter_Status!F17)))","v":7.6713375000000017},{"$f":"DemonHunter_Status!F17*(DemonHunter_Status!F17*Class_Compare!$O$27)+100","v":178.125},40.604303510758776,{"$f":"Class_Compare!$B$27*(100+1.2*(0.6*DemonHunter_Status!B17+0.2*DemonHunter_Status!D17+0.2*DemonHunter_Status!E17))","v":23.9024},{"$f":"Class_Compare!$C$27*(100+1.2*(0.6*DemonHunter_Status!B17+0.2*DemonHunter_Status!D17+0.2*DemonHunter_Status!E17))","v":47.8048},{"$f":"(Class_Compare!$G$27*1000)-(DemonHunter_Status!D17*5)","v":883},{"$f":"(Class_Compare!$I$27*1000+DemonHunter_Status!D17)/50","v":20.468},{"$f":"2+(Class_Compare!$L$27)+(DemonHunter_Status!E17/100)","v":3.2040000000000002},{"$f":"(0.2*Knight_Status!B17+0.8*DemonHunter_Status!F17)/250","v":4.632E-2},{"$f":"(DemonHunter_Status!C17/25)","v":0.4080000000000002},{"$f":"Class_Compare!$H$27*(0.2*(DemonHunter_Status!D17*35))","v":98.280000000000044},{"$f":"(Class_Compare!$I$27*1000+DemonHunter_Status!D17)/1000","v":1.0234000000000001},{"$f":"(Class_Compare!$J$27*1000+DemonHunter_Status!D17+DemonHunter_Status!E17)/10","v":104.38},{"$f":"((DemonHunter_Status!F17*Class_Compare!$M$27)+5)/2","v":6.25},{"$f":"((DemonHunter_Status!E17+DemonHunter_Status!F17)*Class_Compare!$N$27)/5","v":3.2900000000000005},200,0,1.1625000000000001]
["DemonHunter",14,{"$f":"(B15^2*0.7)+DemonHunter_Status!$C18*(DemonHunter_Status!$C18*Class_Compare!$D$27)/2+100","v":259.67200000000003},{"$f":"(U15)*(Class_Compare!$E$27*(50+1.5*(0.8*DemonHunter_Status!C18+0.2*DemonHunter_Status!F18)))","v":7.8278500000000015},{"$f":"DemonHunter_Status!F18*(DemonHunter_Status!F18*Class_Compare!$O$27)+100","v":184.5},41.043003412969291,{"$f":"Class_Compare!$B$27*(100+1.2*(0.6*DemonHunter_Status!B18+0.2*DemonHunter_Status!D18+0.2*DemonHunter_Status!E18))","v":24.051200000000001},{"$f":"Class_Compare!$C$27*(100+1.2*(0.6*DemonHunter_Status!B18+0.2*DemonHunter_Status!D18+0.2*DemonHunter_Status!E18))","v":48.102400000000003},{"$f":"(Class_Compare!$G$27*1000)-(DemonHunter_Status!D18*5)","v":879},{"$f":"(Class_Compare!$I$27*1000+DemonHunter_Status!D18)/50","v":20.484000000000002},{"$f":"2+(Class_Compare!$L$27)+(DemonHunter_Status!E18/100)","v":3.2120000000000002},{"$f":"(0.2*Knight_Status!B18+0.8*DemonHunter_Status!F18)/250","v":4.8159999999999994E-2},{"$f":"(DemonHunter_Status!C18/25)","v":0.42400000000000021},{"$f":"Class_Compare!$H$27*(0.2*(DemonHunter_Status!D18*35))","v":101.64000000000006},{"$f":"(Class_Compare!$I$27*1000+DemonHunter_Status!D18)/1000","v":1.0242},{"$f":"(Class_Compare!$J$27*1000+DemonHunter_Status!D18+DemonHunter_Status!E18)/10","v":104.54},{"$f":"((DemonHunter_Status!F18*Class_Compare!$M$27)+5)/2","v":6.4},{"$f":"((DemonHunter_Status!E18+DemonHunter_Status!F18)*Class_Compare!$N$27)/5","v":3.4200000000000008},200,0,1.175]
["DemonHunter",15,{"$f":"(B16^2*0.7)+DemonHunter_Status!$C19*(DemonHunter_Status!$C19*Class_Compare!$D$27)/2+100","v":281.70000000000005},{"$f":"(U16)*(Class_Compare!$E$27*(50+1.5*(0.8*DemonHunter_Status!C19+0.2*DemonHunter_Status!F19)))","v":7.9859375000000004},{"$f":"DemonHunter_Status!F19*(DemonHunter_Status!F19*Class_Compare!$O$27)+100","v":191.125},41.485714285714288,{"$f":"Class_Compare!$B$27*(100+1.2*(0.6*DemonHunter_Status!B19+0.2*DemonHunter_Status!D19+0.2*DemonHunter_Status!E19))","v":24.200000000000003},{"$f":"Class_Compare!$C$27*(100+1.2*(0.6*DemonHunter_Status!B19+0.2*DemonHunter_Status!D19+0.2*DemonHunter_Status!E19))","v":48.400000000000006},{"$f":"(Class_Compare!$G$27*1000)-(DemonHunter_Status!D19*5)","v":875},{"$f":"(Class_Compare!$I$27*1000+DemonHunter_Status!D19)/50","v":20.5},{"$f":"2+(Class_Compare!$L$27)+(DemonHunter_Status!E19/100)","v":3.22},{"$f":"(0.2*Knight_Status!B19+0.8*DemonHunter_Status!F19)/250","v":0.05},{"$f":"(DemonHunter_Status!C19/25)","v":0.44000000000000022},{"$f":"Class_Compare!$H$27*(0.2*(DemonHunter_Status!D19*35))","v":105.00000000000004},{"$f":"(Class_Compare!$I$27*1000+DemonHunter_Status!D19)/1000","v":1.0249999999999999},{"$f":"(Class_Compare!$J$27*1000+DemonHunter_Status!D19+DemonHunter_Status!E19)/10","v":104.7},{"$f":"((DemonHunter_Status!F19*Class_Compare!$M$27)+5)/2","v":6.55},{"$f":"((DemonHunter_Status!E19+DemonHunter_Status!F19)*Class_Compare!$N$27)/5","v":3.5500000000000016},200,0,1.1875]
["DemonHunter",16,{"$f":"(B17^2*0.7)+DemonHunter_Status!$C20*(DemonHunter_Status!$C20*Class_Compare!$D$27)/2+100","v":305.19200000000001},{"$f":"(U17)*(Class_Compare!$E$27*(50+1.5*(0.8*DemonHunter_Status!C20+0.2*DemonHunter_Status!F20)))","v":8.1456000000000017},{"$f":"DemonHunter_Status!F20*(DemonHunter_Status!F20*Class_Compare!$O$27)+100","v":198},41.932491389207804,{"$f":"Class_Compare!$B$27*(100+1.2*(0.6*DemonHunter_Status!B20+0.2*DemonHunter_Status!D20+0.2*DemonHunter_Status!E20))","v":24.348800000000001},{"$f":"Class_Compare!$C$27*(100+1.2*(0.6*DemonHunter_Status!B20+0.2*DemonHunter_Status!D20+0.2*DemonHunter_Status!E20))","v":48.697600000000001},{"$f":"(Class_Compare!$G$27*1000)-(DemonHunter_Status!D20*5)","v":871},{"$f":"(Class_Compare!$I$27*1000+DemonHunter_Status!D20)/50","v":20.515999999999998},{"$f":"2+(Class_Compare!$L$27)+(DemonHunter_Status!E20/100)","v":3.2280000000000002},{"$f":"(0.2*Knight_Status!B20+0.8*DemonHunter_Status!F20)/250","v":5.1840000000000004E-2},{"$f":"(DemonHunter_Status!C20/25)","v":0.45600000000000024},{"$f":"Class_Compare!$H$27*(0.2*(DemonHunter_Status!D20*35))","v":108.36000000000006},{"$f":"(Class_Compare!$I$27*1000+DemonHunter_Status!D20)/1000","v":1.0258},{"$f":"(Class_Compare!$J$27*1000+DemonHunter_Status!D20+DemonHunter_Status!E20)/10","v":104.85999999999999},{"$f":"((DemonHunter_Status!F20*Class_Compare!$M$27)+5)/2","v":6.7},{"$f":"((DemonHunter_Status!E20+DemonHunter_Status!F20)*Class_Compare!$N$27)/5","v":3.680000000000001},200,0,1.2]
["DemonHunter",17,{"$f":"(B18^2*0.7)+DemonHunter_Status!$C21*(DemonHunter_Status!$C21*Class_Compare!$D$27)/2+100","v":330.14800000000002},{"$f":"(U18)*(Class_Compare!$E$27*(50+1.5*(0.8*DemonHunter_Status!C21+0.2*DemonHunter_Status!F21)))","v":8.3068375000000003},{"$f":"DemonHunter_Status!F21*(DemonHunter_Status!F21*Class_Compare!$O$27)+100","v":205.125},42.383391003460211,{"$f":"Class_Compare!$B$27*(100+1.2*(0.6*DemonHunter_Status!B21+0.2*DemonHunter_Status!D21+0.2*DemonHunter_Status!E21))","v":24.497600000000002},{"$f":"Class_Compare!$C$27*(100+1.2*(0.6*DemonHunter_Status!B21+0.2*DemonHunter_Status!D21+0.2*DemonHunter_Status!E21))","v":48.995200000000004},{"$f":"(Class_Compare!$G$27*1000)-(DemonHunter_Status!D21*5)","v":867},{"$f":"(Class_Compare!$I$27*1000+DemonHunter_Status!D21)/50","v":20.531999999999996},{"$f":"2+(Class_Compare!$L$27)+(DemonHunter_Status!E21/100)","v":3.2360000000000002},{"$f":"(0.2*Knight_Status!B21+0.8*DemonHunter_Status!F21)/250","v":5.3680000000000005E-2},{"$f":"(DemonHunter_Status!C21/25)","v":0.47200000000000025},{"$f":"Class_Compare!$H$27*(0.2*(DemonHunter_Status!D21*35))","v":111.72000000000006},{"$f":"(Class_Compare!$I$27*1000+DemonHunter_Status!D21)/1000","v":1.0266},{"$f":"(Class_Compare!$J$27*1000+DemonHunter_Status!D21+DemonHunter_Status!E21)/10","v":105.01999999999998},{"$f":"((DemonHunter_Status!F21*Class_Compare!$M$27)+5)/2","v":6.85},{"$f":"((DemonHunter_Status!E21+DemonHunter_Status!F21)*Class_Compare!$N$27)/5","v":3.8100000000000009},200,0,1.2124999999999999]
["DemonHunter",18,{"$f":"(B19^2*0.7)+DemonHunter_Status!$C22*(DemonHunter_Status!$C22*Class_Compare!$D$27)/2+100","v":356.56800000000004},{"$f":"(U19)*(Class_Compare!$E$27*(50+1.5*(0.8*DemonHunter_Status!C22+0.2*DemonHunter_Status!F22)))","v":8.4696500000000032},{"$f":"DemonHunter_Status!F22*(DemonHunter_Status!F22*Class_Compare!$O$27)+100","v":212.5},42.838470451911938,{"$f":"Class_Compare!$B$27*(100+1.2*(0.6*DemonHunter_Status!B22+0.2*DemonHunter_Status!D22+0.2*DemonHunter_Status!E22))","v":24.6464},{"$f":"Class_Compare!$C$27*(100+1.2*(0.6*DemonHunter_Status!B22+0.2*DemonHunter_Status!D22+0.2*DemonHunter_Status!E22))","v":49.2928},{"$f":"(Class_Compare!$G$27*1000)-(DemonHunter_Status!D22*5)","v":863},{"$f":"(Class_Compare!$I$27*1000+DemonHunter_Status!D22)/50","v":20.548000000000002},{"$f":"2+(Class_Compare!$L$27)+(DemonHunter_Status!E22/100)","v":3.2440000000000002},{"$f":"(0.2*Knight_Status!B22+0.8*DemonHunter_Status!F22)/250","v":5.552E-2},{"$f":"(DemonHunter_Status!C22/25)","v":0.48800000000000027},{"$f":"Class_Compare!$H$27*(0.2*(DemonHunter_Status!D22*35))","v":115.08000000000006},{"$f":"(Class_Compare!$I$27*1000+DemonHunter_Status!D22)/1000","v":1.0274000000000001},{"$f":"(Class_Compare!$J$27*1000+DemonHunter_Status!D22+DemonHunter_Status!E22)/10","v":105.18000000000002},{"$f":"((DemonHunter_Status!F22*Class_Compare!$M$27)+5)/2","v":7},{"$f":"((DemonHunter_Status!E22+DemonHunter_Status!F22)*Class_Compare!$N$27)/5","v":3.9400000000000013},200,0,1.2250000000000001]
["DemonHunter",19,{"$f":"(B20^2*0.7)+DemonHunter_Status!$C23*(DemonHunter_Status!$C23*Class_Compare!$D$27)/2+100","v":384.452},{"$f":"(U20)*(Class_Compare!$E$27*(50+1.5*(0.8*DemonHunter_Status!C23+0.2*DemonHunter_Status!F23)))","v":8.6340375000000016},{"$f":"DemonHunter_Status!F23*(DemonHunter_Status!F23*Class_Compare!$O$27)+100","v":220.125},43.2977881257276,{"$f":"Class_Compare!$B$27*(100+1.2*(0.6*DemonHunter_Status!B23+0.2*DemonHunter_Status!D23+0.2*DemonHunter_Status!E23))","v":24.795200000000001},{"$f":"Class_Compare!$C$27*(100+1.2*(0.6*DemonHunter_Status!B23+0.2*DemonHunter_Status!D23+0.2*DemonHunter_Status!E23))","v":49.590400000000002},{"$f":"(Class_Compare!$G$27*1000)-(DemonHunter_Status!D23*5)","v":859},{"$f":"(Class_Compare!$I$27*1000+DemonHunter_Status!D23)/50","v":20.564},{"$f":"2+(Class_Compare!$L$27)+(DemonHunter_Status!E23/100)","v":3.2520000000000002},{"$f":"(0.2*Knight_Status!B23+0.8*DemonHunter_Status!F23)/250","v":5.7360000000000001E-2},{"$f":"(DemonHunter_Status!C23/25)","v":0.50400000000000023},{"$f":"Class_Compare!$H$27*(0.2*(DemonHunter_Status!D23*35))","v":118.44000000000005},{"$f":"(Class_Compare!$I$27*1000+DemonHunter_Status!D23)/1000","v":1.0282},{"$f":"(Class_Compare!$J$27*1000+DemonHunter_Status!D23+DemonHunter_Status!E23)/10","v":105.34},{"$f":"((DemonHunter_Status!F23*Class_Compare!$M$27)+5)/2","v":7.1499999999999995},{"$f":"((DemonHunter_Status!E23+DemonHunter_Status!F23)*Class_Compare!$N$27)/5","v":4.0700000000000021},200,0,1.2375]
["DemonHunter",20,{"$f":"(B21^2*0.7)+DemonHunter_Status!$C24*(DemonHunter_Status!$C24*Class_Compare!$D$27)/2+100","v":413.80000000000007},{"$f":"(U21)*(Class_Compare!$E$27*(50+1.5*(0.8*DemonHunter_Status!C24+0.2*DemonHunter_Status!F24)))","v":8.8000000000000007},{"$f":"DemonHunter_Status!F24*(DemonHunter_Status!F24*Class_Compare!$O$27)+100","v":228},43.761403508771934,{"$f":"Class_Compare!$B$27*(100+1.2*(0.6*DemonHunter_Status!B24+0.2*DemonHunter_Status!D24+0.2*DemonHunter_Status!E24))","v":24.944000000000003},{"$f":"Class_Compare!$C$27*(100+1.2*(0.6*DemonHunter_Status!B24+0.2*DemonHunter_Status!D24+0.2*DemonHunter_Status!E24))","v":49.888000000000005},{"$f":"(Class_Compare!$G$27*1000)-(DemonHunter_Status!D24*5)","v":855},{"$f":"(Class_Compare!$I$27*1000+DemonHunter_Status!D24)/50","v":20.58},{"$f":"2+(Class_Compare!$L$27)+(DemonHunter_Status!E24/100)","v":3.2600000000000002},{"$f":"(0.2*Knight_Status!B24+0.8*DemonHunter_Status!F24)/250","v":5.9200000000000003E-2},{"$f":"(DemonHunter_Status!C24/25)","v":0.52000000000000024},{"$f":"Class_Compare!$H$27*(0.2*(DemonHunter_Status!D24*35))","v":121.80000000000007},{"$f":"(Class_Compare!$I$27*1000+DemonHunter_Status!D24)/1000","v":1.0289999999999999},{"$f":"(Class_Compare!$J$27*1000+DemonHunter_Status!D24+DemonHunter_Status!E24)/10","v":105.5},{"$f":"((DemonHunter_Status!F24*Class_Compare!$M$27)+5)/2","v":7.3},{"$f":"((DemonHunter_Status!E24+DemonHunter_Status!F24)*Class_Compare!$N$27)/5","v":4.2000000000000011},200,0,1.25]
["클래스","DmHM1"]
["DmHM1",21,{"$f":"(B23^2*0.7)+DemonHunter_Status!$J5*(DemonHunter_Status!$J5*Class_Compare!$D$28)/2+100","v":463.37500000000006},{"$f":"(U23)*(Class_Compare!$E$28*(50+1.5*(0.8*DemonHunter_Status!J5+0.2*DemonHunter_Status!M5)))","v":26.959425000000003},{"$f":"DemonHunter_Status!M5*(DemonHunter_Status!M5*Class_Compare!$O$28)+100","v":265.33600000000001},{"$f":"((G23+H23)/2)*(1000/(I23))","v":81.481673541543913},{"$f":"Class_Compare!$B$28*(100+1.2*(0.6*DemonHunter_Status!I5+0.2*DemonHunter_Status!K5+0.2*DemonHunter_Status!L5))","v":50.281600000000005},{"$f":"Class_Compare!$C$28*(100+1.2*(0.6*DemonHunter_Status!I5+0.2*DemonHunter_Status!K5+0.2*DemonHunter_Status!L5))","v":87.992800000000003},{"$f":"(Class_Compare!$G$28*1000)-(DemonHunter_Status!K5*5)","v":848.49999999999989},{"$f":"(Class_Compare!$I$28*1000+DemonHunter_Status!K5)/50","v":22.605999999999998},{"$f":"2+(Class_Compare!$L$28)+(DemonHunter_Status!L5/100)","v":3.47},{"$f":"(0.2*DemonHunter_Status!I5+0.8*DemonHunter_Status!M5)/250","v":6.6400000000000001E-2},{"$f":"(DemonHunter_Status!J5/25)","v":0.54000000000000026},{"$f":"Class_Compare!$H$28*(0.2*(DemonHunter_Status!K5*35))","v":169.68000000000009},{"$f":"(Class_Compare!$I$28*1000+DemonHunter_Status!K5)/1000","v":1.1302999999999999},{"$f":"(Class_Compare!$J$28*1000+DemonHunter_Status!K5+DemonHunter_Status!L5)/10","v":105.72999999999999},{"$f":"((DemonHunter_Status!M5*Class_Compare!$M$28)+5)/2","v":9.14},{"$f":"((DemonHunter_Status!L5+DemonHunter_Status!M5)*Class_Compare!$N$28)/5","v":5.2320000000000011},200,0,{"$f":"$U$1*(1+0.05*(B23/4))","v":1.2625}]
["DmHM1",22,{"$f":"(B24^2*0.7)+DemonHunter_Status!$J6*(DemonHunter_Status!$J6*Class_Compare!$D$28)/2+100","v":497.6},{"$f":"(U24)*(Class_Compare!$E$28*(50+1.5*(0.8*DemonHunter_Status!J6+0.2*DemonHunter_Status!M6)))","v":27.524699999999999},{"$f":"DemonHunter_Status!M6*(DemonHunter_Status!M6*Class_Compare!$O$28)+100","v":277.50400000000008},{"$f":"((G24+H24)/2)*(1000/(I24))","v":82.753444180522592},{"$f":"Class_Compare!$B$28*(100+1.2*(0.6*DemonHunter_Status!I6+0.2*DemonHunter_Status!K6+0.2*DemonHunter_Status!L6))","v":50.675200000000011},{"$f":"Class_Compare!$C$28*(100+1.2*(0.6*DemonHunter_Status!I6+0.2*DemonHunter_Status!K6+0.2*DemonHunter_Status!L6))","v":88.681600000000003},{"$f":"(Class_Compare!$G$28*1000)-(DemonHunter_Status!K6*5)","v":841.99999999999989},{"$f":"(Class_Compare!$I$28*1000+DemonHunter_Status!K6)/50","v":22.631999999999998},{"$f":"2+(Class_Compare!$L$28)+(DemonHunter_Status!L6/100)","v":3.4800000000000004},{"$f":"(0.2*DemonHunter_Status!I6+0.8*DemonHunter_Status!M6)/250","v":6.8800000000000014E-2},{"$f":"(DemonHunter_Status!J6/25)","v":0.56000000000000028},{"$f":"Class_Compare!$H$28*(0.2*(DemonHunter_Status!K6*35))","v":176.96000000000009},{"$f":"(Class_Compare!$I$28*1000+DemonHunter_Status!K6)/1000","v":1.1315999999999999},{"$f":"(Class_Compare!$J$28*1000+DemonHunter_Status!K6+DemonHunter_Status!L6)/10","v":105.96},{"$f":"((DemonHunter_Status!M6*Class_Compare!$M$28)+5)/2","v":9.3800000000000026},{"$f":"((DemonHunter_Status!L6+DemonHunter_Status!M6)*Class_Compare!$N$28)/5","v":5.4240000000000013},200,0,{"$f":"$U$1*(1+0.05*(B24/4))","v":1.2749999999999999}]
["DmHM1",23,{"$f":"(B25^2*0.7)+DemonHunter_Status!$J7*(DemonHunter_Status!$J7*Class_Compare!$D$28)/2+100","v":533.375},{"$f":"(U25)*(Class_Compare!$E$28*(50+1.5*(0.8*DemonHunter_Status!J7+0.2*DemonHunter_Status!M7)))","v":28.095825000000005},{"$f":"DemonHunter_Status!M7*(DemonHunter_Status!M7*Class_Compare!$O$28)+100","v":290.10400000000004},84.045002992220248,{"$f":"Class_Compare!$B$28*(100+1.2*(0.6*DemonHunter_Status!I7+0.2*DemonHunter_Status!K7+0.2*DemonHunter_Status!L7))","v":51.06880000000001},{"$f":"Class_Compare!$C$28*(100+1.2*(0.6*DemonHunter_Status!I7+0.2*DemonHunter_Status!K7+0.2*DemonHunter_Status!L7))","v":89.370400000000004},{"$f":"(Class_Compare!$G$28*1000)-(DemonHunter_Status!K7*5)","v":835.5},{"$f":"(Class_Compare!$I$28*1000+DemonHunter_Status!K7)/50","v":22.658000000000001},{"$f":"2+(Class_Compare!$L$28)+(DemonHunter_Status!L7/100)","v":3.49},{"$f":"(0.2*DemonHunter_Status!I7+0.8*DemonHunter_Status!M7)/250","v":7.1200000000000013E-2},{"$f":"(DemonHunter_Status!J7/25)","v":0.58000000000000029},{"$f":"Class_Compare!$H$28*(0.2*(DemonHunter_Status!K7*35))","v":184.24000000000009},{"$f":"(Class_Compare!$I$28*1000+DemonHunter_Status!K7)/1000","v":1.1329},{"$f":"(Class_Compare!$J$28*1000+DemonHunter_Status!K7+DemonHunter_Status!L7)/10","v":106.19000000000001},{"$f":"((DemonHunter_Status!M7*Class_Compare!$M$28)+5)/2","v":9.620000000000001},{"$f":"((DemonHunter_Status!L7+DemonHunter_Status!M7)*Class_Compare!$N$28)/5","v":5.6160000000000014},200,0,1.2875000000000001]
["DmHM1",24,{"$f":"(B26^2*0.7)+DemonHunter_Status!$J8*(DemonHunter_Status!$J8*Class_Compare!$D$28)/2+100","v":570.70000000000005},{"$f":"(U26)*(Class_Compare!$E$28*(50+1.5*(0.8*DemonHunter_Status!J8+0.2*DemonHunter_Status!M8)))","v":28.672800000000002},{"$f":"DemonHunter_Status!M8*(DemonHunter_Status!M8*Class_Compare!$O$28)+100","v":303.13600000000008},85.356815440289509,{"$f":"Class_Compare!$B$28*(100+1.2*(0.6*DemonHunter_Status!I8+0.2*DemonHunter_Status!K8+0.2*DemonHunter_Status!L8))","v":51.462400000000002},{"$f":"Class_Compare!$C$28*(100+1.2*(0.6*DemonHunter_Status!I8+0.2*DemonHunter_Status!K8+0.2*DemonHunter_Status!L8))","v":90.059200000000004},{"$f":"(Class_Compare!$G$28*1000)-(DemonHunter_Status!K8*5)","v":829},{"$f":"(Class_Compare!$I$28*1000+DemonHunter_Status!K8)/50","v":22.684000000000001},{"$f":"2+(Class_Compare!$L$28)+(DemonHunter_Status!L8/100)","v":3.5000000000000004},{"$f":"(0.2*DemonHunter_Status!I8+0.8*DemonHunter_Status!M8)/250","v":7.3600000000000027E-2},{"$f":"(DemonHunter_Status!J8/25)","v":0.60000000000000031},{"$f":"Class_Compare!$H$28*(0.2*(DemonHunter_Status!K8*35))","v":191.5200000000001},{"$f":"(Class_Compare!$I$28*1000+DemonHunter_Status!K8)/1000","v":1.1342000000000001},{"$f":"(Class_Compare!$J$28*1000+DemonHunter_Status!K8+DemonHunter_Status!L8)/10","v":106.42},{"$f":"((DemonHunter_Status!M8*Class_Compare!$M$28)+5)/2","v":9.860000000000003},{"$f":"((DemonHunter_Status!L8+DemonHunter_Status!M8)*Class_Compare!$N$28)/5","v":5.8080000000000016},200,0,1.3]
["DmHM1",25,{"$f":"(B27^2*0.7)+DemonHunter_Status!$J9*(DemonHunter_Status!$J9*Class_Compare!$D$28)/2+100","v":609.57500000000005},{"$f":"(U27)*(Class_Compare!$E$28*(50+1.5*(0.8*DemonHunter_Status!J9+0.2*DemonHunter_Status!M9)))","v":29.255625000000002},{"$f":"DemonHunter_Status!M9*(DemonHunter_Status!M9*Class_Compare!$O$28)+100","v":316.60000000000014},86.68936170212767,{"$f":"Class_Compare!$B$28*(100+1.2*(0.6*DemonHunter_Status!I9+0.2*DemonHunter_Status!K9+0.2*DemonHunter_Status!L9))","v":51.856000000000009},{"$f":"Class_Compare!$C$28*(100+1.2*(0.6*DemonHunter_Status!I9+0.2*DemonHunter_Status!K9+0.2*DemonHunter_Status!L9))","v":90.748000000000005},{"$f":"(Class_Compare!$G$28*1000)-(DemonHunter_Status!K9*5)","v":822.5},{"$f":"(Class_Compare!$I$28*1000+DemonHunter_Status!K9)/50","v":22.71},{"$f":"2+(Class_Compare!$L$28)+(DemonHunter_Status!L9/100)","v":3.5100000000000002},{"$f":"(0.2*DemonHunter_Status!I9+0.8*DemonHunter_Status!M9)/250","v":7.6000000000000026E-2},{"$f":"(DemonHunter_Status!J9/25)","v":0.62000000000000033},{"$f":"Class_Compare!$H$28*(0.2*(DemonHunter_Status!K9*35))","v":198.80000000000007},{"$f":"(Class_Compare!$I$28*1000+DemonHunter_Status!K9)/1000","v":1.1355},{"$f":"(Class_Compare!$J$28*1000+DemonHunter_Status!K9+DemonHunter_Status!L9)/10","v":106.65},{"$f":"((DemonHunter_Status!M9*Class_Compare!$M$28)+5)/2","v":10.100000000000003},{"$f":"((DemonHunter_Status!L9+DemonHunter_Status!M9)*Class_Compare!$N$28)/5","v":6.0000000000000018},200,0,1.3125]
["DmHM1",26,{"$f":"(B28^2*0.7)+DemonHunter_Status!$J10*(DemonHunter_Status!$J10*Class_Compare!$D$28)/2+100","v":650},{"$f":"(U28)*(Class_Compare!$E$28*(50+1.5*(0.8*DemonHunter_Status!J10+0.2*DemonHunter_Status!M10)))","v":29.844300000000004},{"$f":"DemonHunter_Status!M10*(DemonHunter_Status!M10*Class_Compare!$O$28)+100","v":330.49600000000021},88.043137254901964,{"$f":"Class_Compare!$B$28*(100+1.2*(0.6*DemonHunter_Status!I10+0.2*DemonHunter_Status!K10+0.2*DemonHunter_Status!L10))","v":52.249600000000001},{"$f":"Class_Compare!$C$28*(100+1.2*(0.6*DemonHunter_Status!I10+0.2*DemonHunter_Status!K10+0.2*DemonHunter_Status!L10))","v":91.436799999999991},{"$f":"(Class_Compare!$G$28*1000)-(DemonHunter_Status!K10*5)","v":816},{"$f":"(Class_Compare!$I$28*1000+DemonHunter_Status!K10)/50","v":22.736000000000001},{"$f":"2+(Class_Compare!$L$28)+(DemonHunter_Status!L10/100)","v":3.5200000000000005},{"$f":"(0.2*DemonHunter_Status!I10+0.8*DemonHunter_Status!M10)/250","v":7.8400000000000039E-2},{"$f":"(DemonHunter_Status!J10/25)","v":0.64000000000000024},{"$f":"Class_Compare!$H$28*(0.2*(DemonHunter_Status!K10*35))","v":206.08000000000007},{"$f":"(Class_Compare!$I$28*1000+DemonHunter_Status!K10)/1000","v":1.1368},{"$f":"(Class_Compare!$J$28*1000+DemonHunter_Status!K10+DemonHunter_Status!L10)/10","v":106.88},{"$f":"((DemonHunter_Status!M10*Class_Compare!$M$28)+5)/2","v":10.340000000000003},{"$f":"((DemonHunter_Status!L10+DemonHunter_Status!M10)*Class_Compare!$N$28)/5","v":6.1920000000000019},200,0,1.325]
["DmHM1",27,{"$f":"(B29^2*0.7)+DemonHunter_Status!$J11*(DemonHunter_Status!$J11*Class_Compare!$D$28)/2+100","v":691.97500000000002},{"$f":"(U29)*(Class_Compare!$E$28*(50+1.5*(0.8*DemonHunter_Status!J11+0.2*DemonHunter_Status!M11)))","v":30.438825000000001},{"$f":"DemonHunter_Status!M11*(DemonHunter_Status!M11*Class_Compare!$O$28)+100","v":344.82400000000024},89.418653489808534,{"$f":"Class_Compare!$B$28*(100+1.2*(0.6*DemonHunter_Status!I11+0.2*DemonHunter_Status!K11+0.2*DemonHunter_Status!L11))","v":52.643200000000007},{"$f":"Class_Compare!$C$28*(100+1.2*(0.6*DemonHunter_Status!I11+0.2*DemonHunter_Status!K11+0.2*DemonHunter_Status!L11))","v":92.125599999999991},{"$f":"(Class_Compare!$G$28*1000)-(DemonHunter_Status!K11*5)","v":809.5},{"$f":"(Class_Compare!$I$28*1000+DemonHunter_Status!K11)/50","v":22.761999999999997},{"$f":"2+(Class_Compare!$L$28)+(DemonHunter_Status!L11/100)","v":3.5300000000000002},{"$f":"(0.2*DemonHunter_Status!I11+0.8*DemonHunter_Status!M11)/250","v":8.0800000000000038E-2},{"$f":"(DemonHunter_Status!J11/25)","v":0.66000000000000025},{"$f":"Class_Compare!$H$28*(0.2*(DemonHunter_Status!K11*35))","v":213.36},{"$f":"(Class_Compare!$I$28*1000+DemonHunter_Status!K11)/1000","v":1.1380999999999999},{"$f":"(Class_Compare!$J$28*1000+DemonHunter_Status!K11+DemonHunter_Status!L11)/10","v":107.10999999999999},{"$f":"((DemonHunter_Status!M11*Class_Compare!$M$28)+5)/2","v":10.580000000000004},{"$f":"((DemonHunter_Status!L11+DemonHunter_Status!M11)*Class_Compare!$N$28)/5","v":6.3840000000000021},200,0,1.3374999999999999]
["DmHM1",28,{"$f":"(B30^2*0.7)+DemonHunter_Status!$J12*(DemonHunter_Status!$J12*Class_Compare!$D$28)/2+100","v":735.5},{"$f":"(U30)*(Class_Compare!$E$28*(50+1.5*(0.8*DemonHunter_Status!J12+0.2*DemonHunter_Status!M12)))","v":31.039200000000008},{"$f":"DemonHunter_Status!M12*(DemonHunter_Status!M12*Class_Compare!$O$28)+100","v":359.58400000000029},90.816438356164397,{"$f":"Class_Compare!$B$28*(100+1.2*(0.6*DemonHunter_Status!I12+0.2*DemonHunter_Status!K12+0.2*DemonHunter_Status!L12))","v":53.036800000000007},{"$f":"Class_Compare!$C$28*(100+1.2*(0.6*DemonHunter_Status!I12+0.2*DemonHunter_Status!K12+0.2*DemonHunter_Status!L12))","v":92.814400000000006},{"$f":"(Class_Compare!$G$28*1000)-(DemonHunter_Status!K12*5)","v":803},{"$f":"(Class_Compare!$I$28*1000+DemonHunter_Status!K12)/50","v":22.788},{"$f":"2+(Class_Compare!$L$28)+(DemonHunter_Status!L12/100)","v":3.5400000000000005},{"$f":"(0.2*DemonHunter_Status!I12+0.8*DemonHunter_Status!M12)/250","v":8.3200000000000066E-2},{"$f":"(DemonHunter_Status!J12/25)","v":0.68000000000000027},{"$f":"Class_Compare!$H$28*(0.2*(DemonHunter_Status!K12*35))","v":220.64000000000001},{"$f":"(Class_Compare!$I$28*1000+DemonHunter_Status!K12)/1000","v":1.1394000000000002},{"$f":"(Class_Compare!$J$28*1000+DemonHunter_Status!K12+DemonHunter_Status!L12)/10","v":107.34},{"$f":"((DemonHunter_Status!M12*Class_Compare!$M$28)+5)/2","v":10.820000000000006},{"$f":"((DemonHunter_Status!L12+DemonHunter_Status!M12)*Class_Compare!$N$28)/5","v":6.5760000000000032},200,0,1.35]
["DmHM1",29,{"$f":"(B31^2*0.7)+DemonHunter_Status!$J13*(DemonHunter_Status!$J13*Class_Compare!$D$28)/2+100","v":780.57500000000005},{"$f":"(U31)*(Class_Compare!$E$28*(50+1.5*(0.8*DemonHunter_Status!J13+0.2*DemonHunter_Status!M13)))","v":31.645425000000003},{"$f":"DemonHunter_Status!M13*(DemonHunter_Status!M13*Class_Compare!$O$28)+100","v":374.77600000000029},92.237037037037041,{"$f":"Class_Compare!$B$28*(100+1.2*(0.6*DemonHunter_Status!I13+0.2*DemonHunter_Status!K13+0.2*DemonHunter_Status!L13))","v":53.430400000000013},{"$f":"Class_Compare!$C$28*(100+1.2*(0.6*DemonHunter_Status!I13+0.2*DemonHunter_Status!K13+0.2*DemonHunter_Status!L13))","v":93.503200000000007},{"$f":"(Class_Compare!$G$28*1000)-(DemonHunter_Status!K13*5)","v":796.5},{"$f":"(Class_Compare!$I$28*1000+DemonHunter_Status!K13)/50","v":22.814},{"$f":"2+(Class_Compare!$L$28)+(DemonHunter_Status!L13/100)","v":3.5500000000000003},{"$f":"(0.2*DemonHunter_Status!I13+0.8*DemonHunter_Status!M13)/250","v":8.5600000000000051E-2},{"$f":"(DemonHunter_Status!J13/25)","v":0.70000000000000029},{"$f":"Class_Compare!$H$28*(0.2*(DemonHunter_Status!K13*35))","v":227.92},{"$f":"(Class_Compare!$I$28*1000+DemonHunter_Status!K13)/1000","v":1.1407},{"$f":"(Class_Compare!$J$28*1000+DemonHunter_Status!K13+DemonHunter_Status!L13)/10","v":107.57000000000001},{"$f":"((DemonHunter_Status!M13*Class_Compare!$M$28)+5)/2","v":11.060000000000006},{"$f":"((DemonHunter_Status!L13+DemonHunter_Status!M13)*Class_Compare!$N$28)/5","v":6.7680000000000033},200,0,1.3625]
["DmHM1",30,{"$f":"(B32^2*0.7)+DemonHunter_Status!$J14*(DemonHunter_Status!$J14*Class_Compare!$D$28)/2+100","v":827.2},{"$f":"(U32)*(Class_Compare!$E$28*(50+1.5*(0.8*DemonHunter_Status!J14+0.2*DemonHunter_Status!M14)))","v":32.257500000000007},{"$f":"DemonHunter_Status!M14*(DemonHunter_Status!M14*Class_Compare!$O$28)+100","v":390.40000000000038},93.681012658227843,{"$f":"Class_Compare!$B$28*(100+1.2*(0.6*DemonHunter_Status!I14+0.2*DemonHunter_Status!K14+0.2*DemonHunter_Status!L14))","v":53.824000000000005},{"$f":"Class_Compare!$C$28*(100+1.2*(0.6*DemonHunter_Status!I14+0.2*DemonHunter_Status!K14+0.2*DemonHunter_Status!L14))","v":94.191999999999993},{"$f":"(Class_Compare!$G$28*1000)-(DemonHunter_Status!K14*5)","v":790},{"$f":"(Class_Compare!$I$28*1000+DemonHunter_Status!K14)/50","v":22.84},{"$f":"2+(Class_Compare!$L$28)+(DemonHunter_Status!L14/100)","v":3.5600000000000005},{"$f":"(0.2*DemonHunter_Status!I14+0.8*DemonHunter_Status!M14)/250","v":8.800000000000005E-2},{"$f":"(DemonHunter_Status!J14/25)","v":0.72000000000000031},{"$f":"Class_Compare!$H$28*(0.2*(DemonHunter_Status!K14*35))","v":235.19999999999996},{"$f":"(Class_Compare!$I$28*1000+DemonHunter_Status!K14)/1000","v":1.1419999999999999},{"$f":"(Class_Compare!$J$28*1000+DemonHunter_Status!K14+DemonHunter_Status!L14)/10","v":107.8},{"$f":"((DemonHunter_Status!M14*Class_Compare!$M$28)+5)/2","v":11.300000000000006},{"$f":"((DemonHunter_Status!L14+DemonHunter_Status!M14)*Class_Compare!$N$28)/5","v":6.9600000000000035},200,0,1.375]
["DmHM1",31,{"$f":"(B33^2*0.7)+DemonHunter_Status!$J15*(DemonHunter_Status!$J15*Class_Compare!$D$28)/2+100","v":875.375},{"$f":"(U33)*(Class_Compare!$E$28*(50+1.5*(0.8*DemonHunter_Status!J15+0.2*DemonHunter_Status!M15)))","v":32.875425000000007},{"$f":"DemonHunter_Status!M15*(DemonHunter_Status!M15*Class_Compare!$O$28)+100","v":406.45600000000042},95.148947032546289,{"$f":"Class_Compare!$B$28*(100+1.2*(0.6*DemonHunter_Status!I15+0.2*DemonHunter_Status!K15+0.2*DemonHunter_Status!L15))","v":54.217600000000004},{"$f":"Class_Compare!$C$28*(100+1.2*(0.6*DemonHunter_Status!I15+0.2*DemonHunter_Status!K15+0.2*DemonHunter_Status!L15))","v":94.880800000000008},{"$f":"(Class_Compare!$G$28*1000)-(DemonHunter_Status!K15*5)","v":783.5},{"$f":"(Class_Compare!$I$28*1000+DemonHunter_Status!K15)/50","v":22.866},{"$f":"2+(Class_Compare!$L$28)+(DemonHunter_Status!L15/100)","v":3.5700000000000003},{"$f":"(0.2*DemonHunter_Status!I15+0.8*DemonHunter_Status!M15)/250","v":9.0400000000000064E-2},{"$f":"(DemonHunter_Status!J15/25)","v":0.74000000000000032},{"$f":"Class_Compare!$H$28*(0.2*(DemonHunter_Status!K15*35))","v":242.47999999999993},{"$f":"(Class_Compare!$I$28*1000+DemonHunter_Status!K15)/1000","v":1.1433},{"$f":"(Class_Compare!$J$28*1000+DemonHunter_Status!K15+DemonHunter_Status!L15)/10","v":108.03},{"$f":"((DemonHunter_Status!M15*Class_Compare!$M$28)+5)/2","v":11.540000000000006},{"$f":"((DemonHunter_Status!L15+DemonHunter_Status!M15)*Class_Compare!$N$28)/5","v":7.1520000000000037},200,0,1.3875]
["DmHM1",32,{"$f":"(B34^2*0.7)+DemonHunter_Status!$J16*(DemonHunter_Status!$J16*Class_Compare!$D$28)/2+100","v":925.1},{"$f":"(U34)*(Class_Compare!$E$28*(50+1.5*(0.8*DemonHunter_Status!J16+0.2*DemonHunter_Status!M16)))","v":33.499200000000002},{"$f":"DemonHunter_Status!M16*(DemonHunter_Status!M16*Class_Compare!$O$28)+100","v":422.94400000000047},96.641441441441458,{"$f":"Class_Compare!$B$28*(100+1.2*(0.6*DemonHunter_Status!I16+0.2*DemonHunter_Status!K16+0.2*DemonHunter_Status!L16))","v":54.611200000000011},{"$f":"Class_Compare!$C$28*(100+1.2*(0.6*DemonHunter_Status!I16+0.2*DemonHunter_Status!K16+0.2*DemonHunter_Status!L16))","v":95.569600000000008},{"$f":"(Class_Compare!$G$28*1000)-(DemonHunter_Status!K16*5)","v":777},{"$f":"(Class_Compare!$I$28*1000+DemonHunter_Status!K16)/50","v":22.891999999999999},{"$f":"2+(Class_Compare!$L$28)+(DemonHunter_Status!L16/100)","v":3.58},{"$f":"(0.2*DemonHunter_Status!I16+0.8*DemonHunter_Status!M16)/250","v":9.2800000000000063E-2},{"$f":"(DemonHunter_Status!J16/25)","v":0.76000000000000023},{"$f":"Class_Compare!$H$28*(0.2*(DemonHunter_Status!K16*35))","v":249.75999999999996},{"$f":"(Class_Compare!$I$28*1000+DemonHunter_Status!K16)/1000","v":1.1445999999999998},{"$f":"(Class_Compare!$J$28*1000+DemonHunter_Status!K16+DemonHunter_Status!L16)/10","v":108.25999999999999},{"$f":"((DemonHunter_Status!M16*Class_Compare!$M$28)+5)/2","v":11.780000000000006},{"$f":"((DemonHunter_Status!L16+DemonHunter_Status!M16)*Class_Compare!$N$28)/5","v":7.3440000000000039},200,0,1.4]
["DmHM1",33,{"$f":"(B35^2*0.7)+DemonHunter_Status!$J17*(DemonHunter_Status!$J17*Class_Compare!$D$28)/2+100","v":976.375},{"$f":"(U35)*(Class_Compare!$E$28*(50+1.5*(0.8*DemonHunter_Status!J17+0.2*DemonHunter_Status!M17)))","v":34.128825000000013},{"$f":"DemonHunter_Status!M17*(DemonHunter_Status!M17*Class_Compare!$O$28)+100","v":439.86400000000049},98.159117456197251,{"$f":"Class_Compare!$B$28*(100+1.2*(0.6*DemonHunter_Status!I17+0.2*DemonHunter_Status!K17+0.2*DemonHunter_Status!L17))","v":55.004800000000003},{"$f":"Class_Compare!$C$28*(100+1.2*(0.6*DemonHunter_Status!I17+0.2*DemonHunter_Status!K17+0.2*DemonHunter_Status!L17))","v":96.258399999999995},{"$f":"(Class_Compare!$G$28*1000)-(DemonHunter_Status!K17*5)","v":770.50000000000011},{"$f":"(Class_Compare!$I$28*1000+DemonHunter_Status!K17)/50","v":22.918000000000003},{"$f":"2+(Class_Compare!$L$28)+(DemonHunter_Status!L17/100)","v":3.5900000000000003},{"$f":"(0.2*DemonHunter_Status!I17+0.8*DemonHunter_Status!M17)/250","v":9.520000000000009E-2},{"$f":"(DemonHunter_Status!J17/25)","v":0.78000000000000025},{"$f":"Class_Compare!$H$28*(0.2*(DemonHunter_Status!K17*35))","v":257.03999999999996},{"$f":"(Class_Compare!$I$28*1000+DemonHunter_Status!K17)/1000","v":1.1459000000000001},{"$f":"(Class_Compare!$J$28*1000+DemonHunter_Status!K17+DemonHunter_Status!L17)/10","v":108.49000000000001},{"$f":"((DemonHunter_Status!M17*Class_Compare!$M$28)+5)/2","v":12.020000000000008},{"$f":"((DemonHunter_Status!L17+DemonHunter_Status!M17)*Class_Compare!$N$28)/5","v":7.536000000000004},200,0,1.4125000000000001]
["DmHM1",34,{"$f":"(B36^2*0.7)+DemonHunter_Status!$J18*(DemonHunter_Status!$J18*Class_Compare!$D$28)/2+100","v":1029.2},{"$f":"(U36)*(Class_Compare!$E$28*(50+1.5*(0.8*DemonHunter_Status!J18+0.2*DemonHunter_Status!M18)))","v":34.764300000000006},{"$f":"DemonHunter_Status!M18*(DemonHunter_Status!M18*Class_Compare!$O$28)+100","v":457.21600000000058},99.702617801047097,{"$f":"Class_Compare!$B$28*(100+1.2*(0.6*DemonHunter_Status!I18+0.2*DemonHunter_Status!K18+0.2*DemonHunter_Status!L18))","v":55.398400000000009},{"$f":"Class_Compare!$C$28*(100+1.2*(0.6*DemonHunter_Status!I18+0.2*DemonHunter_Status!K18+0.2*DemonHunter_Status!L18))","v":96.947199999999995},{"$f":"(Class_Compare!$G$28*1000)-(DemonHunter_Status!K18*5)","v":764.00000000000011},{"$f":"(Class_Compare!$I$28*1000+DemonHunter_Status!K18)/50","v":22.944000000000003},{"$f":"2+(Class_Compare!$L$28)+(DemonHunter_Status!L18/100)","v":3.6000000000000005},{"$f":"(0.2*DemonHunter_Status!I18+0.8*DemonHunter_Status!M18)/250","v":9.7600000000000076E-2},{"$f":"(DemonHunter_Status!J18/25)","v":0.80000000000000027},{"$f":"Class_Compare!$H$28*(0.2*(DemonHunter_Status!K18*35))","v":264.31999999999988},{"$f":"(Class_Compare!$I$28*1000+DemonHunter_Status!K18)/1000","v":1.1472},{"$f":"(Class_Compare!$J$28*1000+DemonHunter_Status!K18+DemonHunter_Status!L18)/10","v":108.72},{"$f":"((DemonHunter_Status!M18*Class_Compare!$M$28)+5)/2","v":12.260000000000009},{"$f":"((DemonHunter_Status!L18+DemonHunter_Status!M18)*Class_Compare!$N$28)/5","v":7.7280000000000042},200,0,1.425]
["DmHM1",35,{"$f":"(B37^2*0.7)+DemonHunter_Status!$J19*(DemonHunter_Status!$J19*Class_Compare!$D$28)/2+100","v":1083.575},{"$f":"(U37)*(Class_Compare!$E$28*(50+1.5*(0.8*DemonHunter_Status!J19+0.2*DemonHunter_Status!M19)))","v":35.405625000000008},{"$f":"DemonHunter_Status!M19*(DemonHunter_Status!M19*Class_Compare!$O$28)+100","v":475.00000000000063},101.27260726072608,{"$f":"Class_Compare!$B$28*(100+1.2*(0.6*DemonHunter_Status!I19+0.2*DemonHunter_Status!K19+0.2*DemonHunter_Status!L19))","v":55.792000000000009},{"$f":"Class_Compare!$C$28*(100+1.2*(0.6*DemonHunter_Status!I19+0.2*DemonHunter_Status!K19+0.2*DemonHunter_Status!L19))","v":97.63600000000001},{"$f":"(Class_Compare!$G$28*1000)-(DemonHunter_Status!K19*5)","v":757.50000000000011},{"$f":"(Class_Compare!$I$28*1000+DemonHunter_Status!K19)/50","v":22.97},{"$f":"2+(Class_Compare!$L$28)+(DemonHunter_Status!L19/100)","v":3.6100000000000003},{"$f":"(0.2*DemonHunter_Status!I19+0.8*DemonHunter_Status!M19)/250","v":0.10000000000000009},{"$f":"(DemonHunter_Status!J19/25)","v":0.82000000000000028},{"$f":"Class_Compare!$H$28*(0.2*(DemonHunter_Status!K19*35))","v":271.59999999999991},{"$f":"(Class_Compare!$I$28*1000+DemonHunter_Status!K19)/1000","v":1.1485000000000001},{"$f":"(Class_Compare!$J$28*1000+DemonHunter_Status!K19+DemonHunter_Status!L19)/10","v":108.95},{"$f":"((DemonHunter_Status!M19*Class_Compare!$M$28)+5)/2","v":12.500000000000009},{"$f":"((DemonHunter_Status!L19+DemonHunter_Status!M19)*Class_Compare!$N$28)/5","v":7.9200000000000035},200,0,1.4375]
["DmHM1",36,{"$f":"(B38^2*0.7)+DemonHunter_Status!$J20*(DemonHunter_Status!$J20*Class_Compare!$D$28)/2+100","v":1139.5},{"$f":"(U38)*(Class_Compare!$E$28*(50+1.5*(0.8*DemonHunter_Status!J20+0.2*DemonHunter_Status!M20)))","v":36.052800000000012},{"$f":"DemonHunter_Status!M20*(DemonHunter_Status!M20*Class_Compare!$O$28)+100","v":493.21600000000069},102.86977363515312,{"$f":"Class_Compare!$B$28*(100+1.2*(0.6*DemonHunter_Status!I20+0.2*DemonHunter_Status!K20+0.2*DemonHunter_Status!L20))","v":56.185600000000001},{"$f":"Class_Compare!$C$28*(100+1.2*(0.6*DemonHunter_Status!I20+0.2*DemonHunter_Status!K20+0.2*DemonHunter_Status!L20))","v":98.324799999999996},{"$f":"(Class_Compare!$G$28*1000)-(DemonHunter_Status!K20*5)","v":751.00000000000011},{"$f":"(Class_Compare!$I$28*1000+DemonHunter_Status!K20)/50","v":22.995999999999999},{"$f":"2+(Class_Compare!$L$28)+(DemonHunter_Status!L20/100)","v":3.62},{"$f":"(0.2*DemonHunter_Status!I20+0.8*DemonHunter_Status!M20)/250","v":0.10240000000000009},{"$f":"(DemonHunter_Status!J20/25)","v":0.8400000000000003},{"$f":"Class_Compare!$H$28*(0.2*(DemonHunter_Status!K20*35))","v":278.87999999999988},{"$f":"(Class_Compare!$I$28*1000+DemonHunter_Status!K20)/1000","v":1.1497999999999999},{"$f":"(Class_Compare!$J$28*1000+DemonHunter_Status!K20+DemonHunter_Status!L20)/10","v":109.17999999999999},{"$f":"((DemonHunter_Status!M20*Class_Compare!$M$28)+5)/2","v":12.740000000000009},{"$f":"((DemonHunter_Status!L20+DemonHunter_Status!M20)*Class_Compare!$N$28)/5","v":8.1120000000000054},200,0,1.45]
["DmHM1",37,{"$f":"(B39^2*0.7)+DemonHunter_Status!$J21*(DemonHunter_Status!$J21*Class_Compare!$D$28)/2+100","v":1196.9750000000001},{"$f":"(U39)*(Class_Compare!$E$28*(50+1.5*(0.8*DemonHunter_Status!J21+0.2*DemonHunter_Status!M21)))","v":36.705825000000004},{"$f":"DemonHunter_Status!M21*(DemonHunter_Status!M21*Class_Compare!$O$28)+100","v":511.86400000000071},104.49482874412357,{"$f":"Class_Compare!$B$28*(100+1.2*(0.6*DemonHunter_Status!I21+0.2*DemonHunter_Status!K21+0.2*DemonHunter_Status!L21))","v":56.579200000000007},{"$f":"Class_Compare!$C$28*(100+1.2*(0.6*DemonHunter_Status!I21+0.2*DemonHunter_Status!K21+0.2*DemonHunter_Status!L21))","v":99.013599999999997},{"$f":"(Class_Compare!$G$28*1000)-(DemonHunter_Status!K21*5)","v":744.50000000000011},{"$f":"(Class_Compare!$I$28*1000+DemonHunter_Status!K21)/50","v":23.021999999999998},{"$f":"2+(Class_Compare!$L$28)+(DemonHunter_Status!L21/100)","v":3.6300000000000003},{"$f":"(0.2*DemonHunter_Status!I21+0.8*DemonHunter_Status!M21)/250","v":0.10480000000000012},{"$f":"(DemonHunter_Status!J21/25)","v":0.86000000000000032},{"$f":"Class_Compare!$H$28*(0.2*(DemonHunter_Status!K21*35))","v":286.15999999999985},{"$f":"(Class_Compare!$I$28*1000+DemonHunter_Status!K21)/1000","v":1.1511},{"$f":"(Class_Compare!$J$28*1000+DemonHunter_Status!K21+DemonHunter_Status!L21)/10","v":109.41},{"$f":"((DemonHunter_Status!M21*Class_Compare!$M$28)+5)/2","v":12.980000000000011},{"$f":"((DemonHunter_Status!L21+DemonHunter_Status!M21)*Class_Compare!$N$28)/5","v":8.3040000000000056},200,0,1.4624999999999999]
["DmHM1",38,{"$f":"(B40^2*0.7)+DemonHunter_Status!$J22*(DemonHunter_Status!$J22*Class_Compare!$D$28)/2+100","v":1256},{"$f":"(U40)*(Class_Compare!$E$28*(50+1.5*(0.8*DemonHunter_Status!J22+0.2*DemonHunter_Status!M22)))","v":37.364700000000013},{"$f":"DemonHunter_Status!M22*(DemonHunter_Status!M22*Class_Compare!$O$28)+100","v":530.94400000000087},106.14850948509483,{"$f":"Class_Compare!$B$28*(100+1.2*(0.6*DemonHunter_Status!I22+0.2*DemonHunter_Status!K22+0.2*DemonHunter_Status!L22))","v":56.972800000000007},{"$f":"Class_Compare!$C$28*(100+1.2*(0.6*DemonHunter_Status!I22+0.2*DemonHunter_Status!K22+0.2*DemonHunter_Status!L22))","v":99.702400000000011},{"$f":"(Class_Compare!$G$28*1000)-(DemonHunter_Status!K22*5)","v":738.00000000000023},{"$f":"(Class_Compare!$I$28*1000+DemonHunter_Status!K22)/50","v":23.047999999999998},{"$f":"2+(Class_Compare!$L$28)+(DemonHunter_Status!L22/100)","v":3.6400000000000006},{"$f":"(0.2*DemonHunter_Status!I22+0.8*DemonHunter_Status!M22)/250","v":0.10720000000000011},{"$f":"(DemonHunter_Status!J22/25)","v":0.88000000000000034},{"$f":"Class_Compare!$H$28*(0.2*(DemonHunter_Status!K22*35))","v":293.43999999999983},{"$f":"(Class_Compare!$I$28*1000+DemonHunter_Status!K22)/1000","v":1.1523999999999999},{"$f":"(Class_Compare!$J$28*1000+DemonHunter_Status!K22+DemonHunter_Status!L22)/10","v":109.63999999999999},{"$f":"((DemonHunter_Status!M22*Class_Compare!$M$28)+5)/2","v":13.220000000000011},{"$f":"((DemonHunter_Status!L22+DemonHunter_Status!M22)*Class_Compare!$N$28)/5","v":8.4960000000000058},200,0,1.4750000000000001]
["DmHM1",39,{"$f":"(B41^2*0.7)+DemonHunter_Status!$J23*(DemonHunter_Status!$J23*Class_Compare!$D$28)/2+100","v":1316.575},{"$f":"(U41)*(Class_Compare!$E$28*(50+1.5*(0.8*DemonHunter_Status!J23+0.2*DemonHunter_Status!M23)))","v":38.029425000000003},{"$f":"DemonHunter_Status!M23*(DemonHunter_Status!M23*Class_Compare!$O$28)+100","v":550.45600000000081},107.8315789473684,{"$f":"Class_Compare!$B$28*(100+1.2*(0.6*DemonHunter_Status!I23+0.2*DemonHunter_Status!K23+0.2*DemonHunter_Status!L23))","v":57.366400000000013},{"$f":"Class_Compare!$C$28*(100+1.2*(0.6*DemonHunter_Status!I23+0.2*DemonHunter_Status!K23+0.2*DemonHunter_Status!L23))","v":100.39120000000001},{"$f":"(Class_Compare!$G$28*1000)-(DemonHunter_Status!K23*5)","v":731.50000000000023},{"$f":"(Class_Compare!$I$28*1000+DemonHunter_Status!K23)/50","v":23.074000000000002},{"$f":"2+(Class_Compare!$L$28)+(DemonHunter_Status!L23/100)","v":3.6500000000000004},{"$f":"(0.2*DemonHunter_Status!I23+0.8*DemonHunter_Status!M23)/250","v":0.10960000000000011},{"$f":"(DemonHunter_Status!J23/25)","v":0.90000000000000024},{"$f":"Class_Compare!$H$28*(0.2*(DemonHunter_Status!K23*35))","v":300.71999999999986},{"$f":"(Class_Compare!$I$28*1000+DemonHunter_Status!K23)/1000","v":1.1536999999999999},{"$f":"(Class_Compare!$J$28*1000+DemonHunter_Status!K23+DemonHunter_Status!L23)/10","v":109.87},{"$f":"((DemonHunter_Status!M23*Class_Compare!$M$28)+5)/2","v":13.460000000000012},{"$f":"((DemonHunter_Status!L23+DemonHunter_Status!M23)*Class_Compare!$N$28)/5","v":8.6880000000000042},200,0,1.4875]
["DmHM1",40,{"$f":"(B42^2*0.7)+DemonHunter_Status!$J24*(DemonHunter_Status!$J24*Class_Compare!$D$28)/2+100","v":1378.7},{"$f":"(U42)*(Class_Compare!$E$28*(50+1.5*(0.8*DemonHunter_Status!J24+0.2*DemonHunter_Status!M24)))","v":38.700000000000003},{"$f":"DemonHunter_Status!M24*(DemonHunter_Status!M24*Class_Compare!$O$28)+100","v":570.40000000000089},109.54482758620686,{"$f":"Class_Compare!$B$28*(100+1.2*(0.6*DemonHunter_Status!I24+0.2*DemonHunter_Status!K24+0.2*DemonHunter_Status!L24))","v":57.760000000000005},{"$f":"Class_Compare!$C$28*(100+1.2*(0.6*DemonHunter_Status!I24+0.2*DemonHunter_Status!K24+0.2*DemonHunter_Status!L24))","v":101.08},{"$f":"(Class_Compare!$G$28*1000)-(DemonHunter_Status!K24*5)","v":725.00000000000023},{"$f":"(Class_Compare!$I$28*1000+DemonHunter_Status!K24)/50","v":23.1},{"$f":"2+(Class_Compare!$L$28)+(DemonHunter_Status!L24/100)","v":3.66},{"$f":"(0.2*DemonHunter_Status!I24+0.8*DemonHunter_Status!M24)/250","v":0.11200000000000011},{"$f":"(DemonHunter_Status!J24/25)","v":0.92000000000000026},{"$f":"Class_Compare!$H$28*(0.2*(DemonHunter_Status!K24*35))","v":307.99999999999983},{"$f":"(Class_Compare!$I$28*1000+DemonHunter_Status!K24)/1000","v":1.155},{"$f":"(Class_Compare!$J$28*1000+DemonHunter_Status!K24+DemonHunter_Status!L24)/10","v":110.1},{"$f":"((DemonHunter_Status!M24*Class_Compare!$M$28)+5)/2","v":13.700000000000012},{"$f":"((DemonHunter_Status!L24+DemonHunter_Status!M24)*Class_Compare!$N$28)/5","v":8.8800000000000061},200,0,1.5]
["DmHM1",41,{"$f":"(B43^2*0.7)+DemonHunter_Status!$J25*(DemonHunter_Status!$J25*Class_Compare!$D$28)/2+100","v":1442.375},{"$f":"(U43)*(Class_Compare!$E$28*(50+1.5*(0.8*DemonHunter_Status!J25+0.2*DemonHunter_Status!M25)))","v":39.376425000000019},{"$f":"DemonHunter_Status!M25*(DemonHunter_Status!M25*Class_Compare!$O$28)+100","v":590.77600000000098},111.28907446068195,{"$f":"Class_Compare!$B$28*(100+1.2*(0.6*DemonHunter_Status!I25+0.2*DemonHunter_Status!K25+0.2*DemonHunter_Status!L25))","v":58.153600000000012},{"$f":"Class_Compare!$C$28*(100+1.2*(0.6*DemonHunter_Status!I25+0.2*DemonHunter_Status!K25+0.2*DemonHunter_Status!L25))","v":101.7688},{"$f":"(Class_Compare!$G$28*1000)-(DemonHunter_Status!K25*5)","v":718.50000000000023},{"$f":"(Class_Compare!$I$28*1000+DemonHunter_Status!K25)/50","v":23.125999999999998},{"$f":"2+(Class_Compare!$L$28)+(DemonHunter_Status!L25/100)","v":3.6700000000000004},{"$f":"(0.2*DemonHunter_Status!I25+0.8*DemonHunter_Status!M25)/250","v":0.11440000000000011},{"$f":"(DemonHunter_Status!J25/25)","v":0.94000000000000028},{"$f":"Class_Compare!$H$28*(0.2*(DemonHunter_Status!K25*35))","v":315.2799999999998},{"$f":"(Class_Compare!$I$28*1000+DemonHunter_Status!K25)/1000","v":1.1562999999999999},{"$f":"(Class_Compare!$J$28*1000+DemonHunter_Status!K25+DemonHunter_Status!L25)/10","v":110.33},{"$f":"((DemonHunter_Status!M25*Class_Compare!$M$28)+5)/2","v":13.940000000000012},{"$f":"((DemonHunter_Status!L25+DemonHunter_Status!M25)*Class_Compare!$N$28)/5","v":9.0720000000000063},200,0,1.5125000000000002]
["DmHM1",42,{"$f":"(B44^2*0.7)+DemonHunter_Status!$J26*(DemonHunter_Status!$J26*Class_Compare!$D$28)/2+100","v":1507.6000000000001},{"$f":"(U44)*(Class_Compare!$E$28*(50+1.5*(0.8*DemonHunter_Status!J26+0.2*DemonHunter_Status!M26)))","v":40.058700000000002},{"$f":"DemonHunter_Status!M26*(DemonHunter_Status!M26*Class_Compare!$O$28)+100","v":611.58400000000097},113.06516853932582,{"$f":"Class_Compare!$B$28*(100+1.2*(0.6*DemonHunter_Status!I26+0.2*DemonHunter_Status!K26+0.2*DemonHunter_Status!L26))","v":58.547200000000011},{"$f":"Class_Compare!$C$28*(100+1.2*(0.6*DemonHunter_Status!I26+0.2*DemonHunter_Status!K26+0.2*DemonHunter_Status!L26))","v":102.45760000000001},{"$f":"(Class_Compare!$G$28*1000)-(DemonHunter_Status!K26*5)","v":712.00000000000023},{"$f":"(Class_Compare!$I$28*1000+DemonHunter_Status!K26)/50","v":23.151999999999997},{"$f":"2+(Class_Compare!$L$28)+(DemonHunter_Status!L26/100)","v":3.68},{"$f":"(0.2*DemonHunter_Status!I26+0.8*DemonHunter_Status!M26)/250","v":0.11680000000000014},{"$f":"(DemonHunter_Status!J26/25)","v":0.9600000000000003},{"$f":"Class_Compare!$H$28*(0.2*(DemonHunter_Status!K26*35))","v":322.55999999999983},{"$f":"(Class_Compare!$I$28*1000+DemonHunter_Status!K26)/1000","v":1.1576},{"$f":"(Class_Compare!$J$28*1000+DemonHunter_Status!K26+DemonHunter_Status!L26)/10","v":110.55999999999999},{"$f":"((DemonHunter_Status!M26*Class_Compare!$M$28)+5)/2","v":14.180000000000014},{"$f":"((DemonHunter_Status!L26+DemonHunter_Status!M26)*Class_Compare!$N$28)/5","v":9.2640000000000065},200,0,1.5249999999999999]
["DmHM1",43,{"$f":"(B45^2*0.7)+DemonHunter_Status!$J27*(DemonHunter_Status!$J27*Class_Compare!$D$28)/2+100","v":1574.375},{"$f":"(U45)*(Class_Compare!$E$28*(50+1.5*(0.8*DemonHunter_Status!J27+0.2*DemonHunter_Status!M27)))","v":40.746825000000015},{"$f":"DemonHunter_Status!M27*(DemonHunter_Status!M27*Class_Compare!$O$28)+100","v":632.82400000000121},114.87399007795887,{"$f":"Class_Compare!$B$28*(100+1.2*(0.6*DemonHunter_Status!I27+0.2*DemonHunter_Status!K27+0.2*DemonHunter_Status!L27))","v":58.940800000000017},{"$f":"Class_Compare!$C$28*(100+1.2*(0.6*DemonHunter_Status!I27+0.2*DemonHunter_Status!K27+0.2*DemonHunter_Status!L27))","v":103.14640000000001},{"$f":"(Class_Compare!$G$28*1000)-(DemonHunter_Status!K27*5)","v":705.50000000000023},{"$f":"(Class_Compare!$I$28*1000+DemonHunter_Status!K27)/50","v":23.177999999999997},{"$f":"2+(Class_Compare!$L$28)+(DemonHunter_Status!L27/100)","v":3.6900000000000004},{"$f":"(0.2*DemonHunter_Status!I27+0.8*DemonHunter_Status!M27)/250","v":0.11920000000000014},{"$f":"(DemonHunter_Status!J27/25)","v":0.98000000000000032},{"$f":"Class_Compare!$H$28*(0.2*(DemonHunter_Status!K27*35))","v":329.8399999999998},{"$f":"(Class_Compare!$I$28*1000+DemonHunter_Status!K27)/1000","v":1.1588999999999998},{"$f":"(Class_Compare!$J$28*1000+DemonHunter_Status!K27+DemonHunter_Status!L27)/10","v":110.78999999999999},{"$f":"((DemonHunter_Status!M27*Class_Compare!$M$28)+5)/2","v":14.420000000000014},{"$f":"((DemonHunter_Status!L27+DemonHunter_Status!M27)*Class_Compare!$N$28)/5","v":9.4560000000000048},200,0,1.5375000000000001]
["DmHM1",44,{"$f":"(B46^2*0.7)+DemonHunter_Status!$J28*(DemonHunter_Status!$J28*Class_Compare!$D$28)/2+100","v":1642.6999999999998},{"$f":"(U46)*(Class_Compare!$E$28*(50+1.5*(0.8*DemonHunter_Status!J28+0.2*DemonHunter_Status!M28)))","v":41.44080000000001},{"$f":"DemonHunter_Status!M28*(DemonHunter_Status!M28*Class_Compare!$O$28)+100","v":654.49600000000123},116.71645207439195,{"$f":"Class_Compare!$B$28*(100+1.2*(0.6*DemonHunter_Status!I28+0.2*DemonHunter_Status!K28+0.2*DemonHunter_Status!L28))","v":59.334400000000009},{"$f":"Class_Compare!$C$28*(100+1.2*(0.6*DemonHunter_Status!I28+0.2*DemonHunter_Status!K28+0.2*DemonHunter_Status!L28))","v":103.8352},{"$f":"(Class_Compare!$G$28*1000)-(DemonHunter_Status!K28*5)","v":699.00000000000023},{"$f":"(Class_Compare!$I$28*1000+DemonHunter_Status!K28)/50","v":23.204000000000001},{"$f":"2+(Class_Compare!$L$28)+(DemonHunter_Status!L28/100)","v":3.7},{"$f":"(0.2*DemonHunter_Status!I28+0.8*DemonHunter_Status!M28)/250","v":0.12160000000000014},{"$f":"(DemonHunter_Status!J28/25)","v":1.0000000000000002},{"$f":"Class_Compare!$H$28*(0.2*(DemonHunter_Status!K28*35))","v":337.11999999999972},{"$f":"(Class_Compare!$I$28*1000+DemonHunter_Status!K28)/1000","v":1.1602000000000001},{"$f":"(Class_Compare!$J$28*1000+DemonHunter_Status!K28+DemonHunter_Status!L28)/10","v":111.02000000000001},{"$f":"((DemonHunter_Status!M28*Class_Compare!$M$28)+5)/2","v":14.660000000000014},{"$f":"((DemonHunter_Status!L28+DemonHunter_Status!M28)*Class_Compare!$N$28)/5","v":9.6480000000000068},200,0,1.55]
["DmHM1",45,{"$f":"(B47^2*0.7)+DemonHunter_Status!$J29*(DemonHunter_Status!$J29*Class_Compare!$D$28)/2+100","v":1712.575},{"$f":"(U47)*(Class_Compare!$E$28*(50+1.5*(0.8*DemonHunter_Status!J29+0.2*DemonHunter_Status!M29)))","v":42.140625000000007},{"$f":"DemonHunter_Status!M29*(DemonHunter_Status!M29*Class_Compare!$O$28)+100","v":676.60000000000127},118.59350180505409,{"$f":"Class_Compare!$B$28*(100+1.2*(0.6*DemonHunter_Status!I29+0.2*DemonHunter_Status!K29+0.2*DemonHunter_Status!L29))","v":59.728000000000002},{"$f":"Class_Compare!$C$28*(100+1.2*(0.6*DemonHunter_Status!I29+0.2*DemonHunter_Status!K29+0.2*DemonHunter_Status!L29))","v":104.52399999999999},{"$f":"(Class_Compare!$G$28*1000)-(DemonHunter_Status!K29*5)","v":692.50000000000023},{"$f":"(Class_Compare!$I$28*1000+DemonHunter_Status!K29)/50","v":23.23},{"$f":"2+(Class_Compare!$L$28)+(DemonHunter_Status!L29/100)","v":3.7100000000000004},{"$f":"(0.2*DemonHunter_Status!I29+0.8*DemonHunter_Status!M29)/250","v":0.12400000000000014},{"$f":"(DemonHunter_Status!J29/25)","v":1.0200000000000002},{"$f":"Class_Compare!$H$28*(0.2*(DemonHunter_Status!K29*35))","v":344.39999999999975},{"$f":"(Class_Compare!$I$28*1000+DemonHunter_Status!K29)/1000","v":1.1615},{"$f":"(Class_Compare!$J$28*1000+DemonHunter_Status!K29+DemonHunter_Status!L29)/10","v":111.25},{"$f":"((DemonHunter_Status!M29*Class_Compare!$M$28)+5)/2","v":14.900000000000015},{"$f":"((DemonHunter_Status!L29+DemonHunter_Status!M29)*Class_Compare!$N$28)/5","v":9.840000000000007},200,0,1.5625]
["DmHM1",46,{"$f":"(B48^2*0.7)+DemonHunter_Status!$J30*(DemonHunter_Status!$J30*Class_Compare!$D$28)/2+100","v":1784},{"$f":"(U48)*(Class_Compare!$E$28*(50+1.5*(0.8*DemonHunter_Status!J30+0.2*DemonHunter_Status!M30)))","v":42.846300000000014},{"$f":"DemonHunter_Status!M30*(DemonHunter_Status!M30*Class_Compare!$O$28)+100","v":699.13600000000145},120.50612244897955,{"$f":"Class_Compare!$B$28*(100+1.2*(0.6*DemonHunter_Status!I30+0.2*DemonHunter_Status!K30+0.2*DemonHunter_Status!L30))","v":60.121600000000015},{"$f":"Class_Compare!$C$28*(100+1.2*(0.6*DemonHunter_Status!I30+0.2*DemonHunter_Status!K30+0.2*DemonHunter_Status!L30))","v":105.21280000000002},{"$f":"(Class_Compare!$G$28*1000)-(DemonHunter_Status!K30*5)","v":686.00000000000023},{"$f":"(Class_Compare!$I$28*1000+DemonHunter_Status!K30)/50","v":23.256},{"$f":"2+(Class_Compare!$L$28)+(DemonHunter_Status!L30/100)","v":3.72},{"$f":"(0.2*DemonHunter_Status!I30+0.8*DemonHunter_Status!M30)/250","v":0.12640000000000015},{"$f":"(DemonHunter_Status!J30/25)","v":1.0400000000000003},{"$f":"Class_Compare!$H$28*(0.2*(DemonHunter_Status!K30*35))","v":351.67999999999978},{"$f":"(Class_Compare!$I$28*1000+DemonHunter_Status!K30)/1000","v":1.1628000000000001},{"$f":"(Class_Compare!$J$28*1000+DemonHunter_Status!K30+DemonHunter_Status!L30)/10","v":111.47999999999999},{"$f":"((DemonHunter_Status!M30*Class_Compare!$M$28)+5)/2","v":15.140000000000015},{"$f":"((DemonHunter_Status!L30+DemonHunter_Status!M30)*Class_Compare!$N$28)/5","v":10.032000000000007},200,0,1.5750000000000002]
["DmHM1",47,{"$f":"(B49^2*0.7)+DemonHunter_Status!$J31*(DemonHunter_Status!$J31*Class_Compare!$D$28)/2+100","v":1856.9750000000001},{"$f":"(U49)*(Class_Compare!$E$28*(50+1.5*(0.8*DemonHunter_Status!J31+0.2*DemonHunter_Status!M31)))","v":43.557825000000008},{"$f":"DemonHunter_Status!M31*(DemonHunter_Status!M31*Class_Compare!$O$28)+100","v":722.10400000000141},122.45533480500366,{"$f":"Class_Compare!$B$28*(100+1.2*(0.6*DemonHunter_Status!I31+0.2*DemonHunter_Status!K31+0.2*DemonHunter_Status!L31))","v":60.515200000000007},{"$f":"Class_Compare!$C$28*(100+1.2*(0.6*DemonHunter_Status!I31+0.2*DemonHunter_Status!K31+0.2*DemonHunter_Status!L31))","v":105.9016},{"$f":"(Class_Compare!$G$28*1000)-(DemonHunter_Status!K31*5)","v":679.50000000000023},{"$f":"(Class_Compare!$I$28*1000+DemonHunter_Status!K31)/50","v":23.281999999999996},{"$f":"2+(Class_Compare!$L$28)+(DemonHunter_Status!L31/100)","v":3.7300000000000004},{"$f":"(0.2*DemonHunter_Status!I31+0.8*DemonHunter_Status!M31)/250","v":0.12880000000000019},{"$f":"(DemonHunter_Status!J31/25)","v":1.0600000000000003},{"$f":"Class_Compare!$H$28*(0.2*(DemonHunter_Status!K31*35))","v":358.95999999999975},{"$f":"(Class_Compare!$I$28*1000+DemonHunter_Status!K31)/1000","v":1.1640999999999999},{"$f":"(Class_Compare!$J$28*1000+DemonHunter_Status!K31+DemonHunter_Status!L31)/10","v":111.71},{"$f":"((DemonHunter_Status!M31*Class_Compare!$M$28)+5)/2","v":15.380000000000017},{"$f":"((DemonHunter_Status!L31+DemonHunter_Status!M31)*Class_Compare!$N$28)/5","v":10.224000000000006},200,0,1.5874999999999999]
["DmHM1",48,{"$f":"(B50^2*0.7)+DemonHunter_Status!$J32*(DemonHunter_Status!$J32*Class_Compare!$D$28)/2+100","v":1931.5},{"$f":"(U50)*(Class_Compare!$E$28*(50+1.5*(0.8*DemonHunter_Status!J32+0.2*DemonHunter_Status!M32)))","v":44.275200000000012},{"$f":"DemonHunter_Status!M32*(DemonHunter_Status!M32*Class_Compare!$O$28)+100","v":745.50400000000161},124.44219910846952,{"$f":"Class_Compare!$B$28*(100+1.2*(0.6*DemonHunter_Status!I32+0.2*DemonHunter_Status!K32+0.2*DemonHunter_Status!L32))","v":60.908800000000014},{"$f":"Class_Compare!$C$28*(100+1.2*(0.6*DemonHunter_Status!I32+0.2*DemonHunter_Status!K32+0.2*DemonHunter_Status!L32))","v":106.5904},{"$f":"(Class_Compare!$G$28*1000)-(DemonHunter_Status!K32*5)","v":673.00000000000023},{"$f":"(Class_Compare!$I$28*1000+DemonHunter_Status!K32)/50","v":23.307999999999996},{"$f":"2+(Class_Compare!$L$28)+(DemonHunter_Status!L32/100)","v":3.74},{"$f":"(0.2*DemonHunter_Status!I32+0.8*DemonHunter_Status!M32)/250","v":0.13120000000000015},{"$f":"(DemonHunter_Status!J32/25)","v":1.0800000000000003},{"$f":"Class_Compare!$H$28*(0.2*(DemonHunter_Status!K32*35))","v":366.23999999999978},{"$f":"(Class_Compare!$I$28*1000+DemonHunter_Status!K32)/1000","v":1.1653999999999998},{"$f":"(Class_Compare!$J$28*1000+DemonHunter_Status!K32+DemonHunter_Status!L32)/10","v":111.93999999999998},{"$f":"((DemonHunter_Status!M32*Class_Compare!$M$28)+5)/2","v":15.620000000000017},{"$f":"((DemonHunter_Status!L32+DemonHunter_Status!M32)*Class_Compare!$N$28)/5","v":10.416000000000007},200,0,1.6]
["DmHM1",49,{"$f":"(B51^2*0.7)+DemonHunter_Status!$J33*(DemonHunter_Status!$J33*Class_Compare!$D$28)/2+100","v":2007.5749999999998},{"$f":"(U51)*(Class_Compare!$E$28*(50+1.5*(0.8*DemonHunter_Status!J33+0.2*DemonHunter_Status!M33)))","v":44.998425000000012},{"$f":"DemonHunter_Status!M33*(DemonHunter_Status!M33*Class_Compare!$O$28)+100","v":769.3360000000016},126.4678169542385,{"$f":"Class_Compare!$B$28*(100+1.2*(0.6*DemonHunter_Status!I33+0.2*DemonHunter_Status!K33+0.2*DemonHunter_Status!L33))","v":61.302400000000006},{"$f":"Class_Compare!$C$28*(100+1.2*(0.6*DemonHunter_Status!I33+0.2*DemonHunter_Status!K33+0.2*DemonHunter_Status!L33))","v":107.27919999999999},{"$f":"(Class_Compare!$G$28*1000)-(DemonHunter_Status!K33*5)","v":666.50000000000023},{"$f":"(Class_Compare!$I$28*1000+DemonHunter_Status!K33)/50","v":23.334},{"$f":"2+(Class_Compare!$L$28)+(DemonHunter_Status!L33/100)","v":3.7500000000000004},{"$f":"(0.2*DemonHunter_Status!I33+0.8*DemonHunter_Status!M33)/250","v":0.13360000000000016},{"$f":"(DemonHunter_Status!J33/25)","v":1.1000000000000003},{"$f":"Class_Compare!$H$28*(0.2*(DemonHunter_Status!K33*35))","v":373.51999999999975},{"$f":"(Class_Compare!$I$28*1000+DemonHunter_Status!K33)/1000","v":1.1667000000000001},{"$f":"(Class_Compare!$J$28*1000+DemonHunter_Status!K33+DemonHunter_Status!L33)/10","v":112.17},{"$f":"((DemonHunter_Status!M33*Class_Compare!$M$28)+5)/2","v":15.860000000000017},{"$f":"((DemonHunter_Status!L33+DemonHunter_Status!M33)*Class_Compare!$N$28)/5","v":10.608000000000008},200,0,1.6125]
["DmHM1",50,{"$f":"(B52^2*0.7)+DemonHunter_Status!$J34*(DemonHunter_Status!$J34*Class_Compare!$D$28)/2+100","v":2085.1999999999998},{"$f":"(U52)*(Class_Compare!$E$28*(50+1.5*(0.8*DemonHunter_Status!J34+0.2*DemonHunter_Status!M34)))","v":45.727500000000006},{"$f":"DemonHunter_Status!M34*(DemonHunter_Status!M34*Class_Compare!$O$28)+100","v":793.60000000000161},128.5333333333333,{"$f":"Class_Compare!$B$28*(100+1.2*(0.6*DemonHunter_Status!I34+0.2*DemonHunter_Status!K34+0.2*DemonHunter_Status!L34))","v":61.696000000000005},{"$f":"Class_Compare!$C$28*(100+1.2*(0.6*DemonHunter_Status!I34+0.2*DemonHunter_Status!K34+0.2*DemonHunter_Status!L34))","v":107.968},{"$f":"(Class_Compare!$G$28*1000)-(DemonHunter_Status!K34*5)","v":660.00000000000023},{"$f":"(Class_Compare!$I$28*1000+DemonHunter_Status!K34)/50","v":23.36},{"$f":"2+(Class_Compare!$L$28)+(DemonHunter_Status!L34/100)","v":3.7600000000000002},{"$f":"(0.2*DemonHunter_Status!I34+0.8*DemonHunter_Status!M34)/250","v":0.13600000000000018},{"$f":"(DemonHunter_Status!J34/25)","v":1.1200000000000003},{"$f":"Class_Compare!$H$28*(0.2*(DemonHunter_Status!K34*35))","v":380.79999999999973},{"$f":"(Class_Compare!$I$28*1000+DemonHunter_Status!K34)/1000","v":1.1679999999999999},{"$f":"(Class_Compare!$J$28*1000+DemonHunter_Status!K34+DemonHunter_Status!L34)/10","v":112.4},{"$f":"((DemonHunter_Status!M34*Class_Compare!$M$28)+5)/2","v":16.100000000000016},{"$f":"((DemonHunter_Status!L34+DemonHunter_Status!M34)*Class_Compare!$N$28)/5","v":10.800000000000008},200,0,1.625]
["클래스","DmHM2"]
["DmHM2",21,463.37500000000006,26.959425000000003,265.33600000000001,81.481673541543913,50.281600000000005,87.992800000000003,848.49999999999989,22.605999999999998,3.47,6.6400000000000001E-2,0.54000000000000026,169.68000000000009,1.1302999999999999,105.72999999999999,9.14,13.080000000000004,200,0]
["DmHM2",22,497.6,27.524699999999999,277.50400000000008,82.753444180522592,50.675200000000011,88.681600000000003,841.99999999999989,22.631999999999998,3.4800000000000004,6.8800000000000014E-2,0.56000000000000028,176.96000000000009,1.1315999999999999,105.96,9.3800000000000026,13.560000000000004,200,0]
["DmHM2",23,533.375,28.095825000000005,290.10400000000004,84.045002992220248,51.06880000000001,89.370400000000004,835.5,22.658000000000001,3.49,7.1200000000000013E-2,0.58000000000000029,184.24000000000009,1.1329,106.19000000000001,9.620000000000001,14.040000000000004,200,0]
["DmHM2",24,570.70000000000005,28.672800000000002,303.13600000000008,85.356815440289509,51.462400000000002,90.059200000000004,829,22.684000000000001,3.5000000000000004,7.3600000000000027E-2,0.60000000000000031,191.5200000000001,1.1342000000000001,106.42,9.860000000000003,14.520000000000005,200,0]
["DmHM2",25,609.57500000000005,29.255625000000002,316.60000000000014,86.68936170212767,51.856000000000009,90.748000000000005,822.5,22.71,3.5100000000000002,7.6000000000000026E-2,0.62000000000000033,198.80000000000007,1.1355,106.65,10.100000000000003,15.000000000000005,200,0]
["DmHM2",26,650,29.844300000000004,330.49600000000021,88.043137254901964,52.249600000000001,91.436799999999991,816,22.736000000000001,3.5200000000000005,7.8400000000000039E-2,0.64000000000000024,206.08000000000007,1.1368,106.88,10.340000000000003,15.480000000000006,200,0]
["DmHM2",27,691.97500000000002,30.438825000000001,344.82400000000024,89.418653489808534,52.643200000000007,92.125599999999991,809.5,22.761999999999997,3.5300000000000002,8.0800000000000038E-2,0.66000000000000025,213.36,1.1380999999999999,107.10999999999999,10.580000000000004,15.960000000000006,200,0]
["DmHM2",28,735.5,31.039200000000008,359.58400000000029,90.816438356164397,53.036800000000007,92.814400000000006,803,22.788,3.5400000000000005,8.3200000000000066E-2,0.68000000000000027,220.64000000000001,1.1394000000000002,107.34,10.820000000000006,16.440000000000008,200,0]
["DmHM2",29,780.57500000000005,31.645425000000003,374.77600000000029,92.237037037037041,53.430400000000013,93.503200000000007,796.5,22.814,3.5500000000000003,8.5600000000000051E-2,0.70000000000000029,227.92,1.1407,107.57000000000001,11.060000000000006,16.920000000000009,200,0]
["DmHM2",30,827.2,32.257500000000007,390.40000000000038,93.681012658227843,53.824000000000005,94.191999999999993,790,22.84,3.5600000000000005,8.800000000000005E-2,0.72000000000000031,235.19999999999996,1.1419999999999999,107.8,11.300000000000006,17.400000000000009,200,0]
["DmHM2",31,875.375,32.875425000000007,406.45600000000042,95.148947032546289,54.217600000000004,94.880800000000008,783.5,22.866,3.5700000000000003,9.0400000000000064E-2,0.74000000000000032,242.47999999999993,1.1433,108.03,11.540000000000006,17.88000000000001,200,0]
["DmHM2",32,925.1,33.499200000000002,422.94400000000047,96.641441441441458,54.611200000000011,95.569600000000008,777,22.891999999999999,3.58,9.2800000000000063E-2,0.76000000000000023,249.75999999999996,1.1445999999999998,108.25999999999999,11.780000000000006,18.36000000000001,200,0]
["DmHM2",33,976.375,34.128825000000013,439.86400000000049,98.159117456197251,55.004800000000003,96.258399999999995,770.50000000000011,22.918000000000003,3.5900000000000003,9.520000000000009E-2,0.78000000000000025,257.03999999999996,1.1459000000000001,108.49000000000001,12.020000000000008,18.840000000000011,200,0]
["DmHM2",34,1029.2,34.764300000000006,457.21600000000058,99.702617801047097,55.398400000000009,96.947199999999995,764.00000000000011,22.944000000000003,3.6000000000000005,9.7600000000000076E-2,0.80000000000000027,264.31999999999988,1.1472,108.72,12.260000000000009,19.320000000000011,200,0]
["DmHM2",35,1083.575,35.405625000000008,475.00000000000063,101.27260726072608,55.792000000000009,97.63600000000001,757.50000000000011,22.97,3.6100000000000003,0.10000000000000009,0.82000000000000028,271.59999999999991,1.1485000000000001,108.95,12.500000000000009,19.800000000000008,200,0]
["DmHM2",36,1139.5,36.052800000000012,493.21600000000069,102.86977363515312,56.185600000000001,98.324799999999996,751.00000000000011,22.995999999999999,3.62,0.10240000000000009,0.8400000000000003,278.87999999999988,1.1497999999999999,109.17999999999999,12.740000000000009,20.280000000000012,200,0]
["DmHM2",37,1196.9750000000001,36.705825000000004,511.86400000000071,104.49482874412357,56.579200000000007,99.013599999999997,744.50000000000011,23.021999999999998,3.6300000000000003,0.10480000000000012,0.86000000000000032,286.15999999999985,1.1511,109.41,12.980000000000011,20.760000000000012,200,0]
["DmHM2",38,1256,37.364700000000013,530.94400000000087,106.14850948509483,56.972800000000007,99.702400000000011,738.00000000000023,23.047999999999998,3.6400000000000006,0.10720000000000011,0.88000000000000034,293.43999999999983,1.1523999999999999,109.63999999999999,13.220000000000011,21.240000000000013,200,0]
["DmHM2",39,1316.575,38.029425000000003,550.45600000000081,107.8315789473684,57.366400000000013,100.39120000000001,731.50000000000023,23.074000000000002,3.6500000000000004,0.10960000000000011,0.90000000000000024,300.71999999999986,1.1536999999999999,109.87,13.460000000000012,21.72000000000001,200,0]
["DmHM2",40,1378.7,38.700000000000003,570.40000000000089,109.54482758620686,57.760000000000005,101.08,725.00000000000023,23.1,3.66,0.11200000000000011,0.92000000000000026,307.99999999999983,1.155,110.1,13.700000000000012,22.200000000000014,200,0]
["DmHM2",41,1442.375,39.376425000000019,590.77600000000098,111.28907446068195,58.153600000000012,101.7688,718.50000000000023,23.125999999999998,3.6700000000000004,0.11440000000000011,0.94000000000000028,315.2799999999998,1.1562999999999999,110.33,13.940000000000012,22.680000000000014,200,0]
["DmHM2",42,1507.6000000000001,40.058700000000002,611.58400000000097,113.06516853932582,58.547200000000011,102.45760000000001,712.00000000000023,23.151999999999997,3.68,0.11680000000000014,0.9600000000000003,322.55999999999983,1.1576,110.55999999999999,14.180000000000014,23.160000000000014,200,0]
["DmHM2",43,1574.375,40.746825000000015,632.82400000000121,114.87399007795887,58.940800000000017,103.14640000000001,705.50000000000023,23.177999999999997,3.6900000000000004,0.11920000000000014,0.98000000000000032,329.8399999999998,1.1588999999999998,110.78999999999999,14.420000000000014,23.640000000000011,200,0]
["DmHM2",44,1642.6999999999998,41.44080000000001,654.49600000000123,116.71645207439195,59.334400000000009,103.8352,699.00000000000023,23.204000000000001,3.7,0.12160000000000014,1.0000000000000002,337.11999999999972,1.1602000000000001,111.02000000000001,14.660000000000014,24.120000000000015,200,0]
["DmHM2",45,1712.575,42.140625000000007,676.60000000000127,118.59350180505409,59.728000000000002,104.52399999999999,692.50000000000023,23.23,3.7100000000000004,0.12400000000000014,1.0200000000000002,344.39999999999975,1.1615,111.25,14.900000000000015,24.600000000000016,200,0]
["DmHM2",46,1784,42.846300000000014,699.13600000000145,120.50612244897955,60.121600000000015,105.21280000000002,686.00000000000023,23.256,3.72,0.12640000000000015,1.0400000000000003,351.67999999999978,1.1628000000000001,111.47999999999999,15.140000000000015,25.080000000000016,200,0]
["DmHM2",47,1856.9750000000001,43.557825000000008,722.10400000000141,122.45533480500366,60.515200000000007,105.9016,679.50000000000023,23.281999999999996,3.7300000000000004,0.12880000000000019,1.0600000000000003,358.95999999999975,1.1640999999999999,111.71,15.380000000000017,25.560000000000013,200,0]
["DmHM2",48,1931.5,44.275200000000012,745.50400000000161,124.44219910846952,60.908800000000014,106.5904,673.00000000000023,23.307999999999996,3.74,0.13120000000000015,1.0800000000000003,366.23999999999978,1.1653999999999998,111.93999999999998,15.620000000000017,26.040000000000017,200,0]
["DmHM2",49,2007.5749999999998,44.998425000000012,769.3360000000016,126.4678169542385,61.302400000000006,107.27919999999999,666.50000000000023,23.334,3.7500000000000004,0.13360000000000016,1.1000000000000003,373.51999999999975,1.1667000000000001,112.17,15.860000000000017,26.520000000000017,200,0]
["DmHM2",50,2085.1999999999998,45.727500000000006,793.60000000000161,128.5333333333333,61.696000000000005,107.968,660.00000000000023,23.36,3.7600000000000002,0.13600000000000018,1.1200000000000003,380.79999999999973,1.1679999999999999,112.4,16.100000000000016,27.000000000000018,200,0]

{"sheet":"Archon_Status","index":9,"n_rows":44,"n_cols":20,"rows_kept":44,"cut":false,"hidden":false,"merged":[]}
["초기시작",6,13,6,5,10,null,null,0.6,1.3,0.6,0.5,1,null,null,1,1,0.5,0.2,0.3]
["Archon",{"$f":"VLOOKUP($A2,Class_Status!$B$3:$G$25,2,0)","v":0.5},{"$f":"VLOOKUP($A2,Class_Status!$B$3:$G$25,3,0)","v":0.8},{"$f":"VLOOKUP($A2,Class_Status!$B$3:$G$25,4,0)","v":0.5},{"$f":"VLOOKUP($A2,Class_Status!$B$3:$G$25,5,0)","v":0.4},{"$f":"VLOOKUP($A2,Class_Status!$B$3:$G$25,6,0)","v":0.8},null,"ArchM1",{"$f":"VLOOKUP($H2,Class_Status!$B$3:$G$25,2,0)","v":0.6},{"$f":"VLOOKUP($H2,Class_Status!$B$3:$G$25,3,0)","v":1.3},{"$f":"VLOOKUP($H2,Class_Status!$B$3:$G$25,4,0)","v":0.6},{"$f":"VLOOKUP($H2,Class_Status!$B$3:$G$25,5,0)","v":0.5},{"$f":"VLOOKUP($H2,Class_Status!$B$3:$G$25,6,0)","v":1},null,"ArchM2",{"$f":"VLOOKUP($H2,Class_Status!$B$3:$G$25,2,0)","v":0.6},{"$f":"VLOOKUP($H2,Class_Status!$B$3:$G$25,3,0)","v":1.3},{"$f":"VLOOKUP($H2,Class_Status!$B$3:$G$25,4,0)","v":0.6},{"$f":"VLOOKUP($H2,Class_Status!$B$3:$G$25,5,0)","v":0.5},{"$f":"VLOOKUP($H2,Class_Status!$B$3:$G$25,6,0)","v":1}]
["Archon",{"$f":"SUM(B1:B2)","v":6.5},{"$f":"SUM(C1:C2)","v":13.8},{"$f":"SUM(D1:D2)","v":6.5},{"$f":"SUM(E1:E2)","v":5.4},{"$f":"SUM(F1:F2)","v":10.8},null,"ArchM1",{"$f":"B24","v":16},{"$f":"C24","v":29.000000000000014},16,13.000000000000007,26.000000000000014,null,"ArchM2",{"$f":"B24","v":16},{"$f":"C24","v":29.000000000000014},{"$f":"D24","v":16},{"$f":"E24","v":13.000000000000007},{"$f":"F24","v":26.000000000000014}]
["Lvl","P_Str","P_Sta","P_Agil","P_Int","P_Wis",null,"Lvl","P_Str","P_Sta","P_Agil","P_Int","P_Wis",null,"Lvl","P_Str","P_Sta","P_Agil","P_Int","P_Wis"]
[1,{"$f":"B3","v":6.5},{"$f":"C3","v":13.8},{"$f":"D3","v":6.5},{"$f":"E3","v":5.4},{"$f":"F3","v":10.8},null,21,{"$f":"B24+I$2","v":16.600000000000001},{"$f":"C24+J$2","v":30.300000000000015},{"$f":"D24+K$2","v":16.600000000000001},{"$f":"E24+L$2","v":13.500000000000007},{"$f":"F24+M$2","v":27.000000000000014},null,21,{"$f":"B24+P$2","v":16.600000000000001},{"$f":"C24+Q$2","v":30.300000000000015},{"$f":"D24+R$2","v":16.600000000000001},{"$f":"E24+S$2","v":13.500000000000007},{"$f":"F24+T$2","v":27.000000000000014}]
[2,{"$f":"B5+B$2","v":7},{"$f":"C5+C$2","v":14.600000000000001},{"$f":"D5+D$2","v":7},{"$f":"E5+E$2","v":5.8000000000000007},{"$f":"F5+F$2","v":11.600000000000001},null,22,{"$f":"I5+I$2","v":17.200000000000003},{"$f":"J5+J$2","v":31.600000000000016},{"$f":"K5+K$2","v":17.200000000000003},{"$f":"L5+L$2","v":14.000000000000007},{"$f":"M5+M$2","v":28.000000000000014},null,22,{"$f":"P5+P$2","v":17.200000000000003},{"$f":"Q5+Q$2","v":31.600000000000016},{"$f":"R5+R$2","v":17.200000000000003},{"$f":"S5+S$2","v":14.000000000000007},{"$f":"T5+T$2","v":28.000000000000014}]
[3,{"$f":"B6+B$2","v":7.5},{"$f":"C6+C$2","v":15.400000000000002},7.5,6.2000000000000011,12.400000000000002,null,23,{"$f":"I6+I$2","v":17.800000000000004},{"$f":"J6+J$2","v":32.900000000000013},{"$f":"K6+K$2","v":17.800000000000004},{"$f":"L6+L$2","v":14.500000000000007},{"$f":"M6+M$2","v":29.000000000000014},null,23,{"$f":"P6+P$2","v":17.800000000000004},{"$f":"Q6+Q$2","v":32.900000000000013},{"$f":"R6+R$2","v":17.800000000000004},{"$f":"S6+S$2","v":14.500000000000007},{"$f":"T6+T$2","v":29.000000000000014}]
[4,8,16.200000000000003,8,6.6000000000000014,13.200000000000003,null,24,18.400000000000006,34.20000000000001,18.400000000000006,15.000000000000007,30.000000000000014,null,24,18.400000000000006,34.20000000000001,18.400000000000006,15.000000000000007,30.000000000000014]
[5,8.5,17.000000000000004,8.5,7.0000000000000018,14.000000000000004,null,25,19.000000000000007,35.500000000000007,19.000000000000007,15.500000000000007,31.000000000000014,null,25,19.000000000000007,35.500000000000007,19.000000000000007,15.500000000000007,31.000000000000014]
[6,9,17.800000000000004,9,7.4000000000000021,14.800000000000004,null,26,19.600000000000009,36.800000000000004,19.600000000000009,16.000000000000007,32.000000000000014,null,26,19.600000000000009,36.800000000000004,19.600000000000009,16.000000000000007,32.000000000000014]
[7,9.5,18.600000000000005,9.5,7.8000000000000025,15.600000000000005,null,27,20.20000000000001,38.1,20.20000000000001,16.500000000000007,33.000000000000014,null,27,20.20000000000001,38.1,20.20000000000001,16.500000000000007,33.000000000000014]
[8,10,19.400000000000006,10,8.2000000000000028,16.400000000000006,null,28,20.800000000000011,39.4,20.800000000000011,17.000000000000007,34.000000000000014,null,28,20.800000000000011,39.4,20.800000000000011,17.000000000000007,34.000000000000014]
[9,10.5,20.200000000000006,10.5,8.6000000000000032,17.200000000000006,null,29,21.400000000000013,40.699999999999996,21.400000000000013,17.500000000000007,35.000000000000014,null,29,21.400000000000013,40.699999999999996,21.400000000000013,17.500000000000007,35.000000000000014]
[10,11,21.000000000000007,11,9.0000000000000036,18.000000000000007,null,30,22.000000000000014,41.999999999999993,22.000000000000014,18.000000000000007,36.000000000000014,null,30,22.000000000000014,41.999999999999993,22.000000000000014,18.000000000000007,36.000000000000014]
[11,11.5,21.800000000000008,11.5,9.4000000000000039,18.800000000000008,null,31,22.600000000000016,43.29999999999999,22.600000000000016,18.500000000000007,37.000000000000014,null,31,22.600000000000016,43.29999999999999,22.600000000000016,18.500000000000007,37.000000000000014]
[12,12,22.600000000000009,12,9.8000000000000043,19.600000000000009,null,32,23.200000000000017,44.599999999999987,23.200000000000017,19.000000000000007,38.000000000000014,null,32,23.200000000000017,44.599999999999987,23.200000000000017,19.000000000000007,38.000000000000014]
[13,12.5,23.400000000000009,12.5,10.200000000000005,20.400000000000009,null,33,23.800000000000018,45.899999999999984,23.800000000000018,19.500000000000007,39.000000000000014,null,33,23.800000000000018,45.899999999999984,23.800000000000018,19.500000000000007,39.000000000000014]
[14,13,24.20000000000001,13,10.600000000000005,21.20000000000001,null,34,24.40000000000002,47.199999999999982,24.40000000000002,20.000000000000007,40.000000000000014,null,34,24.40000000000002,47.199999999999982,24.40000000000002,20.000000000000007,40.000000000000014]
[15,13.5,25.000000000000011,13.5,11.000000000000005,22.000000000000011,null,35,25.000000000000021,48.499999999999979,25.000000000000021,20.500000000000007,41.000000000000014,null,35,25.000000000000021,48.499999999999979,25.000000000000021,20.500000000000007,41.000000000000014]
[16,14,25.800000000000011,14,11.400000000000006,22.800000000000011,null,36,25.600000000000023,49.799999999999976,25.600000000000023,21.000000000000007,42.000000000000014,null,36,25.600000000000023,49.799999999999976,25.600000000000023,21.000000000000007,42.000000000000014]
[17,14.5,26.600000000000012,14.5,11.800000000000006,23.600000000000012,null,37,26.200000000000024,51.099999999999973,26.200000000000024,21.500000000000007,43.000000000000014,null,37,26.200000000000024,51.099999999999973,26.200000000000024,21.500000000000007,43.000000000000014]
[18,15,27.400000000000013,15,12.200000000000006,24.400000000000013,null,38,26.800000000000026,52.39999999999997,26.800000000000026,22.000000000000007,44.000000000000014,null,38,26.800000000000026,52.39999999999997,26.800000000000026,22.000000000000007,44.000000000000014]
[19,15.5,{"$f":"C22+C$2","v":28.200000000000014},15.5,12.600000000000007,25.200000000000014,null,39,27.400000000000027,53.699999999999967,27.400000000000027,22.500000000000007,45.000000000000014,null,39,27.400000000000027,53.699999999999967,27.400000000000027,22.500000000000007,45.000000000000014]
[20,16,29.000000000000014,16,13.000000000000007,26.000000000000014,{"$f":"SUM(B24:F24)","v":100.00000000000004},40,28.000000000000028,54.999999999999964,28.000000000000028,23.000000000000007,46.000000000000014,null,40,28.000000000000028,54.999999999999964,28.000000000000028,23.000000000000007,46.000000000000014]
[null,null,null,null,null,null,null,41,28.60000000000003,56.299999999999962,28.60000000000003,23.500000000000007,47.000000000000014,null,41,28.60000000000003,56.299999999999962,28.60000000000003,23.500000000000007,47.000000000000014]
[null,"최소 공격력","최대 생명력","최소 공격력","최소 공격력","생명력회복",null,42,29.200000000000031,57.599999999999959,29.200000000000031,24.000000000000007,48.000000000000014,null,42,29.200000000000031,57.599999999999959,29.200000000000031,24.000000000000007,48.000000000000014]
[null,"최대 공격력","생명력회복","최대 공격력","최대 공격력","활력도",null,43,29.800000000000033,58.899999999999956,29.800000000000033,24.500000000000007,49.000000000000014,null,43,29.800000000000033,58.899999999999956,29.800000000000033,24.500000000000007,49.000000000000014]
[null,"치명타 저항","피해 감소","공격속도","치명타 세기","치명타 세기",null,44,30.400000000000034,60.199999999999953,30.400000000000034,25.000000000000007,50.000000000000014,null,44,30.400000000000034,60.199999999999953,30.400000000000034,25.000000000000007,50.000000000000014]
[null,null,null,"치명타 확률","적중도","상태이상저항",null,45,31.000000000000036,61.49999999999995,31.000000000000036,25.500000000000007,51.000000000000014,null,45,31.000000000000036,61.49999999999995,31.000000000000036,25.500000000000007,51.000000000000014]
[null,null,null,"방어력","재사용시간","치명타 저항",null,46,31.600000000000037,62.799999999999947,31.600000000000037,26.000000000000007,52.000000000000014,null,46,31.600000000000037,62.799999999999947,31.600000000000037,26.000000000000007,52.000000000000014]
[null,null,null,"회피율",null,"재사용시간",null,47,32.200000000000038,64.099999999999952,32.200000000000038,26.500000000000007,53.000000000000014,null,47,32.200000000000038,64.099999999999952,32.200000000000038,26.500000000000007,53.000000000000014]
[null,null,null,"적중도",null,null,null,48,32.80000000000004,65.399999999999949,32.80000000000004,27.000000000000007,54.000000000000014,null,48,32.80000000000004,65.399999999999949,32.80000000000004,27.000000000000007,54.000000000000014]
[null,null,null,null,null,null,null,49,33.400000000000041,66.699999999999946,33.400000000000041,27.500000000000007,55.000000000000014,null,49,33.400000000000041,66.699999999999946,33.400000000000041,27.500000000000007,55.000000000000014]
[null,null,null,null,null,null,null,50,34.000000000000043,67.999999999999943,34.000000000000043,28.000000000000007,56.000000000000014,{"$f":"SUM(I34:M34)","v":220.00000000000006},50,34.000000000000043,67.999999999999943,34.000000000000043,28.000000000000007,56.000000000000014]
[]
[null,null,null,null,null,null,null,null,"P_Str","P_Sta","P_Agil","P_Int","P_Wis",null,null,"P_Str","P_Sta","P_Agil","P_Int","P_Wis"]
[]
[null,null,null,null,null,null,null,null,"최소 공격력","최대 생명력","최소 공격력","최소 공격력","생명력회복",null,null,"최소 공격력","최대 생명력","최소 공격력","최소 공격력","생명력회복"]
[null,null,null,null,null,null,null,null,"최대 공격력","생명력회복","최대 공격력","최대 공격력","활력도",null,null,"최대 공격력","생명력회복","최대 공격력","최대 공격력","활력도"]
[null,null,null,null,null,null,null,null,"치명타 저항","피해 감소","공격속도","치명타 세기","치명타 세기",null,null,"치명타 저항","피해 감소","공격속도","치명타 세기","치명타 세기"]
[null,null,null,null,null,null,null,null,null,null,"치명타 확률","적중도","상태이상저항",null,null,null,null,"치명타 확률","적중도","상태이상저항"]
[null,null,null,null,null,null,null,null,null,null,"방어력","재사용시간","치명타 저항",null,null,null,null,"방어력","재사용시간","치명타 저항"]
[null,null,null,null,null,null,null,null,null,null,"회피율",null,"재사용시간",null,null,null,null,"회피율",null,"재사용시간"]
[null,null,null,null,null,null,null,null,null,null,"적중도",null,null,null,null,null,null,"적중도"]

{"sheet":"Archon_Simul","index":10,"n_rows":83,"n_cols":21,"rows_kept":83,"cut":false,"hidden":false,"merged":[]}
["클래스","레벨","최대 생명력","생명력회복","활력도","초당평균공격력","최소 공격력","최대 공격력","공격속도","치명타 확률","치명타 세기","치명타저항","피해감소","방어력","회피율","적중도","상태이상저항","스킬쿨타임감소","이동속도","신성력",1]
["Archon",1,{"$f":"(B2^2*0.7)+Archon_Status!$C5*(Archon_Status!$C5*Class_Compare!$D$37)/2+100","v":186.39800000000002},{"$f":"(U2)*(Class_Compare!$E$37*(50+1.5*(0.8*Archon_Status!C5+0.2*Archon_Status!F5)))","v":28.269000000000002},{"$f":"Archon_Status!F5*(Archon_Status!F5*Class_Compare!$O$37)+100","v":216.64000000000001},{"$f":"((G2+H2)/2)*(1000/(I2))","v":33.344496124031011},{"$f":"Class_Compare!$B$37*(100+1.2*(0.6*Archon_Status!B5+0.2*Archon_Status!D5+0.2*Archon_Status!E5))","v":21.507200000000001},{"$f":"Class_Compare!$C$37*(100+1.2*(0.6*Archon_Status!B5+0.2*Archon_Status!D5+0.2*Archon_Status!E5))","v":43.014400000000002},{"$f":"(Class_Compare!$G$37*1000)-(Archon_Status!D5*5)","v":967.5},{"$f":"(Class_Compare!$I$37*1000+Archon_Status!D5)/50","v":20.13},{"$f":"2+(Class_Compare!$L$37)+(Archon_Status!E5/100)","v":2.5539999999999998},{"$f":"(0.2*Archon_Status!B5+0.8*Archon_Status!F5)/250","v":3.9760000000000004E-2},{"$f":"(Archon_Status!C5/25)","v":0.55200000000000005},{"$f":"Class_Compare!$H$37*(0.2*(Archon_Status!D5*35))","v":13.65},{"$f":"(Class_Compare!$I$37*1000+Archon_Status!D5)/1000","v":1.0065},{"$f":"(Class_Compare!$J$37*1000+Archon_Status!D5+Archon_Status!E5)/10","v":101.19},{"$f":"((Archon_Status!F5*Class_Compare!$M$37)+5)/2","v":6.82},{"$f":"((Archon_Status!E5+Archon_Status!F5)*Class_Compare!$N$37)/5","v":0.64800000000000013},200,0,{"$f":"$U$1*(1+0.05*(B2/4))","v":1.0125}]
["Archon",2,{"$f":"(B3^2*0.7)+Archon_Status!$C6*(Archon_Status!$C6*Class_Compare!$D$37)/2+100","v":198.72200000000004},{"$f":"(U3)*(Class_Compare!$E$37*(50+1.5*(0.8*Archon_Status!C6+0.2*Archon_Status!F6)))","v":29.11},{"$f":"Archon_Status!F6*(Archon_Status!F6*Class_Compare!$O$37)+100","v":234.56000000000003},{"$f":"((G3+H3)/2)*(1000/(I3))","v":39.211606217616577},{"$f":"Class_Compare!$B$17*(100+1.2*(0.6*Archon_Status!B6+0.2*Archon_Status!D6+0.2*Archon_Status!E6))","v":32.433599999999998},{"$f":"Class_Compare!$C$37*(100+1.2*(0.6*Archon_Status!B6+0.2*Archon_Status!D6+0.2*Archon_Status!E6))","v":43.244799999999998},{"$f":"(Class_Compare!$G$37*1000)-(Archon_Status!D6*5)","v":965},{"$f":"(Class_Compare!$I$37*1000+Archon_Status!D6)/50","v":20.14},{"$f":"2+(Class_Compare!$L$37)+(Archon_Status!E6/100)","v":2.5579999999999998},{"$f":"(0.2*Archon_Status!B6+0.8*Archon_Status!F6)/250","v":4.2720000000000008E-2},{"$f":"(Archon_Status!C6/25)","v":0.58400000000000007},{"$f":"Class_Compare!$H$37*(0.2*(Archon_Status!D6*35))","v":14.7},{"$f":"(Class_Compare!$I$37*1000+Archon_Status!D6)/1000","v":1.0069999999999999},{"$f":"(Class_Compare!$J$37*1000+Archon_Status!D6+Archon_Status!E6)/10","v":101.28},{"$f":"((Archon_Status!F6*Class_Compare!$M$37)+5)/2","v":7.1400000000000006},{"$f":"((Archon_Status!E6+Archon_Status!F6)*Class_Compare!$N$37)/5","v":0.69600000000000006},200,0,{"$f":"$U$1*(1+0.05*(B3/4))","v":1.0249999999999999}]
["Archon",3,{"$f":"(B4^2*0.7)+Archon_Status!$C7*(Archon_Status!$C7*Class_Compare!$D$37)/2+100","v":213.02200000000005},{"$f":"(U4)*(Class_Compare!$E$37*(50+1.5*(0.8*Archon_Status!C7+0.2*Archon_Status!F7)))","v":29.963000000000005},{"$f":"Archon_Status!F7*(Archon_Status!F7*Class_Compare!$O$37)+100","v":253.76000000000005},39.522909090909089,{"$f":"Class_Compare!$B$17*(100+1.2*(0.6*Archon_Status!B7+0.2*Archon_Status!D7+0.2*Archon_Status!E7))","v":32.606400000000001},{"$f":"Class_Compare!$C$37*(100+1.2*(0.6*Archon_Status!B7+0.2*Archon_Status!D7+0.2*Archon_Status!E7))","v":43.475200000000001},{"$f":"(Class_Compare!$G$37*1000)-(Archon_Status!D7*5)","v":962.5},{"$f":"(Class_Compare!$I$37*1000+Archon_Status!D7)/50","v":20.149999999999999},{"$f":"2+(Class_Compare!$L$37)+(Archon_Status!E7/100)","v":2.5619999999999998},{"$f":"(0.2*Archon_Status!B7+0.8*Archon_Status!F7)/250","v":4.5680000000000005E-2},{"$f":"(Archon_Status!C7/25)","v":0.6160000000000001},{"$f":"Class_Compare!$H$37*(0.2*(Archon_Status!D7*35))","v":15.75},{"$f":"(Class_Compare!$I$37*1000+Archon_Status!D7)/1000","v":1.0075000000000001},{"$f":"(Class_Compare!$J$37*1000+Archon_Status!D7+Archon_Status!E7)/10","v":101.37},{"$f":"((Archon_Status!F7*Class_Compare!$M$37)+5)/2","v":7.4600000000000009},{"$f":"((Archon_Status!E7+Archon_Status!F7)*Class_Compare!$N$37)/5","v":0.74400000000000011},200,0,1.0375000000000001]
["Archon",4,{"$f":"(B5^2*0.7)+Archon_Status!$C8*(Archon_Status!$C8*Class_Compare!$D$37)/2+100","v":229.29800000000006},{"$f":"(U5)*(Class_Compare!$E$37*(50+1.5*(0.8*Archon_Status!C8+0.2*Archon_Status!F8)))","v":30.828000000000003},{"$f":"Archon_Status!F8*(Archon_Status!F8*Class_Compare!$O$37)+100","v":274.24000000000007},39.835833333333341,{"$f":"Class_Compare!$B$17*(100+1.2*(0.6*Archon_Status!B8+0.2*Archon_Status!D8+0.2*Archon_Status!E8))","v":32.779199999999996},{"$f":"Class_Compare!$C$37*(100+1.2*(0.6*Archon_Status!B8+0.2*Archon_Status!D8+0.2*Archon_Status!E8))","v":43.705600000000004},{"$f":"(Class_Compare!$G$37*1000)-(Archon_Status!D8*5)","v":960},{"$f":"(Class_Compare!$I$37*1000+Archon_Status!D8)/50","v":20.16},{"$f":"2+(Class_Compare!$L$37)+(Archon_Status!E8/100)","v":2.5659999999999998},{"$f":"(0.2*Archon_Status!B8+0.8*Archon_Status!F8)/250","v":4.864000000000001E-2},{"$f":"(Archon_Status!C8/25)","v":0.64800000000000013},{"$f":"Class_Compare!$H$37*(0.2*(Archon_Status!D8*35))","v":16.8},{"$f":"(Class_Compare!$I$37*1000+Archon_Status!D8)/1000","v":1.008},{"$f":"(Class_Compare!$J$37*1000+Archon_Status!D8+Archon_Status!E8)/10","v":101.46000000000001},{"$f":"((Archon_Status!F8*Class_Compare!$M$37)+5)/2","v":7.7800000000000011},{"$f":"((Archon_Status!E8+Archon_Status!F8)*Class_Compare!$N$37)/5","v":0.79200000000000015},200,0,1.05]
["Archon",5,{"$f":"(B6^2*0.7)+Archon_Status!$C9*(Archon_Status!$C9*Class_Compare!$D$37)/2+100","v":247.55000000000007},{"$f":"(U6)*(Class_Compare!$E$37*(50+1.5*(0.8*Archon_Status!C9+0.2*Archon_Status!F9)))","v":31.705000000000005},{"$f":"Archon_Status!F9*(Archon_Status!F9*Class_Compare!$O$37)+100","v":296.00000000000011},40.150391644908623,{"$f":"Class_Compare!$B$17*(100+1.2*(0.6*Archon_Status!B9+0.2*Archon_Status!D9+0.2*Archon_Status!E9))","v":32.951999999999998},{"$f":"Class_Compare!$C$37*(100+1.2*(0.6*Archon_Status!B9+0.2*Archon_Status!D9+0.2*Archon_Status!E9))","v":43.936000000000007},{"$f":"(Class_Compare!$G$37*1000)-(Archon_Status!D9*5)","v":957.5},{"$f":"(Class_Compare!$I$37*1000+Archon_Status!D9)/50","v":20.170000000000002},{"$f":"2+(Class_Compare!$L$37)+(Archon_Status!E9/100)","v":2.57},{"$f":"(0.2*Archon_Status!B9+0.8*Archon_Status!F9)/250","v":5.1600000000000007E-2},{"$f":"(Archon_Status!C9/25)","v":0.68000000000000016},{"$f":"Class_Compare!$H$37*(0.2*(Archon_Status!D9*35))","v":17.849999999999998},{"$f":"(Class_Compare!$I$37*1000+Archon_Status!D9)/1000","v":1.0085},{"$f":"(Class_Compare!$J$37*1000+Archon_Status!D9+Archon_Status!E9)/10","v":101.55},{"$f":"((Archon_Status!F9*Class_Compare!$M$37)+5)/2","v":8.1000000000000014},{"$f":"((Archon_Status!E9+Archon_Status!F9)*Class_Compare!$N$37)/5","v":0.84000000000000041},200,0,1.0625]
["Archon",6,{"$f":"(B7^2*0.7)+Archon_Status!$C10*(Archon_Status!$C10*Class_Compare!$D$37)/2+100","v":267.77800000000002},{"$f":"(U7)*(Class_Compare!$E$37*(50+1.5*(0.8*Archon_Status!C10+0.2*Archon_Status!F10)))","v":32.594000000000008},{"$f":"Archon_Status!F10*(Archon_Status!F10*Class_Compare!$O$37)+100","v":319.04000000000013},40.466596858638745,{"$f":"Class_Compare!$B$17*(100+1.2*(0.6*Archon_Status!B10+0.2*Archon_Status!D10+0.2*Archon_Status!E10))","v":33.1248},{"$f":"Class_Compare!$C$37*(100+1.2*(0.6*Archon_Status!B10+0.2*Archon_Status!D10+0.2*Archon_Status!E10))","v":44.166400000000003},{"$f":"(Class_Compare!$G$37*1000)-(Archon_Status!D10*5)","v":955},{"$f":"(Class_Compare!$I$37*1000+Archon_Status!D10)/50","v":20.18},{"$f":"2+(Class_Compare!$L$37)+(Archon_Status!E10/100)","v":2.5739999999999998},{"$f":"(0.2*Archon_Status!B10+0.8*Archon_Status!F10)/250","v":5.4560000000000018E-2},{"$f":"(Archon_Status!C10/25)","v":0.71200000000000019},{"$f":"Class_Compare!$H$37*(0.2*(Archon_Status!D10*35))","v":18.899999999999999},{"$f":"(Class_Compare!$I$37*1000+Archon_Status!D10)/1000","v":1.0089999999999999},{"$f":"(Class_Compare!$J$37*1000+Archon_Status!D10+Archon_Status!E10)/10","v":101.64},{"$f":"((Archon_Status!F10*Class_Compare!$M$37)+5)/2","v":8.4200000000000017},{"$f":"((Archon_Status!E10+Archon_Status!F10)*Class_Compare!$N$37)/5","v":0.88800000000000023},200,0,1.075]
["Archon",7,{"$f":"(B8^2*0.7)+Archon_Status!$C11*(Archon_Status!$C11*Class_Compare!$D$37)/2+100","v":289.98200000000008},{"$f":"(U8)*(Class_Compare!$E$37*(50+1.5*(0.8*Archon_Status!C11+0.2*Archon_Status!F11)))","v":33.495000000000005},{"$f":"Archon_Status!F11*(Archon_Status!F11*Class_Compare!$O$37)+100","v":343.36000000000013},40.784461942257217,{"$f":"Class_Compare!$B$17*(100+1.2*(0.6*Archon_Status!B11+0.2*Archon_Status!D11+0.2*Archon_Status!E11))","v":33.297600000000003},{"$f":"Class_Compare!$C$37*(100+1.2*(0.6*Archon_Status!B11+0.2*Archon_Status!D11+0.2*Archon_Status!E11))","v":44.396800000000006},{"$f":"(Class_Compare!$G$37*1000)-(Archon_Status!D11*5)","v":952.5},{"$f":"(Class_Compare!$I$37*1000+Archon_Status!D11)/50","v":20.190000000000001},{"$f":"2+(Class_Compare!$L$37)+(Archon_Status!E11/100)","v":2.5779999999999998},{"$f":"(0.2*Archon_Status!B11+0.8*Archon_Status!F11)/250","v":5.7520000000000016E-2},{"$f":"(Archon_Status!C11/25)","v":0.74400000000000022},{"$f":"Class_Compare!$H$37*(0.2*(Archon_Status!D11*35))","v":19.95},{"$f":"(Class_Compare!$I$37*1000+Archon_Status!D11)/1000","v":1.0095000000000001},{"$f":"(Class_Compare!$J$37*1000+Archon_Status!D11+Archon_Status!E11)/10","v":101.72999999999999},{"$f":"((Archon_Status!F11*Class_Compare!$M$37)+5)/2","v":8.740000000000002},{"$f":"((Archon_Status!E11+Archon_Status!F11)*Class_Compare!$N$37)/5","v":0.93600000000000028},200,0,1.0874999999999999]
["Archon",8,{"$f":"(B9^2*0.7)+Archon_Status!$C12*(Archon_Status!$C12*Class_Compare!$D$37)/2+100","v":314.16200000000009},{"$f":"(U9)*(Class_Compare!$E$37*(50+1.5*(0.8*Archon_Status!C12+0.2*Archon_Status!F12)))","v":34.408000000000001},{"$f":"Archon_Status!F12*(Archon_Status!F12*Class_Compare!$O$37)+100","v":368.96000000000021},41.103999999999999,{"$f":"Class_Compare!$B$17*(100+1.2*(0.6*Archon_Status!B12+0.2*Archon_Status!D12+0.2*Archon_Status!E12))","v":33.470399999999998},{"$f":"Class_Compare!$C$37*(100+1.2*(0.6*Archon_Status!B12+0.2*Archon_Status!D12+0.2*Archon_Status!E12))","v":44.627200000000002},{"$f":"(Class_Compare!$G$37*1000)-(Archon_Status!D12*5)","v":950},{"$f":"(Class_Compare!$I$37*1000+Archon_Status!D12)/50","v":20.2},{"$f":"2+(Class_Compare!$L$37)+(Archon_Status!E12/100)","v":2.5819999999999999},{"$f":"(0.2*Archon_Status!B12+0.8*Archon_Status!F12)/250","v":6.048000000000002E-2},{"$f":"(Archon_Status!C12/25)","v":0.77600000000000025},{"$f":"Class_Compare!$H$37*(0.2*(Archon_Status!D12*35))","v":21},{"$f":"(Class_Compare!$I$37*1000+Archon_Status!D12)/1000","v":1.01},{"$f":"(Class_Compare!$J$37*1000+Archon_Status!D12+Archon_Status!E12)/10","v":101.82000000000001},{"$f":"((Archon_Status!F12*Class_Compare!$M$37)+5)/2","v":9.0600000000000023},{"$f":"((Archon_Status!E12+Archon_Status!F12)*Class_Compare!$N$37)/5","v":0.98400000000000032},200,0,1.1000000000000001]
["Archon",9,{"$f":"(B10^2*0.7)+Archon_Status!$C13*(Archon_Status!$C13*Class_Compare!$D$37)/2+100","v":340.3180000000001},{"$f":"(U10)*(Class_Compare!$E$37*(50+1.5*(0.8*Archon_Status!C13+0.2*Archon_Status!F13)))","v":35.333000000000006},{"$f":"Archon_Status!F13*(Archon_Status!F13*Class_Compare!$O$37)+100","v":395.8400000000002},41.425224274406332,{"$f":"Class_Compare!$B$17*(100+1.2*(0.6*Archon_Status!B13+0.2*Archon_Status!D13+0.2*Archon_Status!E13))","v":33.6432},{"$f":"Class_Compare!$C$37*(100+1.2*(0.6*Archon_Status!B13+0.2*Archon_Status!D13+0.2*Archon_Status!E13))","v":44.857600000000005},{"$f":"(Class_Compare!$G$37*1000)-(Archon_Status!D13*5)","v":947.5},{"$f":"(Class_Compare!$I$37*1000+Archon_Status!D13)/50","v":20.21},{"$f":"2+(Class_Compare!$L$37)+(Archon_Status!E13/100)","v":2.5859999999999999},{"$f":"(0.2*Archon_Status!B13+0.8*Archon_Status!F13)/250","v":6.3440000000000024E-2},{"$f":"(Archon_Status!C13/25)","v":0.80800000000000027},{"$f":"Class_Compare!$H$37*(0.2*(Archon_Status!D13*35))","v":22.05},{"$f":"(Class_Compare!$I$37*1000+Archon_Status!D13)/1000","v":1.0105},{"$f":"(Class_Compare!$J$37*1000+Archon_Status!D13+Archon_Status!E13)/10","v":101.91},{"$f":"((Archon_Status!F13*Class_Compare!$M$37)+5)/2","v":9.3800000000000026},{"$f":"((Archon_Status!E13+Archon_Status!F13)*Class_Compare!$N$37)/5","v":1.0320000000000005},200,0,1.1125]
["Archon",10,{"$f":"(B11^2*0.7)+Archon_Status!$C14*(Archon_Status!$C14*Class_Compare!$D$37)/2+100","v":368.45000000000016},{"$f":"(U11)*(Class_Compare!$E$37*(50+1.5*(0.8*Archon_Status!C14+0.2*Archon_Status!F14)))","v":36.27000000000001},{"$f":"Archon_Status!F14*(Archon_Status!F14*Class_Compare!$O$37)+100","v":424.00000000000023},41.748148148148147,{"$f":"Class_Compare!$B$17*(100+1.2*(0.6*Archon_Status!B14+0.2*Archon_Status!D14+0.2*Archon_Status!E14))","v":33.815999999999995},{"$f":"Class_Compare!$C$37*(100+1.2*(0.6*Archon_Status!B14+0.2*Archon_Status!D14+0.2*Archon_Status!E14))","v":45.088000000000001},{"$f":"(Class_Compare!$G$37*1000)-(Archon_Status!D14*5)","v":945},{"$f":"(Class_Compare!$I$37*1000+Archon_Status!D14)/50","v":20.22},{"$f":"2+(Class_Compare!$L$37)+(Archon_Status!E14/100)","v":2.59},{"$f":"(0.2*Archon_Status!B14+0.8*Archon_Status!F14)/250","v":6.6400000000000015E-2},{"$f":"(Archon_Status!C14/25)","v":0.8400000000000003},{"$f":"Class_Compare!$H$37*(0.2*(Archon_Status!D14*35))","v":23.099999999999998},{"$f":"(Class_Compare!$I$37*1000+Archon_Status!D14)/1000","v":1.0109999999999999},{"$f":"(Class_Compare!$J$37*1000+Archon_Status!D14+Archon_Status!E14)/10","v":102},{"$f":"((Archon_Status!F14*Class_Compare!$M$37)+5)/2","v":9.7000000000000028},{"$f":"((Archon_Status!E14+Archon_Status!F14)*Class_Compare!$N$37)/5","v":1.0800000000000005},200,0,1.125]
["Archon",11,{"$f":"(B12^2*0.7)+Archon_Status!$C15*(Archon_Status!$C15*Class_Compare!$D$37)/2+100","v":398.55800000000016},{"$f":"(U12)*(Class_Compare!$E$37*(50+1.5*(0.8*Archon_Status!C15+0.2*Archon_Status!F15)))","v":37.219000000000008},{"$f":"Archon_Status!F15*(Archon_Status!F15*Class_Compare!$O$37)+100","v":453.44000000000028},42.072785145888595,{"$f":"Class_Compare!$B$17*(100+1.2*(0.6*Archon_Status!B15+0.2*Archon_Status!D15+0.2*Archon_Status!E15))","v":33.988799999999998},{"$f":"Class_Compare!$C$37*(100+1.2*(0.6*Archon_Status!B15+0.2*Archon_Status!D15+0.2*Archon_Status!E15))","v":45.318399999999997},{"$f":"(Class_Compare!$G$37*1000)-(Archon_Status!D15*5)","v":942.5},{"$f":"(Class_Compare!$I$37*1000+Archon_Status!D15)/50","v":20.23},{"$f":"2+(Class_Compare!$L$37)+(Archon_Status!E15/100)","v":2.5939999999999999},{"$f":"(0.2*Archon_Status!B15+0.8*Archon_Status!F15)/250","v":6.9360000000000033E-2},{"$f":"(Archon_Status!C15/25)","v":0.87200000000000033},{"$f":"Class_Compare!$H$37*(0.2*(Archon_Status!D15*35))","v":24.15},{"$f":"(Class_Compare!$I$37*1000+Archon_Status!D15)/1000","v":1.0115000000000001},{"$f":"(Class_Compare!$J$37*1000+Archon_Status!D15+Archon_Status!E15)/10","v":102.09},{"$f":"((Archon_Status!F15*Class_Compare!$M$37)+5)/2","v":10.020000000000003},{"$f":"((Archon_Status!E15+Archon_Status!F15)*Class_Compare!$N$37)/5","v":1.1280000000000006},200,0,1.1375]
["Archon",12,{"$f":"(B13^2*0.7)+Archon_Status!$C16*(Archon_Status!$C16*Class_Compare!$D$37)/2+100","v":430.64200000000017},{"$f":"(U13)*(Class_Compare!$E$37*(50+1.5*(0.8*Archon_Status!C16+0.2*Archon_Status!F16)))","v":38.180000000000007},{"$f":"Archon_Status!F16*(Archon_Status!F16*Class_Compare!$O$37)+100","v":484.16000000000031},42.399148936170207,{"$f":"Class_Compare!$B$17*(100+1.2*(0.6*Archon_Status!B16+0.2*Archon_Status!D16+0.2*Archon_Status!E16))","v":34.1616},{"$f":"Class_Compare!$C$37*(100+1.2*(0.6*Archon_Status!B16+0.2*Archon_Status!D16+0.2*Archon_Status!E16))","v":45.5488},{"$f":"(Class_Compare!$G$37*1000)-(Archon_Status!D16*5)","v":940},{"$f":"(Class_Compare!$I$37*1000+Archon_Status!D16)/50","v":20.239999999999998},{"$f":"2+(Class_Compare!$L$37)+(Archon_Status!E16/100)","v":2.5979999999999999},{"$f":"(0.2*Archon_Status!B16+0.8*Archon_Status!F16)/250","v":7.2320000000000023E-2},{"$f":"(Archon_Status!C16/25)","v":0.90400000000000036},{"$f":"Class_Compare!$H$37*(0.2*(Archon_Status!D16*35))","v":25.2},{"$f":"(Class_Compare!$I$37*1000+Archon_Status!D16)/1000","v":1.012},{"$f":"(Class_Compare!$J$37*1000+Archon_Status!D16+Archon_Status!E16)/10","v":102.17999999999999},{"$f":"((Archon_Status!F16*Class_Compare!$M$37)+5)/2","v":10.340000000000003},{"$f":"((Archon_Status!E16+Archon_Status!F16)*Class_Compare!$N$37)/5","v":1.1760000000000006},200,0,1.1499999999999999]
["Archon",13,{"$f":"(B14^2*0.7)+Archon_Status!$C17*(Archon_Status!$C17*Class_Compare!$D$37)/2+100","v":464.70200000000023},{"$f":"(U14)*(Class_Compare!$E$37*(50+1.5*(0.8*Archon_Status!C17+0.2*Archon_Status!F17)))","v":39.153000000000013},{"$f":"Archon_Status!F17*(Archon_Status!F17*Class_Compare!$O$37)+100","v":516.16000000000031},42.727253333333337,{"$f":"Class_Compare!$B$17*(100+1.2*(0.6*Archon_Status!B17+0.2*Archon_Status!D17+0.2*Archon_Status!E17))","v":34.334400000000002},{"$f":"Class_Compare!$C$37*(100+1.2*(0.6*Archon_Status!B17+0.2*Archon_Status!D17+0.2*Archon_Status!E17))","v":45.779200000000003},{"$f":"(Class_Compare!$G$37*1000)-(Archon_Status!D17*5)","v":937.5},{"$f":"(Class_Compare!$I$37*1000+Archon_Status!D17)/50","v":20.25},{"$f":"2+(Class_Compare!$L$37)+(Archon_Status!E17/100)","v":2.6019999999999999},{"$f":"(0.2*Archon_Status!B17+0.8*Archon_Status!F17)/250","v":7.5280000000000027E-2},{"$f":"(Archon_Status!C17/25)","v":0.93600000000000039},{"$f":"Class_Compare!$H$37*(0.2*(Archon_Status!D17*35))","v":26.25},{"$f":"(Class_Compare!$I$37*1000+Archon_Status!D17)/1000","v":1.0125},{"$f":"(Class_Compare!$J$37*1000+Archon_Status!D17+Archon_Status!E17)/10","v":102.27000000000001},{"$f":"((Archon_Status!F17*Class_Compare!$M$37)+5)/2","v":10.660000000000004},{"$f":"((Archon_Status!E17+Archon_Status!F17)*Class_Compare!$N$37)/5","v":1.2240000000000006},200,0,1.1625000000000001]
["Archon",14,{"$f":"(B15^2*0.7)+Archon_Status!$C18*(Archon_Status!$C18*Class_Compare!$D$37)/2+100","v":500.73800000000017},{"$f":"(U15)*(Class_Compare!$E$37*(50+1.5*(0.8*Archon_Status!C18+0.2*Archon_Status!F18)))","v":40.138000000000012},{"$f":"Archon_Status!F18*(Archon_Status!F18*Class_Compare!$O$37)+100","v":549.4400000000004},43.057112299465246,{"$f":"Class_Compare!$B$17*(100+1.2*(0.6*Archon_Status!B18+0.2*Archon_Status!D18+0.2*Archon_Status!E18))","v":34.507199999999997},{"$f":"Class_Compare!$C$37*(100+1.2*(0.6*Archon_Status!B18+0.2*Archon_Status!D18+0.2*Archon_Status!E18))","v":46.009600000000006},{"$f":"(Class_Compare!$G$37*1000)-(Archon_Status!D18*5)","v":935},{"$f":"(Class_Compare!$I$37*1000+Archon_Status!D18)/50","v":20.260000000000002},{"$f":"2+(Class_Compare!$L$37)+(Archon_Status!E18/100)","v":2.6059999999999999},{"$f":"(0.2*Archon_Status!B18+0.8*Archon_Status!F18)/250","v":7.8240000000000032E-2},{"$f":"(Archon_Status!C18/25)","v":0.96800000000000042},{"$f":"Class_Compare!$H$37*(0.2*(Archon_Status!D18*35))","v":27.3},{"$f":"(Class_Compare!$I$37*1000+Archon_Status!D18)/1000","v":1.0129999999999999},{"$f":"(Class_Compare!$J$37*1000+Archon_Status!D18+Archon_Status!E18)/10","v":102.36},{"$f":"((Archon_Status!F18*Class_Compare!$M$37)+5)/2","v":10.980000000000004},{"$f":"((Archon_Status!E18+Archon_Status!F18)*Class_Compare!$N$37)/5","v":1.2720000000000007},200,0,1.175]
["Archon",15,{"$f":"(B16^2*0.7)+Archon_Status!$C19*(Archon_Status!$C19*Class_Compare!$D$37)/2+100","v":538.75000000000023},{"$f":"(U16)*(Class_Compare!$E$37*(50+1.5*(0.8*Archon_Status!C19+0.2*Archon_Status!F19)))","v":41.135000000000012},{"$f":"Archon_Status!F19*(Archon_Status!F19*Class_Compare!$O$37)+100","v":584.00000000000045},43.388739946380703,{"$f":"Class_Compare!$B$17*(100+1.2*(0.6*Archon_Status!B19+0.2*Archon_Status!D19+0.2*Archon_Status!E19))","v":34.68},{"$f":"Class_Compare!$C$37*(100+1.2*(0.6*Archon_Status!B19+0.2*Archon_Status!D19+0.2*Archon_Status!E19))","v":46.24},{"$f":"(Class_Compare!$G$37*1000)-(Archon_Status!D19*5)","v":932.5},{"$f":"(Class_Compare!$I$37*1000+Archon_Status!D19)/50","v":20.27},{"$f":"2+(Class_Compare!$L$37)+(Archon_Status!E19/100)","v":2.61},{"$f":"(0.2*Archon_Status!B19+0.8*Archon_Status!F19)/250","v":8.1200000000000036E-2},{"$f":"(Archon_Status!C19/25)","v":1.0000000000000004},{"$f":"Class_Compare!$H$37*(0.2*(Archon_Status!D19*35))","v":28.349999999999998},{"$f":"(Class_Compare!$I$37*1000+Archon_Status!D19)/1000","v":1.0135000000000001},{"$f":"(Class_Compare!$J$37*1000+Archon_Status!D19+Archon_Status!E19)/10","v":102.45},{"$f":"((Archon_Status!F19*Class_Compare!$M$37)+5)/2","v":11.300000000000004},{"$f":"((Archon_Status!E19+Archon_Status!F19)*Class_Compare!$N$37)/5","v":1.3200000000000007},200,0,1.1875]
["Archon",16,{"$f":"(B17^2*0.7)+Archon_Status!$C20*(Archon_Status!$C20*Class_Compare!$D$37)/2+100","v":578.73800000000028},{"$f":"(U17)*(Class_Compare!$E$37*(50+1.5*(0.8*Archon_Status!C20+0.2*Archon_Status!F20)))","v":42.144000000000005},{"$f":"Archon_Status!F20*(Archon_Status!F20*Class_Compare!$O$37)+100","v":619.84000000000049},43.722150537634413,{"$f":"Class_Compare!$B$17*(100+1.2*(0.6*Archon_Status!B20+0.2*Archon_Status!D20+0.2*Archon_Status!E20))","v":34.852800000000002},{"$f":"Class_Compare!$C$37*(100+1.2*(0.6*Archon_Status!B20+0.2*Archon_Status!D20+0.2*Archon_Status!E20))","v":46.470400000000005},{"$f":"(Class_Compare!$G$37*1000)-(Archon_Status!D20*5)","v":930},{"$f":"(Class_Compare!$I$37*1000+Archon_Status!D20)/50","v":20.28},{"$f":"2+(Class_Compare!$L$37)+(Archon_Status!E20/100)","v":2.6139999999999999},{"$f":"(0.2*Archon_Status!B20+0.8*Archon_Status!F20)/250","v":8.416000000000004E-2},{"$f":"(Archon_Status!C20/25)","v":1.0320000000000005},{"$f":"Class_Compare!$H$37*(0.2*(Archon_Status!D20*35))","v":29.4},{"$f":"(Class_Compare!$I$37*1000+Archon_Status!D20)/1000","v":1.014},{"$f":"(Class_Compare!$J$37*1000+Archon_Status!D20+Archon_Status!E20)/10","v":102.54},{"$f":"((Archon_Status!F20*Class_Compare!$M$37)+5)/2","v":11.620000000000005},{"$f":"((Archon_Status!E20+Archon_Status!F20)*Class_Compare!$N$37)/5","v":1.3680000000000008},200,0,1.2]
["Archon",17,{"$f":"(B18^2*0.7)+Archon_Status!$C21*(Archon_Status!$C21*Class_Compare!$D$37)/2+100","v":620.70200000000034},{"$f":"(U18)*(Class_Compare!$E$37*(50+1.5*(0.8*Archon_Status!C21+0.2*Archon_Status!F21)))","v":43.165000000000013},{"$f":"Archon_Status!F21*(Archon_Status!F21*Class_Compare!$O$37)+100","v":656.9600000000006},44.057358490566031,{"$f":"Class_Compare!$B$17*(100+1.2*(0.6*Archon_Status!B21+0.2*Archon_Status!D21+0.2*Archon_Status!E21))","v":35.025599999999997},{"$f":"Class_Compare!$C$37*(100+1.2*(0.6*Archon_Status!B21+0.2*Archon_Status!D21+0.2*Archon_Status!E21))","v":46.700800000000001},{"$f":"(Class_Compare!$G$37*1000)-(Archon_Status!D21*5)","v":927.5},{"$f":"(Class_Compare!$I$37*1000+Archon_Status!D21)/50","v":20.29},{"$f":"2+(Class_Compare!$L$37)+(Archon_Status!E21/100)","v":2.6179999999999999},{"$f":"(0.2*Archon_Status!B21+0.8*Archon_Status!F21)/250","v":8.7120000000000031E-2},{"$f":"(Archon_Status!C21/25)","v":1.0640000000000005},{"$f":"Class_Compare!$H$37*(0.2*(Archon_Status!D21*35))","v":30.45},{"$f":"(Class_Compare!$I$37*1000+Archon_Status!D21)/1000","v":1.0145},{"$f":"(Class_Compare!$J$37*1000+Archon_Status!D21+Archon_Status!E21)/10","v":102.63},{"$f":"((Archon_Status!F21*Class_Compare!$M$37)+5)/2","v":11.940000000000005},{"$f":"((Archon_Status!E21+Archon_Status!F21)*Class_Compare!$N$37)/5","v":1.4160000000000008},200,0,1.2124999999999999]
["Archon",18,{"$f":"(B19^2*0.7)+Archon_Status!$C22*(Archon_Status!$C22*Class_Compare!$D$37)/2+100","v":664.64200000000028},{"$f":"(U19)*(Class_Compare!$E$37*(50+1.5*(0.8*Archon_Status!C22+0.2*Archon_Status!F22)))","v":44.198000000000008},{"$f":"Archon_Status!F22*(Archon_Status!F22*Class_Compare!$O$37)+100","v":695.36000000000058},44.394378378378384,{"$f":"Class_Compare!$B$17*(100+1.2*(0.6*Archon_Status!B22+0.2*Archon_Status!D22+0.2*Archon_Status!E22))","v":35.198399999999999},{"$f":"Class_Compare!$C$37*(100+1.2*(0.6*Archon_Status!B22+0.2*Archon_Status!D22+0.2*Archon_Status!E22))","v":46.931200000000004},{"$f":"(Class_Compare!$G$37*1000)-(Archon_Status!D22*5)","v":925},{"$f":"(Class_Compare!$I$37*1000+Archon_Status!D22)/50","v":20.3},{"$f":"2+(Class_Compare!$L$37)+(Archon_Status!E22/100)","v":2.6219999999999999},{"$f":"(0.2*Archon_Status!B22+0.8*Archon_Status!F22)/250","v":9.0080000000000035E-2},{"$f":"(Archon_Status!C22/25)","v":1.0960000000000005},{"$f":"Class_Compare!$H$37*(0.2*(Archon_Status!D22*35))","v":31.5},{"$f":"(Class_Compare!$I$37*1000+Archon_Status!D22)/1000","v":1.0149999999999999},{"$f":"(Class_Compare!$J$37*1000+Archon_Status!D22+Archon_Status!E22)/10","v":102.72},{"$f":"((Archon_Status!F22*Class_Compare!$M$37)+5)/2","v":12.260000000000005},{"$f":"((Archon_Status!E22+Archon_Status!F22)*Class_Compare!$N$37)/5","v":1.4640000000000009},200,0,1.2250000000000001]
["Archon",19,{"$f":"(B20^2*0.7)+Archon_Status!$C23*(Archon_Status!$C23*Class_Compare!$D$37)/2+100","v":710.55800000000033},{"$f":"(U20)*(Class_Compare!$E$37*(50+1.5*(0.8*Archon_Status!C23+0.2*Archon_Status!F23)))","v":45.243000000000016},{"$f":"Archon_Status!F23*(Archon_Status!F23*Class_Compare!$O$37)+100","v":735.04000000000065},44.733224932249314,{"$f":"Class_Compare!$B$17*(100+1.2*(0.6*Archon_Status!B23+0.2*Archon_Status!D23+0.2*Archon_Status!E23))","v":35.371199999999995},{"$f":"Class_Compare!$C$37*(100+1.2*(0.6*Archon_Status!B23+0.2*Archon_Status!D23+0.2*Archon_Status!E23))","v":47.1616},{"$f":"(Class_Compare!$G$37*1000)-(Archon_Status!D23*5)","v":922.5},{"$f":"(Class_Compare!$I$37*1000+Archon_Status!D23)/50","v":20.309999999999999},{"$f":"2+(Class_Compare!$L$37)+(Archon_Status!E23/100)","v":2.6259999999999999},{"$f":"(0.2*Archon_Status!B23+0.8*Archon_Status!F23)/250","v":9.3040000000000053E-2},{"$f":"(Archon_Status!C23/25)","v":1.1280000000000006},{"$f":"Class_Compare!$H$37*(0.2*(Archon_Status!D23*35))","v":32.549999999999997},{"$f":"(Class_Compare!$I$37*1000+Archon_Status!D23)/1000","v":1.0155000000000001},{"$f":"(Class_Compare!$J$37*1000+Archon_Status!D23+Archon_Status!E23)/10","v":102.80999999999999},{"$f":"((Archon_Status!F23*Class_Compare!$M$37)+5)/2","v":12.580000000000005},{"$f":"((Archon_Status!E23+Archon_Status!F23)*Class_Compare!$N$37)/5","v":1.5120000000000009},200,0,1.2375]
["Archon",20,{"$f":"(B21^2*0.7)+Archon_Status!$C24*(Archon_Status!$C24*Class_Compare!$D$37)/2+100","v":758.45000000000039},{"$f":"(U21)*(Class_Compare!$E$37*(50+1.5*(0.8*Archon_Status!C24+0.2*Archon_Status!F24)))","v":46.300000000000018},{"$f":"Archon_Status!F24*(Archon_Status!F24*Class_Compare!$O$37)+100","v":776.00000000000068},45.073913043478264,{"$f":"Class_Compare!$B$17*(100+1.2*(0.6*Archon_Status!B24+0.2*Archon_Status!D24+0.2*Archon_Status!E24))","v":35.543999999999997},{"$f":"Class_Compare!$C$37*(100+1.2*(0.6*Archon_Status!B24+0.2*Archon_Status!D24+0.2*Archon_Status!E24))","v":47.392000000000003},{"$f":"(Class_Compare!$G$37*1000)-(Archon_Status!D24*5)","v":920},{"$f":"(Class_Compare!$I$37*1000+Archon_Status!D24)/50","v":20.32},{"$f":"2+(Class_Compare!$L$37)+(Archon_Status!E24/100)","v":2.63},{"$f":"(0.2*Archon_Status!B24+0.8*Archon_Status!F24)/250","v":9.6000000000000044E-2},{"$f":"(Archon_Status!C24/25)","v":1.1600000000000006},{"$f":"Class_Compare!$H$37*(0.2*(Archon_Status!D24*35))","v":33.6},{"$f":"(Class_Compare!$I$37*1000+Archon_Status!D24)/1000","v":1.016},{"$f":"(Class_Compare!$J$37*1000+Archon_Status!D24+Archon_Status!E24)/10","v":102.9},{"$f":"((Archon_Status!F24*Class_Compare!$M$37)+5)/2","v":12.900000000000006},{"$f":"((Archon_Status!E24+Archon_Status!F24)*Class_Compare!$N$37)/5","v":1.5600000000000009},200,0,1.25]
["클래스","ArchM1"]
["ArchM1",21,{"$f":"(B23^2*0.7)+Archon_Status!$J5*(Archon_Status!$J5*Class_Compare!$D$38)/2+100","v":913.64950000000056},{"$f":"(U23)*(Class_Compare!$E$38*(50+1.5*(0.8*Archon_Status!J5+0.2*Archon_Status!M5)))","v":71.553450000000012},{"$f":"Archon_Status!M5*(Archon_Status!M5*Class_Compare!$O$38)+100","v":974.80000000000075},{"$f":"((G23+H23)/2)*(1000/(I23))","v":71.479607415485262},{"$f":"Class_Compare!$B$38*(100+1.2*(0.6*Archon_Status!I5+0.2*Archon_Status!K5+0.2*Archon_Status!L5))","v":47.670400000000001},{"$f":"Class_Compare!$C$38*(100+1.2*(0.6*Archon_Status!I5+0.2*Archon_Status!K5+0.2*Archon_Status!L5))","v":83.423199999999994},{"$f":"(Class_Compare!$G$38*1000)-(Archon_Status!K5*5)","v":917},{"$f":"(Class_Compare!$I$38*1000+Archon_Status!K5)/50","v":22.331999999999997},{"$f":"2+(Class_Compare!$L$38)+(Archon_Status!L5/100)","v":2.8350000000000004},{"$f":"(0.2*Archon_Status!I5+0.8*Archon_Status!M5)/250","v":9.9680000000000046E-2},{"$f":"(Archon_Status!J5/25)","v":1.2120000000000006},{"$f":"Class_Compare!$H$38*(0.2*(Archon_Status!K5*35))","v":58.1},{"$f":"(Class_Compare!$I$38*1000+Archon_Status!K5)/1000","v":1.1165999999999998},{"$f":"(Class_Compare!$J$38*1000+Archon_Status!K5+Archon_Status!L5)/10","v":103.01000000000002},{"$f":"((Archon_Status!M5*Class_Compare!$M$38)+5)/2","v":14.650000000000007},{"$f":"((Archon_Status!L5+Archon_Status!M5)*Class_Compare!$N$38)/5","v":2.430000000000001},200,0,{"$f":"$U$1*(1+0.05*(B23/4))","v":1.2625}]
["ArchM1",22,{"$f":"(B24^2*0.7)+Archon_Status!$J6*(Archon_Status!$J6*Class_Compare!$D$38)/2+100","v":988.00800000000049},{"$f":"(U24)*(Class_Compare!$E$38*(50+1.5*(0.8*Archon_Status!J6+0.2*Archon_Status!M6)))","v":73.68480000000001},{"$f":"Archon_Status!M6*(Archon_Status!M6*Class_Compare!$O$38)+100","v":1040.8000000000009},{"$f":"((G24+H24)/2)*(1000/(I24))","v":72.133041575492342},{"$f":"Class_Compare!$B$38*(100+1.2*(0.6*Archon_Status!I6+0.2*Archon_Status!K6+0.2*Archon_Status!L6))","v":47.948800000000006},{"$f":"Class_Compare!$C$38*(100+1.2*(0.6*Archon_Status!I6+0.2*Archon_Status!K6+0.2*Archon_Status!L6))","v":83.91040000000001},{"$f":"(Class_Compare!$G$38*1000)-(Archon_Status!K6*5)","v":914},{"$f":"(Class_Compare!$I$38*1000+Archon_Status!K6)/50","v":22.344000000000001},{"$f":"2+(Class_Compare!$L$38)+(Archon_Status!L6/100)","v":2.8400000000000003},{"$f":"(0.2*Archon_Status!I6+0.8*Archon_Status!M6)/250","v":0.10336000000000006},{"$f":"(Archon_Status!J6/25)","v":1.2640000000000007},{"$f":"Class_Compare!$H$38*(0.2*(Archon_Status!K6*35))","v":60.200000000000017},{"$f":"(Class_Compare!$I$38*1000+Archon_Status!K6)/1000","v":1.1172},{"$f":"(Class_Compare!$J$38*1000+Archon_Status!K6+Archon_Status!L6)/10","v":103.12},{"$f":"((Archon_Status!M6*Class_Compare!$M$38)+5)/2","v":15.100000000000007},{"$f":"((Archon_Status!L6+Archon_Status!M6)*Class_Compare!$N$38)/5","v":2.5200000000000014},200,0,{"$f":"$U$1*(1+0.05*(B24/4))","v":1.2749999999999999}]
["ArchM1",23,{"$f":"(B25^2*0.7)+Archon_Status!$J7*(Archon_Status!$J7*Class_Compare!$D$38)/2+100","v":1065.6255000000006},{"$f":"(U25)*(Class_Compare!$E$38*(50+1.5*(0.8*Archon_Status!J7+0.2*Archon_Status!M7)))","v":75.84405000000001},{"$f":"Archon_Status!M7*(Archon_Status!M7*Class_Compare!$O$38)+100","v":1109.2000000000012},72.790779363336995,{"$f":"Class_Compare!$B$38*(100+1.2*(0.6*Archon_Status!I7+0.2*Archon_Status!K7+0.2*Archon_Status!L7))","v":48.227200000000011},{"$f":"Class_Compare!$C$38*(100+1.2*(0.6*Archon_Status!I7+0.2*Archon_Status!K7+0.2*Archon_Status!L7))","v":84.397599999999997},{"$f":"(Class_Compare!$G$38*1000)-(Archon_Status!K7*5)","v":911},{"$f":"(Class_Compare!$I$38*1000+Archon_Status!K7)/50","v":22.355999999999998},{"$f":"2+(Class_Compare!$L$38)+(Archon_Status!L7/100)","v":2.8450000000000002},{"$f":"(0.2*Archon_Status!I7+0.8*Archon_Status!M7)/250","v":0.10704000000000007},{"$f":"(Archon_Status!J7/25)","v":1.3160000000000005},{"$f":"Class_Compare!$H$38*(0.2*(Archon_Status!K7*35))","v":62.300000000000011},{"$f":"(Class_Compare!$I$38*1000+Archon_Status!K7)/1000","v":1.1177999999999999},{"$f":"(Class_Compare!$J$38*1000+Archon_Status!K7+Archon_Status!L7)/10","v":103.22999999999999},{"$f":"((Archon_Status!M7*Class_Compare!$M$38)+5)/2","v":15.550000000000006},{"$f":"((Archon_Status!L7+Archon_Status!M7)*Class_Compare!$N$38)/5","v":2.6100000000000012},200,0,1.2875000000000001]
["ArchM1",24,{"$f":"(B26^2*0.7)+Archon_Status!$J8*(Archon_Status!$J8*Class_Compare!$D$38)/2+100","v":1146.5020000000004},{"$f":"(U26)*(Class_Compare!$E$38*(50+1.5*(0.8*Archon_Status!J8+0.2*Archon_Status!M8)))","v":78.031200000000013},{"$f":"Archon_Status!M8*(Archon_Status!M8*Class_Compare!$O$38)+100","v":1180.0000000000009},73.452863436123337,{"$f":"Class_Compare!$B$38*(100+1.2*(0.6*Archon_Status!I8+0.2*Archon_Status!K8+0.2*Archon_Status!L8))","v":48.505600000000008},{"$f":"Class_Compare!$C$38*(100+1.2*(0.6*Archon_Status!I8+0.2*Archon_Status!K8+0.2*Archon_Status!L8))","v":84.884799999999998},{"$f":"(Class_Compare!$G$38*1000)-(Archon_Status!K8*5)","v":908},{"$f":"(Class_Compare!$I$38*1000+Archon_Status!K8)/50","v":22.368000000000002},{"$f":"2+(Class_Compare!$L$38)+(Archon_Status!L8/100)","v":2.85},{"$f":"(0.2*Archon_Status!I8+0.8*Archon_Status!M8)/250","v":0.11072000000000005},{"$f":"(Archon_Status!J8/25)","v":1.3680000000000003},{"$f":"Class_Compare!$H$38*(0.2*(Archon_Status!K8*35))","v":64.40000000000002},{"$f":"(Class_Compare!$I$38*1000+Archon_Status!K8)/1000","v":1.1184000000000001},{"$f":"(Class_Compare!$J$38*1000+Archon_Status!K8+Archon_Status!L8)/10","v":103.34},{"$f":"((Archon_Status!M8*Class_Compare!$M$38)+5)/2","v":16.000000000000007},{"$f":"((Archon_Status!L8+Archon_Status!M8)*Class_Compare!$N$38)/5","v":2.7000000000000011},200,0,1.3]
["ArchM1",25,{"$f":"(B27^2*0.7)+Archon_Status!$J9*(Archon_Status!$J9*Class_Compare!$D$38)/2+100","v":1230.6375000000003},{"$f":"(U27)*(Class_Compare!$E$38*(50+1.5*(0.8*Archon_Status!J9+0.2*Archon_Status!M9)))","v":80.246250000000003},{"$f":"Archon_Status!M9*(Archon_Status!M9*Class_Compare!$O$38)+100","v":1253.200000000001},74.11933701657459,{"$f":"Class_Compare!$B$38*(100+1.2*(0.6*Archon_Status!I9+0.2*Archon_Status!K9+0.2*Archon_Status!L9))","v":48.784000000000006},{"$f":"Class_Compare!$C$38*(100+1.2*(0.6*Archon_Status!I9+0.2*Archon_Status!K9+0.2*Archon_Status!L9))","v":85.372},{"$f":"(Class_Compare!$G$38*1000)-(Archon_Status!K9*5)","v":905},{"$f":"(Class_Compare!$I$38*1000+Archon_Status!K9)/50","v":22.38},{"$f":"2+(Class_Compare!$L$38)+(Archon_Status!L9/100)","v":2.8550000000000004},{"$f":"(0.2*Archon_Status!I9+0.8*Archon_Status!M9)/250","v":0.11440000000000004},{"$f":"(Archon_Status!J9/25)","v":1.4200000000000004},{"$f":"Class_Compare!$H$38*(0.2*(Archon_Status!K9*35))","v":66.500000000000028},{"$f":"(Class_Compare!$I$38*1000+Archon_Status!K9)/1000","v":1.119},{"$f":"(Class_Compare!$J$38*1000+Archon_Status!K9+Archon_Status!L9)/10","v":103.45},{"$f":"((Archon_Status!M9*Class_Compare!$M$38)+5)/2","v":16.450000000000006},{"$f":"((Archon_Status!L9+Archon_Status!M9)*Class_Compare!$N$38)/5","v":2.7900000000000014},200,0,1.3125]
["ArchM1",26,{"$f":"(B28^2*0.7)+Archon_Status!$J10*(Archon_Status!$J10*Class_Compare!$D$38)/2+100","v":1318.0320000000004},{"$f":"(U28)*(Class_Compare!$E$38*(50+1.5*(0.8*Archon_Status!J10+0.2*Archon_Status!M10)))","v":82.489200000000011},{"$f":"Archon_Status!M10*(Archon_Status!M10*Class_Compare!$O$38)+100","v":1328.8000000000009},74.79024390243903,{"$f":"Class_Compare!$B$38*(100+1.2*(0.6*Archon_Status!I10+0.2*Archon_Status!K10+0.2*Archon_Status!L10))","v":49.062400000000004},{"$f":"Class_Compare!$C$38*(100+1.2*(0.6*Archon_Status!I10+0.2*Archon_Status!K10+0.2*Archon_Status!L10))","v":85.859200000000001},{"$f":"(Class_Compare!$G$38*1000)-(Archon_Status!K10*5)","v":902},{"$f":"(Class_Compare!$I$38*1000+Archon_Status!K10)/50","v":22.391999999999999},{"$f":"2+(Class_Compare!$L$38)+(Archon_Status!L10/100)","v":2.8600000000000003},{"$f":"(0.2*Archon_Status!I10+0.8*Archon_Status!M10)/250","v":0.11808000000000006},{"$f":"(Archon_Status!J10/25)","v":1.4720000000000002},{"$f":"Class_Compare!$H$38*(0.2*(Archon_Status!K10*35))","v":68.600000000000037},{"$f":"(Class_Compare!$I$38*1000+Archon_Status!K10)/1000","v":1.1195999999999999},{"$f":"(Class_Compare!$J$38*1000+Archon_Status!K10+Archon_Status!L10)/10","v":103.56000000000002},{"$f":"((Archon_Status!M10*Class_Compare!$M$38)+5)/2","v":16.900000000000006},{"$f":"((Archon_Status!L10+Archon_Status!M10)*Class_Compare!$N$38)/5","v":2.8800000000000012},200,0,1.325]
["ArchM1",27,{"$f":"(B29^2*0.7)+Archon_Status!$J11*(Archon_Status!$J11*Class_Compare!$D$38)/2+100","v":1408.6855},{"$f":"(U29)*(Class_Compare!$E$38*(50+1.5*(0.8*Archon_Status!J11+0.2*Archon_Status!M11)))","v":84.760049999999993},{"$f":"Archon_Status!M11*(Archon_Status!M11*Class_Compare!$O$38)+100","v":1406.8000000000011},75.465628476084547,{"$f":"Class_Compare!$B$38*(100+1.2*(0.6*Archon_Status!I11+0.2*Archon_Status!K11+0.2*Archon_Status!L11))","v":49.340800000000002},{"$f":"Class_Compare!$C$38*(100+1.2*(0.6*Archon_Status!I11+0.2*Archon_Status!K11+0.2*Archon_Status!L11))","v":86.346400000000003},{"$f":"(Class_Compare!$G$38*1000)-(Archon_Status!K11*5)","v":899},{"$f":"(Class_Compare!$I$38*1000+Archon_Status!K11)/50","v":22.404},{"$f":"2+(Class_Compare!$L$38)+(Archon_Status!L11/100)","v":2.8650000000000002},{"$f":"(0.2*Archon_Status!I11+0.8*Archon_Status!M11)/250","v":0.12176000000000006},{"$f":"(Archon_Status!J11/25)","v":1.524},{"$f":"Class_Compare!$H$38*(0.2*(Archon_Status!K11*35))","v":70.700000000000031},{"$f":"(Class_Compare!$I$38*1000+Archon_Status!K11)/1000","v":1.1202000000000001},{"$f":"(Class_Compare!$J$38*1000+Archon_Status!K11+Archon_Status!L11)/10","v":103.67},{"$f":"((Archon_Status!M11*Class_Compare!$M$38)+5)/2","v":17.350000000000009},{"$f":"((Archon_Status!L11+Archon_Status!M11)*Class_Compare!$N$38)/5","v":2.9700000000000011},200,0,1.3374999999999999]
["ArchM1",28,{"$f":"(B30^2*0.7)+Archon_Status!$J12*(Archon_Status!$J12*Class_Compare!$D$38)/2+100","v":1502.598},{"$f":"(U30)*(Class_Compare!$E$38*(50+1.5*(0.8*Archon_Status!J12+0.2*Archon_Status!M12)))","v":87.058800000000005},{"$f":"Archon_Status!M12*(Archon_Status!M12*Class_Compare!$O$38)+100","v":1487.2000000000012},76.145535714285728,{"$f":"Class_Compare!$B$38*(100+1.2*(0.6*Archon_Status!I12+0.2*Archon_Status!K12+0.2*Archon_Status!L12))","v":49.619200000000006},{"$f":"Class_Compare!$C$38*(100+1.2*(0.6*Archon_Status!I12+0.2*Archon_Status!K12+0.2*Archon_Status!L12))","v":86.833600000000004},{"$f":"(Class_Compare!$G$38*1000)-(Archon_Status!K12*5)","v":896},{"$f":"(Class_Compare!$I$38*1000+Archon_Status!K12)/50","v":22.416},{"$f":"2+(Class_Compare!$L$38)+(Archon_Status!L12/100)","v":2.87},{"$f":"(0.2*Archon_Status!I12+0.8*Archon_Status!M12)/250","v":0.12544000000000008},{"$f":"(Archon_Status!J12/25)","v":1.5759999999999998},{"$f":"Class_Compare!$H$38*(0.2*(Archon_Status!K12*35))","v":72.800000000000054},{"$f":"(Class_Compare!$I$38*1000+Archon_Status!K12)/1000","v":1.1208},{"$f":"(Class_Compare!$J$38*1000+Archon_Status!K12+Archon_Status!L12)/10","v":103.78},{"$f":"((Archon_Status!M12*Class_Compare!$M$38)+5)/2","v":17.800000000000004},{"$f":"((Archon_Status!L12+Archon_Status!M12)*Class_Compare!$N$38)/5","v":3.0600000000000014},200,0,1.35]
["ArchM1",29,{"$f":"(B31^2*0.7)+Archon_Status!$J13*(Archon_Status!$J13*Class_Compare!$D$38)/2+100","v":1599.7694999999999},{"$f":"(U31)*(Class_Compare!$E$38*(50+1.5*(0.8*Archon_Status!J13+0.2*Archon_Status!M13)))","v":89.385450000000006},{"$f":"Archon_Status!M13*(Archon_Status!M13*Class_Compare!$O$38)+100","v":1570.0000000000011},76.830011198208297,{"$f":"Class_Compare!$B$38*(100+1.2*(0.6*Archon_Status!I13+0.2*Archon_Status!K13+0.2*Archon_Status!L13))","v":49.897600000000011},{"$f":"Class_Compare!$C$38*(100+1.2*(0.6*Archon_Status!I13+0.2*Archon_Status!K13+0.2*Archon_Status!L13))","v":87.320800000000006},{"$f":"(Class_Compare!$G$38*1000)-(Archon_Status!K13*5)","v":893},{"$f":"(Class_Compare!$I$38*1000+Archon_Status!K13)/50","v":22.428000000000001},{"$f":"2+(Class_Compare!$L$38)+(Archon_Status!L13/100)","v":2.8750000000000004},{"$f":"(0.2*Archon_Status!I13+0.8*Archon_Status!M13)/250","v":0.12912000000000007},{"$f":"(Archon_Status!J13/25)","v":1.6279999999999999},{"$f":"Class_Compare!$H$38*(0.2*(Archon_Status!K13*35))","v":74.900000000000048},{"$f":"(Class_Compare!$I$38*1000+Archon_Status!K13)/1000","v":1.1214000000000002},{"$f":"(Class_Compare!$J$38*1000+Archon_Status!K13+Archon_Status!L13)/10","v":103.89000000000001},{"$f":"((Archon_Status!M13*Class_Compare!$M$38)+5)/2","v":18.250000000000007},{"$f":"((Archon_Status!L13+Archon_Status!M13)*Class_Compare!$N$38)/5","v":3.1500000000000012},200,0,1.3625]
["ArchM1",30,{"$f":"(B32^2*0.7)+Archon_Status!$J14*(Archon_Status!$J14*Class_Compare!$D$38)/2+100","v":1700.1999999999998},{"$f":"(U32)*(Class_Compare!$E$38*(50+1.5*(0.8*Archon_Status!J14+0.2*Archon_Status!M14)))","v":91.739999999999981},{"$f":"Archon_Status!M14*(Archon_Status!M14*Class_Compare!$O$38)+100","v":1655.2000000000012},77.519101123595519,{"$f":"Class_Compare!$B$38*(100+1.2*(0.6*Archon_Status!I14+0.2*Archon_Status!K14+0.2*Archon_Status!L14))","v":50.176000000000009},{"$f":"Class_Compare!$C$38*(100+1.2*(0.6*Archon_Status!I14+0.2*Archon_Status!K14+0.2*Archon_Status!L14))","v":87.808000000000007},{"$f":"(Class_Compare!$G$38*1000)-(Archon_Status!K14*5)","v":889.99999999999989},{"$f":"(Class_Compare!$I$38*1000+Archon_Status!K14)/50","v":22.44},{"$f":"2+(Class_Compare!$L$38)+(Archon_Status!L14/100)","v":2.8800000000000003},{"$f":"(0.2*Archon_Status!I14+0.8*Archon_Status!M14)/250","v":0.13280000000000006},{"$f":"(Archon_Status!J14/25)","v":1.6799999999999997},{"$f":"Class_Compare!$H$38*(0.2*(Archon_Status!K14*35))","v":77.000000000000057},{"$f":"(Class_Compare!$I$38*1000+Archon_Status!K14)/1000","v":1.1220000000000001},{"$f":"(Class_Compare!$J$38*1000+Archon_Status!K14+Archon_Status!L14)/10","v":104},{"$f":"((Archon_Status!M14*Class_Compare!$M$38)+5)/2","v":18.700000000000006},{"$f":"((Archon_Status!L14+Archon_Status!M14)*Class_Compare!$N$38)/5","v":3.2400000000000011},200,0,1.375]
["ArchM1",31,{"$f":"(B33^2*0.7)+Archon_Status!$J15*(Archon_Status!$J15*Class_Compare!$D$38)/2+100","v":1803.8894999999998},{"$f":"(U33)*(Class_Compare!$E$38*(50+1.5*(0.8*Archon_Status!J15+0.2*Archon_Status!M15)))","v":94.122450000000001},{"$f":"Archon_Status!M15*(Archon_Status!M15*Class_Compare!$O$38)+100","v":1742.8000000000011},78.212852311161242,{"$f":"Class_Compare!$B$38*(100+1.2*(0.6*Archon_Status!I15+0.2*Archon_Status!K15+0.2*Archon_Status!L15))","v":50.454400000000014},{"$f":"Class_Compare!$C$38*(100+1.2*(0.6*Archon_Status!I15+0.2*Archon_Status!K15+0.2*Archon_Status!L15))","v":88.295200000000008},{"$f":"(Class_Compare!$G$38*1000)-(Archon_Status!K15*5)","v":886.99999999999989},{"$f":"(Class_Compare!$I$38*1000+Archon_Status!K15)/50","v":22.451999999999998},{"$f":"2+(Class_Compare!$L$38)+(Archon_Status!L15/100)","v":2.8850000000000002},{"$f":"(0.2*Archon_Status!I15+0.8*Archon_Status!M15)/250","v":0.13648000000000007},{"$f":"(Archon_Status!J15/25)","v":1.7319999999999995},{"$f":"Class_Compare!$H$38*(0.2*(Archon_Status!K15*35))","v":79.100000000000065},{"$f":"(Class_Compare!$I$38*1000+Archon_Status!K15)/1000","v":1.1225999999999998},{"$f":"(Class_Compare!$J$38*1000+Archon_Status!K15+Archon_Status!L15)/10","v":104.11000000000001},{"$f":"((Archon_Status!M15*Class_Compare!$M$38)+5)/2","v":19.150000000000006},{"$f":"((Archon_Status!L15+Archon_Status!M15)*Class_Compare!$N$38)/5","v":3.330000000000001},200,0,1.3875]
["ArchM1",32,{"$f":"(B34^2*0.7)+Archon_Status!$J16*(Archon_Status!$J16*Class_Compare!$D$38)/2+100","v":1910.8379999999993},{"$f":"(U34)*(Class_Compare!$E$38*(50+1.5*(0.8*Archon_Status!J16+0.2*Archon_Status!M16)))","v":96.532799999999966},{"$f":"Archon_Status!M16*(Archon_Status!M16*Class_Compare!$O$38)+100","v":1832.8000000000013},78.911312217194592,{"$f":"Class_Compare!$B$38*(100+1.2*(0.6*Archon_Status!I16+0.2*Archon_Status!K16+0.2*Archon_Status!L16))","v":50.732800000000012},{"$f":"Class_Compare!$C$38*(100+1.2*(0.6*Archon_Status!I16+0.2*Archon_Status!K16+0.2*Archon_Status!L16))","v":88.78240000000001},{"$f":"(Class_Compare!$G$38*1000)-(Archon_Status!K16*5)","v":883.99999999999989},{"$f":"(Class_Compare!$I$38*1000+Archon_Status!K16)/50","v":22.464000000000002},{"$f":"2+(Class_Compare!$L$38)+(Archon_Status!L16/100)","v":2.89},{"$f":"(0.2*Archon_Status!I16+0.8*Archon_Status!M16)/250","v":0.14016000000000006},{"$f":"(Archon_Status!J16/25)","v":1.7839999999999996},{"$f":"Class_Compare!$H$38*(0.2*(Archon_Status!K16*35))","v":81.20000000000006},{"$f":"(Class_Compare!$I$38*1000+Archon_Status!K16)/1000","v":1.1232},{"$f":"(Class_Compare!$J$38*1000+Archon_Status!K16+Archon_Status!L16)/10","v":104.22},{"$f":"((Archon_Status!M16*Class_Compare!$M$38)+5)/2","v":19.600000000000009},{"$f":"((Archon_Status!L16+Archon_Status!M16)*Class_Compare!$N$38)/5","v":3.4200000000000008},200,0,1.4]
["ArchM1",33,{"$f":"(B35^2*0.7)+Archon_Status!$J17*(Archon_Status!$J17*Class_Compare!$D$38)/2+100","v":2021.0454999999993},{"$f":"(U35)*(Class_Compare!$E$38*(50+1.5*(0.8*Archon_Status!J17+0.2*Archon_Status!M17)))","v":98.971050000000005},{"$f":"Archon_Status!M17*(Archon_Status!M17*Class_Compare!$O$38)+100","v":1925.2000000000014},79.614528944381419,{"$f":"Class_Compare!$B$38*(100+1.2*(0.6*Archon_Status!I17+0.2*Archon_Status!K17+0.2*Archon_Status!L17))","v":51.011200000000009},{"$f":"Class_Compare!$C$38*(100+1.2*(0.6*Archon_Status!I17+0.2*Archon_Status!K17+0.2*Archon_Status!L17))","v":89.269600000000011},{"$f":"(Class_Compare!$G$38*1000)-(Archon_Status!K17*5)","v":880.99999999999989},{"$f":"(Class_Compare!$I$38*1000+Archon_Status!K17)/50","v":22.475999999999999},{"$f":"2+(Class_Compare!$L$38)+(Archon_Status!L17/100)","v":2.8950000000000005},{"$f":"(0.2*Archon_Status!I17+0.8*Archon_Status!M17)/250","v":0.14384000000000005},{"$f":"(Archon_Status!J17/25)","v":1.8359999999999994},{"$f":"Class_Compare!$H$38*(0.2*(Archon_Status!K17*35))","v":83.300000000000068},{"$f":"(Class_Compare!$I$38*1000+Archon_Status!K17)/1000","v":1.1237999999999999},{"$f":"(Class_Compare!$J$38*1000+Archon_Status!K17+Archon_Status!L17)/10","v":104.33000000000001},{"$f":"((Archon_Status!M17*Class_Compare!$M$38)+5)/2","v":20.050000000000008},{"$f":"((Archon_Status!L17+Archon_Status!M17)*Class_Compare!$N$38)/5","v":3.5100000000000007},200,0,1.4125000000000001]
["ArchM1",34,{"$f":"(B36^2*0.7)+Archon_Status!$J18*(Archon_Status!$J18*Class_Compare!$D$38)/2+100","v":2134.5119999999988},{"$f":"(U36)*(Class_Compare!$E$38*(50+1.5*(0.8*Archon_Status!J18+0.2*Archon_Status!M18)))","v":101.43719999999998},{"$f":"Archon_Status!M18*(Archon_Status!M18*Class_Compare!$O$38)+100","v":2020.0000000000014},80.322551252847404,{"$f":"Class_Compare!$B$38*(100+1.2*(0.6*Archon_Status!I18+0.2*Archon_Status!K18+0.2*Archon_Status!L18))","v":51.289600000000007},{"$f":"Class_Compare!$C$38*(100+1.2*(0.6*Archon_Status!I18+0.2*Archon_Status!K18+0.2*Archon_Status!L18))","v":89.756800000000013},{"$f":"(Class_Compare!$G$38*1000)-(Archon_Status!K18*5)","v":877.99999999999989},{"$f":"(Class_Compare!$I$38*1000+Archon_Status!K18)/50","v":22.488000000000003},{"$f":"2+(Class_Compare!$L$38)+(Archon_Status!L18/100)","v":2.9000000000000004},{"$f":"(0.2*Archon_Status!I18+0.8*Archon_Status!M18)/250","v":0.14752000000000007},{"$f":"(Archon_Status!J18/25)","v":1.8879999999999992},{"$f":"Class_Compare!$H$38*(0.2*(Archon_Status!K18*35))","v":85.400000000000077},{"$f":"(Class_Compare!$I$38*1000+Archon_Status!K18)/1000","v":1.1244000000000001},{"$f":"(Class_Compare!$J$38*1000+Archon_Status!K18+Archon_Status!L18)/10","v":104.44000000000001},{"$f":"((Archon_Status!M18*Class_Compare!$M$38)+5)/2","v":20.500000000000007},{"$f":"((Archon_Status!L18+Archon_Status!M18)*Class_Compare!$N$38)/5","v":3.6000000000000014},200,0,1.425]
["ArchM1",35,{"$f":"(B37^2*0.7)+Archon_Status!$J19*(Archon_Status!$J19*Class_Compare!$D$38)/2+100","v":2251.2374999999993},{"$f":"(U37)*(Class_Compare!$E$38*(50+1.5*(0.8*Archon_Status!J19+0.2*Archon_Status!M19)))","v":103.93124999999998},{"$f":"Archon_Status!M19*(Archon_Status!M19*Class_Compare!$O$38)+100","v":2117.2000000000016},81.035428571428596,{"$f":"Class_Compare!$B$38*(100+1.2*(0.6*Archon_Status!I19+0.2*Archon_Status!K19+0.2*Archon_Status!L19))","v":51.568000000000012},{"$f":"Class_Compare!$C$38*(100+1.2*(0.6*Archon_Status!I19+0.2*Archon_Status!K19+0.2*Archon_Status!L19))","v":90.244},{"$f":"(Class_Compare!$G$38*1000)-(Archon_Status!K19*5)","v":874.99999999999989},{"$f":"(Class_Compare!$I$38*1000+Archon_Status!K19)/50","v":22.5},{"$f":"2+(Class_Compare!$L$38)+(Archon_Status!L19/100)","v":2.9050000000000002},{"$f":"(0.2*Archon_Status!I19+0.8*Archon_Status!M19)/250","v":0.15120000000000008},{"$f":"(Archon_Status!J19/25)","v":1.9399999999999991},{"$f":"Class_Compare!$H$38*(0.2*(Archon_Status!K19*35))","v":87.500000000000085},{"$f":"(Class_Compare!$I$38*1000+Archon_Status!K19)/1000","v":1.125},{"$f":"(Class_Compare!$J$38*1000+Archon_Status!K19+Archon_Status!L19)/10","v":104.55},{"$f":"((Archon_Status!M19*Class_Compare!$M$38)+5)/2","v":20.950000000000006},{"$f":"((Archon_Status!L19+Archon_Status!M19)*Class_Compare!$N$38)/5","v":3.6900000000000013},200,0,1.4375]
["ArchM1",36,{"$f":"(B38^2*0.7)+Archon_Status!$J20*(Archon_Status!$J20*Class_Compare!$D$38)/2+100","v":2371.2219999999988},{"$f":"(U38)*(Class_Compare!$E$38*(50+1.5*(0.8*Archon_Status!J20+0.2*Archon_Status!M20)))","v":106.45319999999997},{"$f":"Archon_Status!M20*(Archon_Status!M20*Class_Compare!$O$38)+100","v":2216.8000000000011},81.753211009174336,{"$f":"Class_Compare!$B$38*(100+1.2*(0.6*Archon_Status!I20+0.2*Archon_Status!K20+0.2*Archon_Status!L20))","v":51.84640000000001},{"$f":"Class_Compare!$C$38*(100+1.2*(0.6*Archon_Status!I20+0.2*Archon_Status!K20+0.2*Archon_Status!L20))","v":90.731200000000001},{"$f":"(Class_Compare!$G$38*1000)-(Archon_Status!K20*5)","v":871.99999999999989},{"$f":"(Class_Compare!$I$38*1000+Archon_Status!K20)/50","v":22.511999999999997},{"$f":"2+(Class_Compare!$L$38)+(Archon_Status!L20/100)","v":2.91},{"$f":"(0.2*Archon_Status!I20+0.8*Archon_Status!M20)/250","v":0.15488000000000007},{"$f":"(Archon_Status!J20/25)","v":1.9919999999999991},{"$f":"Class_Compare!$H$38*(0.2*(Archon_Status!K20*35))","v":89.60000000000008},{"$f":"(Class_Compare!$I$38*1000+Archon_Status!K20)/1000","v":1.1255999999999999},{"$f":"(Class_Compare!$J$38*1000+Archon_Status!K20+Archon_Status!L20)/10","v":104.66},{"$f":"((Archon_Status!M20*Class_Compare!$M$38)+5)/2","v":21.400000000000006},{"$f":"((Archon_Status!L20+Archon_Status!M20)*Class_Compare!$N$38)/5","v":3.7800000000000011},200,0,1.45]
["ArchM1",37,{"$f":"(B39^2*0.7)+Archon_Status!$J21*(Archon_Status!$J21*Class_Compare!$D$38)/2+100","v":2494.4654999999984},{"$f":"(U39)*(Class_Compare!$E$38*(50+1.5*(0.8*Archon_Status!J21+0.2*Archon_Status!M21)))","v":109.00304999999997},{"$f":"Archon_Status!M21*(Archon_Status!M21*Class_Compare!$O$38)+100","v":2318.8000000000015},82.475949367088631,{"$f":"Class_Compare!$B$38*(100+1.2*(0.6*Archon_Status!I21+0.2*Archon_Status!K21+0.2*Archon_Status!L21))","v":52.124800000000008},{"$f":"Class_Compare!$C$38*(100+1.2*(0.6*Archon_Status!I21+0.2*Archon_Status!K21+0.2*Archon_Status!L21))","v":91.218400000000003},{"$f":"(Class_Compare!$G$38*1000)-(Archon_Status!K21*5)","v":868.99999999999989},{"$f":"(Class_Compare!$I$38*1000+Archon_Status!K21)/50","v":22.524000000000001},{"$f":"2+(Class_Compare!$L$38)+(Archon_Status!L21/100)","v":2.915},{"$f":"(0.2*Archon_Status!I21+0.8*Archon_Status!M21)/250","v":0.15856000000000006},{"$f":"(Archon_Status!J21/25)","v":2.0439999999999987},{"$f":"Class_Compare!$H$38*(0.2*(Archon_Status!K21*35))","v":91.700000000000088},{"$f":"(Class_Compare!$I$38*1000+Archon_Status!K21)/1000","v":1.1262000000000001},{"$f":"(Class_Compare!$J$38*1000+Archon_Status!K21+Archon_Status!L21)/10","v":104.77000000000001},{"$f":"((Archon_Status!M21*Class_Compare!$M$38)+5)/2","v":21.850000000000009},{"$f":"((Archon_Status!L21+Archon_Status!M21)*Class_Compare!$N$38)/5","v":3.8700000000000019},200,0,1.4624999999999999]
["ArchM1",38,{"$f":"(B40^2*0.7)+Archon_Status!$J22*(Archon_Status!$J22*Class_Compare!$D$38)/2+100","v":2620.967999999998},{"$f":"(U40)*(Class_Compare!$E$38*(50+1.5*(0.8*Archon_Status!J22+0.2*Archon_Status!M22)))","v":111.58079999999998},{"$f":"Archon_Status!M22*(Archon_Status!M22*Class_Compare!$O$38)+100","v":2423.2000000000016},83.203695150115507,{"$f":"Class_Compare!$B$38*(100+1.2*(0.6*Archon_Status!I22+0.2*Archon_Status!K22+0.2*Archon_Status!L22))","v":52.40320000000002},{"$f":"Class_Compare!$C$38*(100+1.2*(0.6*Archon_Status!I22+0.2*Archon_Status!K22+0.2*Archon_Status!L22))","v":91.705600000000018},{"$f":"(Class_Compare!$G$38*1000)-(Archon_Status!K22*5)","v":865.99999999999989},{"$f":"(Class_Compare!$I$38*1000+Archon_Status!K22)/50","v":22.535999999999998},{"$f":"2+(Class_Compare!$L$38)+(Archon_Status!L22/100)","v":2.9200000000000004},{"$f":"(0.2*Archon_Status!I22+0.8*Archon_Status!M22)/250","v":0.16224000000000008},{"$f":"(Archon_Status!J22/25)","v":2.0959999999999988},{"$f":"Class_Compare!$H$38*(0.2*(Archon_Status!K22*35))","v":93.800000000000097},{"$f":"(Class_Compare!$I$38*1000+Archon_Status!K22)/1000","v":1.1268},{"$f":"(Class_Compare!$J$38*1000+Archon_Status!K22+Archon_Status!L22)/10","v":104.88},{"$f":"((Archon_Status!M22*Class_Compare!$M$38)+5)/2","v":22.300000000000008},{"$f":"((Archon_Status!L22+Archon_Status!M22)*Class_Compare!$N$38)/5","v":3.9600000000000017},200,0,1.4750000000000001]
["ArchM1",39,{"$f":"(B41^2*0.7)+Archon_Status!$J23*(Archon_Status!$J23*Class_Compare!$D$38)/2+100","v":2750.7294999999986},{"$f":"(U41)*(Class_Compare!$E$38*(50+1.5*(0.8*Archon_Status!J23+0.2*Archon_Status!M23)))","v":114.18644999999998},{"$f":"Archon_Status!M23*(Archon_Status!M23*Class_Compare!$O$38)+100","v":2530.0000000000014},83.936500579374311,{"$f":"Class_Compare!$B$38*(100+1.2*(0.6*Archon_Status!I23+0.2*Archon_Status!K23+0.2*Archon_Status!L23))","v":52.681600000000017},{"$f":"Class_Compare!$C$38*(100+1.2*(0.6*Archon_Status!I23+0.2*Archon_Status!K23+0.2*Archon_Status!L23))","v":92.19280000000002},{"$f":"(Class_Compare!$G$38*1000)-(Archon_Status!K23*5)","v":862.99999999999989},{"$f":"(Class_Compare!$I$38*1000+Archon_Status!K23)/50","v":22.548000000000002},{"$f":"2+(Class_Compare!$L$38)+(Archon_Status!L23/100)","v":2.9250000000000003},{"$f":"(0.2*Archon_Status!I23+0.8*Archon_Status!M23)/250","v":0.16592000000000007},{"$f":"(Archon_Status!J23/25)","v":2.1479999999999988},{"$f":"Class_Compare!$H$38*(0.2*(Archon_Status!K23*35))","v":95.900000000000091},{"$f":"(Class_Compare!$I$38*1000+Archon_Status!K23)/1000","v":1.1274000000000002},{"$f":"(Class_Compare!$J$38*1000+Archon_Status!K23+Archon_Status!L23)/10","v":104.99000000000001},{"$f":"((Archon_Status!M23*Class_Compare!$M$38)+5)/2","v":22.750000000000007},{"$f":"((Archon_Status!L23+Archon_Status!M23)*Class_Compare!$N$38)/5","v":4.0500000000000016},200,0,1.4875]
["ArchM1",40,{"$f":"(B42^2*0.7)+Archon_Status!$J24*(Archon_Status!$J24*Class_Compare!$D$38)/2+100","v":2883.7499999999982},{"$f":"(U42)*(Class_Compare!$E$38*(50+1.5*(0.8*Archon_Status!J24+0.2*Archon_Status!M24)))","v":116.81999999999995},{"$f":"Archon_Status!M24*(Archon_Status!M24*Class_Compare!$O$38)+100","v":2639.2000000000016},84.674418604651194,{"$f":"Class_Compare!$B$38*(100+1.2*(0.6*Archon_Status!I24+0.2*Archon_Status!K24+0.2*Archon_Status!L24))","v":52.960000000000015},{"$f":"Class_Compare!$C$38*(100+1.2*(0.6*Archon_Status!I24+0.2*Archon_Status!K24+0.2*Archon_Status!L24))","v":92.680000000000021},{"$f":"(Class_Compare!$G$38*1000)-(Archon_Status!K24*5)","v":859.99999999999989},{"$f":"(Class_Compare!$I$38*1000+Archon_Status!K24)/50","v":22.56},{"$f":"2+(Class_Compare!$L$38)+(Archon_Status!L24/100)","v":2.93},{"$f":"(0.2*Archon_Status!I24+0.8*Archon_Status!M24)/250","v":0.16960000000000008},{"$f":"(Archon_Status!J24/25)","v":2.1999999999999984},{"$f":"Class_Compare!$H$38*(0.2*(Archon_Status!K24*35))","v":98.000000000000114},{"$f":"(Class_Compare!$I$38*1000+Archon_Status!K24)/1000","v":1.1279999999999999},{"$f":"(Class_Compare!$J$38*1000+Archon_Status!K24+Archon_Status!L24)/10","v":105.1},{"$f":"((Archon_Status!M24*Class_Compare!$M$38)+5)/2","v":23.200000000000006},{"$f":"((Archon_Status!L24+Archon_Status!M24)*Class_Compare!$N$38)/5","v":4.1400000000000015},200,0,1.5]
["ArchM1",41,{"$f":"(B43^2*0.7)+Archon_Status!$J25*(Archon_Status!$J25*Class_Compare!$D$38)/2+100","v":3020.0294999999978},{"$f":"(U43)*(Class_Compare!$E$38*(50+1.5*(0.8*Archon_Status!J25+0.2*Archon_Status!M25)))","v":119.48144999999998},{"$f":"Archon_Status!M25*(Archon_Status!M25*Class_Compare!$O$38)+100","v":2750.8000000000015},85.417502917152902,{"$f":"Class_Compare!$B$38*(100+1.2*(0.6*Archon_Status!I25+0.2*Archon_Status!K25+0.2*Archon_Status!L25))","v":53.238400000000013},{"$f":"Class_Compare!$C$38*(100+1.2*(0.6*Archon_Status!I25+0.2*Archon_Status!K25+0.2*Archon_Status!L25))","v":93.167200000000022},{"$f":"(Class_Compare!$G$38*1000)-(Archon_Status!K25*5)","v":856.99999999999989},{"$f":"(Class_Compare!$I$38*1000+Archon_Status!K25)/50","v":22.572000000000003},{"$f":"2+(Class_Compare!$L$38)+(Archon_Status!L25/100)","v":2.9350000000000001},{"$f":"(0.2*Archon_Status!I25+0.8*Archon_Status!M25)/250","v":0.17328000000000007},{"$f":"(Archon_Status!J25/25)","v":2.2519999999999984},{"$f":"Class_Compare!$H$38*(0.2*(Archon_Status!K25*35))","v":100.10000000000011},{"$f":"(Class_Compare!$I$38*1000+Archon_Status!K25)/1000","v":1.1286},{"$f":"(Class_Compare!$J$38*1000+Archon_Status!K25+Archon_Status!L25)/10","v":105.21000000000001},{"$f":"((Archon_Status!M25*Class_Compare!$M$38)+5)/2","v":23.650000000000006},{"$f":"((Archon_Status!L25+Archon_Status!M25)*Class_Compare!$N$38)/5","v":4.2300000000000022},200,0,1.5125000000000002]
["ArchM1",42,{"$f":"(B44^2*0.7)+Archon_Status!$J26*(Archon_Status!$J26*Class_Compare!$D$38)/2+100","v":3159.5679999999975},{"$f":"(U44)*(Class_Compare!$E$38*(50+1.5*(0.8*Archon_Status!J26+0.2*Archon_Status!M26)))","v":122.17079999999994},{"$f":"Archon_Status!M26*(Archon_Status!M26*Class_Compare!$O$38)+100","v":2864.8000000000015},86.165807962529314,{"$f":"Class_Compare!$B$38*(100+1.2*(0.6*Archon_Status!I26+0.2*Archon_Status!K26+0.2*Archon_Status!L26))","v":53.516800000000018},{"$f":"Class_Compare!$C$38*(100+1.2*(0.6*Archon_Status!I26+0.2*Archon_Status!K26+0.2*Archon_Status!L26))","v":93.65440000000001},{"$f":"(Class_Compare!$G$38*1000)-(Archon_Status!K26*5)","v":853.99999999999977},{"$f":"(Class_Compare!$I$38*1000+Archon_Status!K26)/50","v":22.584},{"$f":"2+(Class_Compare!$L$38)+(Archon_Status!L26/100)","v":2.9400000000000004},{"$f":"(0.2*Archon_Status!I26+0.8*Archon_Status!M26)/250","v":0.17696000000000009},{"$f":"(Archon_Status!J26/25)","v":2.3039999999999985},{"$f":"Class_Compare!$H$38*(0.2*(Archon_Status!K26*35))","v":102.20000000000012},{"$f":"(Class_Compare!$I$38*1000+Archon_Status!K26)/1000","v":1.1292},{"$f":"(Class_Compare!$J$38*1000+Archon_Status!K26+Archon_Status!L26)/10","v":105.32000000000001},{"$f":"((Archon_Status!M26*Class_Compare!$M$38)+5)/2","v":24.100000000000009},{"$f":"((Archon_Status!L26+Archon_Status!M26)*Class_Compare!$N$38)/5","v":4.3200000000000021},200,0,1.5249999999999999]
["ArchM1",43,{"$f":"(B45^2*0.7)+Archon_Status!$J27*(Archon_Status!$J27*Class_Compare!$D$38)/2+100","v":3302.3654999999972},{"$f":"(U45)*(Class_Compare!$E$38*(50+1.5*(0.8*Archon_Status!J27+0.2*Archon_Status!M27)))","v":124.88804999999998},{"$f":"Archon_Status!M27*(Archon_Status!M27*Class_Compare!$O$38)+100","v":2981.2000000000012},86.919388954171609,{"$f":"Class_Compare!$B$38*(100+1.2*(0.6*Archon_Status!I27+0.2*Archon_Status!K27+0.2*Archon_Status!L27))","v":53.795200000000015},{"$f":"Class_Compare!$C$38*(100+1.2*(0.6*Archon_Status!I27+0.2*Archon_Status!K27+0.2*Archon_Status!L27))","v":94.141600000000011},{"$f":"(Class_Compare!$G$38*1000)-(Archon_Status!K27*5)","v":850.99999999999977},{"$f":"(Class_Compare!$I$38*1000+Archon_Status!K27)/50","v":22.596},{"$f":"2+(Class_Compare!$L$38)+(Archon_Status!L27/100)","v":2.9450000000000003},{"$f":"(0.2*Archon_Status!I27+0.8*Archon_Status!M27)/250","v":0.18064000000000011},{"$f":"(Archon_Status!J27/25)","v":2.3559999999999981},{"$f":"Class_Compare!$H$38*(0.2*(Archon_Status!K27*35))","v":104.30000000000013},{"$f":"(Class_Compare!$I$38*1000+Archon_Status!K27)/1000","v":1.1297999999999999},{"$f":"(Class_Compare!$J$38*1000+Archon_Status!K27+Archon_Status!L27)/10","v":105.42999999999999},{"$f":"((Archon_Status!M27*Class_Compare!$M$38)+5)/2","v":24.550000000000008},{"$f":"((Archon_Status!L27+Archon_Status!M27)*Class_Compare!$N$38)/5","v":4.4100000000000019},200,0,1.5375000000000001]
["ArchM1",44,{"$f":"(B46^2*0.7)+Archon_Status!$J28*(Archon_Status!$J28*Class_Compare!$D$38)/2+100","v":3448.4219999999968},{"$f":"(U46)*(Class_Compare!$E$38*(50+1.5*(0.8*Archon_Status!J28+0.2*Archon_Status!M28)))","v":127.63319999999995},{"$f":"Archon_Status!M28*(Archon_Status!M28*Class_Compare!$O$38)+100","v":3100.0000000000014},87.678301886792482,{"$f":"Class_Compare!$B$38*(100+1.2*(0.6*Archon_Status!I28+0.2*Archon_Status!K28+0.2*Archon_Status!L28))","v":54.073600000000013},{"$f":"Class_Compare!$C$38*(100+1.2*(0.6*Archon_Status!I28+0.2*Archon_Status!K28+0.2*Archon_Status!L28))","v":94.628800000000012},{"$f":"(Class_Compare!$G$38*1000)-(Archon_Status!K28*5)","v":847.99999999999977},{"$f":"(Class_Compare!$I$38*1000+Archon_Status!K28)/50","v":22.608000000000001},{"$f":"2+(Class_Compare!$L$38)+(Archon_Status!L28/100)","v":2.95},{"$f":"(0.2*Archon_Status!I28+0.8*Archon_Status!M28)/250","v":0.18432000000000007},{"$f":"(Archon_Status!J28/25)","v":2.4079999999999981},{"$f":"Class_Compare!$H$38*(0.2*(Archon_Status!K28*35))","v":106.40000000000012},{"$f":"(Class_Compare!$I$38*1000+Archon_Status!K28)/1000","v":1.1304000000000001},{"$f":"(Class_Compare!$J$38*1000+Archon_Status!K28+Archon_Status!L28)/10","v":105.54},{"$f":"((Archon_Status!M28*Class_Compare!$M$38)+5)/2","v":25.000000000000007},{"$f":"((Archon_Status!L28+Archon_Status!M28)*Class_Compare!$N$38)/5","v":4.5000000000000018},200,0,1.55]
["ArchM1",45,{"$f":"(B47^2*0.7)+Archon_Status!$J29*(Archon_Status!$J29*Class_Compare!$D$38)/2+100","v":3597.7374999999965},{"$f":"(U47)*(Class_Compare!$E$38*(50+1.5*(0.8*Archon_Status!J29+0.2*Archon_Status!M29)))","v":130.40624999999994},{"$f":"Archon_Status!M29*(Archon_Status!M29*Class_Compare!$O$38)+100","v":3221.2000000000016},88.442603550295885,{"$f":"Class_Compare!$B$38*(100+1.2*(0.6*Archon_Status!I29+0.2*Archon_Status!K29+0.2*Archon_Status!L29))","v":54.352000000000011},{"$f":"Class_Compare!$C$38*(100+1.2*(0.6*Archon_Status!I29+0.2*Archon_Status!K29+0.2*Archon_Status!L29))","v":95.116000000000014},{"$f":"(Class_Compare!$G$38*1000)-(Archon_Status!K29*5)","v":844.99999999999977},{"$f":"(Class_Compare!$I$38*1000+Archon_Status!K29)/50","v":22.62},{"$f":"2+(Class_Compare!$L$38)+(Archon_Status!L29/100)","v":2.9550000000000001},{"$f":"(0.2*Archon_Status!I29+0.8*Archon_Status!M29)/250","v":0.18800000000000008},{"$f":"(Archon_Status!J29/25)","v":2.4599999999999982},{"$f":"Class_Compare!$H$38*(0.2*(Archon_Status!K29*35))","v":108.50000000000011},{"$f":"(Class_Compare!$I$38*1000+Archon_Status!K29)/1000","v":1.131},{"$f":"(Class_Compare!$J$38*1000+Archon_Status!K29+Archon_Status!L29)/10","v":105.65},{"$f":"((Archon_Status!M29*Class_Compare!$M$38)+5)/2","v":25.450000000000006},{"$f":"((Archon_Status!L29+Archon_Status!M29)*Class_Compare!$N$38)/5","v":4.5900000000000016},200,0,1.5625]
["ArchM1",46,{"$f":"(B48^2*0.7)+Archon_Status!$J30*(Archon_Status!$J30*Class_Compare!$D$38)/2+100","v":3750.3119999999963},{"$f":"(U48)*(Class_Compare!$E$38*(50+1.5*(0.8*Archon_Status!J30+0.2*Archon_Status!M30)))","v":133.20719999999997},{"$f":"Archon_Status!M30*(Archon_Status!M30*Class_Compare!$O$38)+100","v":3344.8000000000015},89.212351543943043,{"$f":"Class_Compare!$B$38*(100+1.2*(0.6*Archon_Status!I30+0.2*Archon_Status!K30+0.2*Archon_Status!L30))","v":54.630400000000009},{"$f":"Class_Compare!$C$38*(100+1.2*(0.6*Archon_Status!I30+0.2*Archon_Status!K30+0.2*Archon_Status!L30))","v":95.603200000000015},{"$f":"(Class_Compare!$G$38*1000)-(Archon_Status!K30*5)","v":841.99999999999977},{"$f":"(Class_Compare!$I$38*1000+Archon_Status!K30)/50","v":22.632000000000001},{"$f":"2+(Class_Compare!$L$38)+(Archon_Status!L30/100)","v":2.9600000000000004},{"$f":"(0.2*Archon_Status!I30+0.8*Archon_Status!M30)/250","v":0.1916800000000001},{"$f":"(Archon_Status!J30/25)","v":2.5119999999999978},{"$f":"Class_Compare!$H$38*(0.2*(Archon_Status!K30*35))","v":110.60000000000014},{"$f":"(Class_Compare!$I$38*1000+Archon_Status!K30)/1000","v":1.1316000000000002},{"$f":"(Class_Compare!$J$38*1000+Archon_Status!K30+Archon_Status!L30)/10","v":105.76000000000002},{"$f":"((Archon_Status!M30*Class_Compare!$M$38)+5)/2","v":25.900000000000006},{"$f":"((Archon_Status!L30+Archon_Status!M30)*Class_Compare!$N$38)/5","v":4.6800000000000015},200,0,1.5750000000000002]
["ArchM1",47,{"$f":"(B49^2*0.7)+Archon_Status!$J31*(Archon_Status!$J31*Class_Compare!$D$38)/2+100","v":3906.1454999999969},{"$f":"(U49)*(Class_Compare!$E$38*(50+1.5*(0.8*Archon_Status!J31+0.2*Archon_Status!M31)))","v":136.03604999999993},{"$f":"Archon_Status!M31*(Archon_Status!M31*Class_Compare!$O$38)+100","v":3470.8000000000015},89.987604290822475,{"$f":"Class_Compare!$B$38*(100+1.2*(0.6*Archon_Status!I31+0.2*Archon_Status!K31+0.2*Archon_Status!L31))","v":54.908800000000021},{"$f":"Class_Compare!$C$38*(100+1.2*(0.6*Archon_Status!I31+0.2*Archon_Status!K31+0.2*Archon_Status!L31))","v":96.090400000000031},{"$f":"(Class_Compare!$G$38*1000)-(Archon_Status!K31*5)","v":838.99999999999977},{"$f":"(Class_Compare!$I$38*1000+Archon_Status!K31)/50","v":22.644000000000002},{"$f":"2+(Class_Compare!$L$38)+(Archon_Status!L31/100)","v":2.9650000000000003},{"$f":"(0.2*Archon_Status!I31+0.8*Archon_Status!M31)/250","v":0.19536000000000006},{"$f":"(Archon_Status!J31/25)","v":2.5639999999999983},{"$f":"Class_Compare!$H$38*(0.2*(Archon_Status!K31*35))","v":112.70000000000014},{"$f":"(Class_Compare!$I$38*1000+Archon_Status!K31)/1000","v":1.1322000000000001},{"$f":"(Class_Compare!$J$38*1000+Archon_Status!K31+Archon_Status!L31)/10","v":105.87},{"$f":"((Archon_Status!M31*Class_Compare!$M$38)+5)/2","v":26.350000000000009},{"$f":"((Archon_Status!L31+Archon_Status!M31)*Class_Compare!$N$38)/5","v":4.7700000000000014},200,0,1.5874999999999999]
["ArchM1",48,{"$f":"(B50^2*0.7)+Archon_Status!$J32*(Archon_Status!$J32*Class_Compare!$D$38)/2+100","v":4065.2379999999966},{"$f":"(U50)*(Class_Compare!$E$38*(50+1.5*(0.8*Archon_Status!J32+0.2*Archon_Status!M32)))","v":138.89279999999994},{"$f":"Archon_Status!M32*(Archon_Status!M32*Class_Compare!$O$38)+100","v":3599.2000000000016},90.768421052631624,{"$f":"Class_Compare!$B$38*(100+1.2*(0.6*Archon_Status!I32+0.2*Archon_Status!K32+0.2*Archon_Status!L32))","v":55.187200000000018},{"$f":"Class_Compare!$C$38*(100+1.2*(0.6*Archon_Status!I32+0.2*Archon_Status!K32+0.2*Archon_Status!L32))","v":96.577600000000032},{"$f":"(Class_Compare!$G$38*1000)-(Archon_Status!K32*5)","v":835.99999999999977},{"$f":"(Class_Compare!$I$38*1000+Archon_Status!K32)/50","v":22.655999999999999},{"$f":"2+(Class_Compare!$L$38)+(Archon_Status!L32/100)","v":2.97},{"$f":"(0.2*Archon_Status!I32+0.8*Archon_Status!M32)/250","v":0.19904000000000011},{"$f":"(Archon_Status!J32/25)","v":2.6159999999999979},{"$f":"Class_Compare!$H$38*(0.2*(Archon_Status!K32*35))","v":114.80000000000014},{"$f":"(Class_Compare!$I$38*1000+Archon_Status!K32)/1000","v":1.1328},{"$f":"(Class_Compare!$J$38*1000+Archon_Status!K32+Archon_Status!L32)/10","v":105.97999999999999},{"$f":"((Archon_Status!M32*Class_Compare!$M$38)+5)/2","v":26.800000000000008},{"$f":"((Archon_Status!L32+Archon_Status!M32)*Class_Compare!$N$38)/5","v":4.8600000000000012},200,0,1.6]
["ArchM1",49,{"$f":"(B51^2*0.7)+Archon_Status!$J33*(Archon_Status!$J33*Class_Compare!$D$38)/2+100","v":4227.5894999999964},{"$f":"(U51)*(Class_Compare!$E$38*(50+1.5*(0.8*Archon_Status!J33+0.2*Archon_Status!M33)))","v":141.77744999999996},{"$f":"Archon_Status!M33*(Archon_Status!M33*Class_Compare!$O$38)+100","v":3730.0000000000018},91.554861944777969,{"$f":"Class_Compare!$B$38*(100+1.2*(0.6*Archon_Status!I33+0.2*Archon_Status!K33+0.2*Archon_Status!L33))","v":55.465600000000023},{"$f":"Class_Compare!$C$38*(100+1.2*(0.6*Archon_Status!I33+0.2*Archon_Status!K33+0.2*Archon_Status!L33))","v":97.06480000000002},{"$f":"(Class_Compare!$G$38*1000)-(Archon_Status!K33*5)","v":832.99999999999977},{"$f":"(Class_Compare!$I$38*1000+Archon_Status!K33)/50","v":22.668000000000003},{"$f":"2+(Class_Compare!$L$38)+(Archon_Status!L33/100)","v":2.9750000000000001},{"$f":"(0.2*Archon_Status!I33+0.8*Archon_Status!M33)/250","v":0.20272000000000009},{"$f":"(Archon_Status!J33/25)","v":2.6679999999999979},{"$f":"Class_Compare!$H$38*(0.2*(Archon_Status!K33*35))","v":116.90000000000015},{"$f":"(Class_Compare!$I$38*1000+Archon_Status!K33)/1000","v":1.1334000000000002},{"$f":"(Class_Compare!$J$38*1000+Archon_Status!K33+Archon_Status!L33)/10","v":106.09},{"$f":"((Archon_Status!M33*Class_Compare!$M$38)+5)/2","v":27.250000000000007},{"$f":"((Archon_Status!L33+Archon_Status!M33)*Class_Compare!$N$38)/5","v":4.9500000000000011},200,0,1.6125]
["ArchM1",50,{"$f":"(B52^2*0.7)+Archon_Status!$J34*(Archon_Status!$J34*Class_Compare!$D$38)/2+100","v":4393.1999999999953},{"$f":"(U52)*(Class_Compare!$E$38*(50+1.5*(0.8*Archon_Status!J34+0.2*Archon_Status!M34)))","v":144.68999999999994},{"$f":"Archon_Status!M34*(Archon_Status!M34*Class_Compare!$O$38)+100","v":3863.2000000000021},92.346987951807279,{"$f":"Class_Compare!$B$38*(100+1.2*(0.6*Archon_Status!I34+0.2*Archon_Status!K34+0.2*Archon_Status!L34))","v":55.744000000000021},{"$f":"Class_Compare!$C$38*(100+1.2*(0.6*Archon_Status!I34+0.2*Archon_Status!K34+0.2*Archon_Status!L34))","v":97.552000000000021},{"$f":"(Class_Compare!$G$38*1000)-(Archon_Status!K34*5)","v":829.99999999999977},{"$f":"(Class_Compare!$I$38*1000+Archon_Status!K34)/50","v":22.68},{"$f":"2+(Class_Compare!$L$38)+(Archon_Status!L34/100)","v":2.9800000000000004},{"$f":"(0.2*Archon_Status!I34+0.8*Archon_Status!M34)/250","v":0.20640000000000008},{"$f":"(Archon_Status!J34/25)","v":2.7199999999999975},{"$f":"Class_Compare!$H$38*(0.2*(Archon_Status!K34*35))","v":119.00000000000017},{"$f":"(Class_Compare!$I$38*1000+Archon_Status!K34)/1000","v":1.1339999999999999},{"$f":"(Class_Compare!$J$38*1000+Archon_Status!K34+Archon_Status!L34)/10","v":106.2},{"$f":"((Archon_Status!M34*Class_Compare!$M$38)+5)/2","v":27.700000000000006},{"$f":"((Archon_Status!L34+Archon_Status!M34)*Class_Compare!$N$38)/5","v":5.0400000000000009},200,0,1.625]
["클래스","ArchM2"]
["ArchM2",21,913.64950000000056,71.553450000000012,974.80000000000075,71.479607415485262,47.670400000000001,83.423199999999994,917,22.331999999999997,2.8350000000000004,9.9680000000000046E-2,1.2120000000000006,58.1,1.1165999999999998,103.01000000000002,14.650000000000007,2.430000000000001,200,0]
["ArchM2",22,988.00800000000049,73.68480000000001,1040.8000000000009,72.133041575492342,47.948800000000006,83.91040000000001,914,22.344000000000001,2.8400000000000003,0.10336000000000006,1.2640000000000007,60.200000000000017,1.1172,103.12,15.100000000000007,2.5200000000000014,200,0]
["ArchM2",23,1065.6255000000006,75.84405000000001,1109.2000000000012,72.790779363336995,48.227200000000011,84.397599999999997,911,22.355999999999998,2.8450000000000002,0.10704000000000007,1.3160000000000005,62.300000000000011,1.1177999999999999,103.22999999999999,15.550000000000006,2.6100000000000012,200,0]
["ArchM2",24,1146.5020000000004,78.031200000000013,1180.0000000000009,73.452863436123337,48.505600000000008,84.884799999999998,908,22.368000000000002,2.85,0.11072000000000005,1.3680000000000003,64.40000000000002,1.1184000000000001,103.34,16.000000000000007,2.7000000000000011,200,0]
["ArchM2",25,1230.6375000000003,80.246250000000003,1253.200000000001,74.11933701657459,48.784000000000006,85.372,905,22.38,2.8550000000000004,0.11440000000000004,1.4200000000000004,66.500000000000028,1.119,103.45,16.450000000000006,2.7900000000000014,200,0]
["ArchM2",26,1318.0320000000004,82.489200000000011,1328.8000000000009,74.79024390243903,49.062400000000004,85.859200000000001,902,22.391999999999999,2.8600000000000003,0.11808000000000006,1.4720000000000002,68.600000000000037,1.1195999999999999,103.56000000000002,16.900000000000006,2.8800000000000012,200,0]
["ArchM2",27,1408.6855,84.760049999999993,1406.8000000000011,75.465628476084547,49.340800000000002,86.346400000000003,899,22.404,2.8650000000000002,0.12176000000000006,1.524,70.700000000000031,1.1202000000000001,103.67,17.350000000000009,2.9700000000000011,200,0]
["ArchM2",28,1502.598,87.058800000000005,1487.2000000000012,76.145535714285728,49.619200000000006,86.833600000000004,896,22.416,2.87,0.12544000000000008,1.5759999999999998,72.800000000000054,1.1208,103.78,17.800000000000004,3.0600000000000014,200,0]
["ArchM2",29,1599.7694999999999,89.385450000000006,1570.0000000000011,76.830011198208297,49.897600000000011,87.320800000000006,893,22.428000000000001,2.8750000000000004,0.12912000000000007,1.6279999999999999,74.900000000000048,1.1214000000000002,103.89000000000001,18.250000000000007,3.1500000000000012,200,0]
["ArchM2",30,1700.1999999999998,91.739999999999981,1655.2000000000012,77.519101123595519,50.176000000000009,87.808000000000007,889.99999999999989,22.44,2.8800000000000003,0.13280000000000006,1.6799999999999997,77.000000000000057,1.1220000000000001,104,18.700000000000006,3.2400000000000011,200,0]
["ArchM2",31,1803.8894999999998,94.122450000000001,1742.8000000000011,78.212852311161242,50.454400000000014,88.295200000000008,886.99999999999989,22.451999999999998,2.8850000000000002,0.13648000000000007,1.7319999999999995,79.100000000000065,1.1225999999999998,104.11000000000001,19.150000000000006,3.330000000000001,200,0]
["ArchM2",32,1910.8379999999993,96.532799999999966,1832.8000000000013,78.911312217194592,50.732800000000012,88.78240000000001,883.99999999999989,22.464000000000002,2.89,0.14016000000000006,1.7839999999999996,81.20000000000006,1.1232,104.22,19.600000000000009,3.4200000000000008,200,0]
["ArchM2",33,2021.0454999999993,98.971050000000005,1925.2000000000014,79.614528944381419,51.011200000000009,89.269600000000011,880.99999999999989,22.475999999999999,2.8950000000000005,0.14384000000000005,1.8359999999999994,83.300000000000068,1.1237999999999999,104.33000000000001,20.050000000000008,3.5100000000000007,200,0]
["ArchM2",34,2134.5119999999988,101.43719999999998,2020.0000000000014,80.322551252847404,51.289600000000007,89.756800000000013,877.99999999999989,22.488000000000003,2.9000000000000004,0.14752000000000007,1.8879999999999992,85.400000000000077,1.1244000000000001,104.44000000000001,20.500000000000007,3.6000000000000014,200,0]
["ArchM2",35,2251.2374999999993,103.93124999999998,2117.2000000000016,81.035428571428596,51.568000000000012,90.244,874.99999999999989,22.5,2.9050000000000002,0.15120000000000008,1.9399999999999991,87.500000000000085,1.125,104.55,20.950000000000006,3.6900000000000013,200,0]
["ArchM2",36,2371.2219999999988,106.45319999999997,2216.8000000000011,81.753211009174336,51.84640000000001,90.731200000000001,871.99999999999989,22.511999999999997,2.91,0.15488000000000007,1.9919999999999991,89.60000000000008,1.1255999999999999,104.66,21.400000000000006,3.7800000000000011,200,0]
["ArchM2",37,2494.4654999999984,109.00304999999997,2318.8000000000015,82.475949367088631,52.124800000000008,91.218400000000003,868.99999999999989,22.524000000000001,2.915,0.15856000000000006,2.0439999999999987,91.700000000000088,1.1262000000000001,104.77000000000001,21.850000000000009,3.8700000000000019,200,0]
["ArchM2",38,2620.967999999998,111.58079999999998,2423.2000000000016,83.203695150115507,52.40320000000002,91.705600000000018,865.99999999999989,22.535999999999998,2.9200000000000004,0.16224000000000008,2.0959999999999988,93.800000000000097,1.1268,104.88,22.300000000000008,3.9600000000000017,200,0]
["ArchM2",39,2750.7294999999986,114.18644999999998,2530.0000000000014,83.936500579374311,52.681600000000017,92.19280000000002,862.99999999999989,22.548000000000002,2.9250000000000003,0.16592000000000007,2.1479999999999988,95.900000000000091,1.1274000000000002,104.99000000000001,22.750000000000007,4.0500000000000016,200,0]
["ArchM2",40,2883.7499999999982,116.81999999999995,2639.2000000000016,84.674418604651194,52.960000000000015,92.680000000000021,859.99999999999989,22.56,2.93,0.16960000000000008,2.1999999999999984,98.000000000000114,1.1279999999999999,105.1,23.200000000000006,4.1400000000000015,200,0]
["ArchM2",41,3020.0294999999978,119.48144999999998,2750.8000000000015,85.417502917152902,53.238400000000013,93.167200000000022,856.99999999999989,22.572000000000003,2.9350000000000001,0.17328000000000007,2.2519999999999984,100.10000000000011,1.1286,105.21000000000001,23.650000000000006,4.2300000000000022,200,0]
["ArchM2",42,3159.5679999999975,122.17079999999994,2864.8000000000015,86.165807962529314,53.516800000000018,93.65440000000001,853.99999999999977,22.584,2.9400000000000004,0.17696000000000009,2.3039999999999985,102.20000000000012,1.1292,105.32000000000001,24.100000000000009,4.3200000000000021,200,0]
["ArchM2",43,3302.3654999999972,124.88804999999998,2981.2000000000012,86.919388954171609,53.795200000000015,94.141600000000011,850.99999999999977,22.596,2.9450000000000003,0.18064000000000011,2.3559999999999981,104.30000000000013,1.1297999999999999,105.42999999999999,24.550000000000008,4.4100000000000019,200,0]
["ArchM2",44,3448.4219999999968,127.63319999999995,3100.0000000000014,87.678301886792482,54.073600000000013,94.628800000000012,847.99999999999977,22.608000000000001,2.95,0.18432000000000007,2.4079999999999981,106.40000000000012,1.1304000000000001,105.54,25.000000000000007,4.5000000000000018,200,0]
["ArchM2",45,3597.7374999999965,130.40624999999994,3221.2000000000016,88.442603550295885,54.352000000000011,95.116000000000014,844.99999999999977,22.62,2.9550000000000001,0.18800000000000008,2.4599999999999982,108.50000000000011,1.131,105.65,25.450000000000006,4.5900000000000016,200,0]
["ArchM2",46,3750.3119999999963,133.20719999999997,3344.8000000000015,89.212351543943043,54.630400000000009,95.603200000000015,841.99999999999977,22.632000000000001,2.9600000000000004,0.1916800000000001,2.5119999999999978,110.60000000000014,1.1316000000000002,105.76000000000002,25.900000000000006,4.6800000000000015,200,0]
["ArchM2",47,3906.1454999999969,136.03604999999993,3470.8000000000015,89.987604290822475,54.908800000000021,96.090400000000031,838.99999999999977,22.644000000000002,2.9650000000000003,0.19536000000000006,2.5639999999999983,112.70000000000014,1.1322000000000001,105.87,26.350000000000009,4.7700000000000014,200,0]
["ArchM2",48,4065.2379999999966,138.89279999999994,3599.2000000000016,90.768421052631624,55.187200000000018,96.577600000000032,835.99999999999977,22.655999999999999,2.97,0.19904000000000011,2.6159999999999979,114.80000000000014,1.1328,105.97999999999999,26.800000000000008,4.8600000000000012,200,0]
["ArchM2",49,4227.5894999999964,141.77744999999996,3730.0000000000018,91.554861944777969,55.465600000000023,97.06480000000002,832.99999999999977,22.668000000000003,2.9750000000000001,0.20272000000000009,2.6679999999999979,116.90000000000015,1.1334000000000002,106.09,27.250000000000007,4.9500000000000011,200,0]
["ArchM2",50,4393.1999999999953,144.68999999999994,3863.2000000000021,92.346987951807279,55.744000000000021,97.552000000000021,829.99999999999977,22.68,2.9800000000000004,0.20640000000000008,2.7199999999999975,119.00000000000017,1.1339999999999999,106.2,27.700000000000006,5.0400000000000009,200,0]

{"sheet":"Knight_Status","index":11,"n_rows":44,"n_cols":20,"rows_kept":44,"cut":false,"hidden":false,"merged":[]}
["초기시작",4,12,15,6,3,null,null,0.4,1.2,1.5,0.6,0.3,null,null,0.4,1.2,1.5,0.6,0.3]
["Knight",{"$f":"VLOOKUP($A2,Class_Status!$B$3:$G$25,2,0)","v":0.3},{"$f":"VLOOKUP($A2,Class_Status!$B$3:$G$25,3,0)","v":1},{"$f":"VLOOKUP($A2,Class_Status!$B$3:$G$25,4,0)","v":1},{"$f":"VLOOKUP($A2,Class_Status!$B$3:$G$25,5,0)","v":0.5},{"$f":"VLOOKUP($A2,Class_Status!$B$3:$G$25,6,0)","v":0.2},null,"KntM1",{"$f":"VLOOKUP($H2,Class_Status!$B$3:$G$25,2,0)","v":0.4},{"$f":"VLOOKUP($H2,Class_Status!$B$3:$G$25,3,0)","v":1.2},{"$f":"VLOOKUP($H2,Class_Status!$B$3:$G$25,4,0)","v":1.5},{"$f":"VLOOKUP($H2,Class_Status!$B$3:$G$25,5,0)","v":0.6},{"$f":"VLOOKUP($H2,Class_Status!$B$3:$G$25,6,0)","v":0.3},null,"KntM2",{"$f":"VLOOKUP($O2,Class_Status!$B$3:$G$25,2,0)","v":1},{"$f":"VLOOKUP($O2,Class_Status!$B$3:$G$25,3,0)","v":1},{"$f":"VLOOKUP($O2,Class_Status!$B$3:$G$25,4,0)","v":1},{"$f":"VLOOKUP($O2,Class_Status!$B$3:$G$25,5,0)","v":1},{"$f":"VLOOKUP($O2,Class_Status!$B$3:$G$25,6,0)","v":1}]
["Knight",{"$f":"SUM(B1:B2)","v":4.3},{"$f":"SUM(C1:C2)","v":13},{"$f":"SUM(D1:D2)","v":16},{"$f":"SUM(E1:E2)","v":6.5},{"$f":"SUM(F1:F2)","v":3.2},null,"KntM1",{"$f":"B24","v":10.000000000000002},{"$f":"C24","v":32},{"$f":"D24","v":35},{"$f":"E24","v":16},{"$f":"F24","v":7.0000000000000036},null,"KntM2",{"$f":"SUM(P1:P2)","v":1.4},{"$f":"SUM(Q1:Q2)","v":2.2000000000000002},{"$f":"SUM(R1:R2)","v":2.5},{"$f":"SUM(S1:S2)","v":1.6},{"$f":"SUM(T1:T2)","v":1.3}]
["Lvl","P_Str","P_Sta","P_Agil","P_Int","P_Wis",null,"Lvl","P_Str","P_Sta","P_Agil","P_Int","P_Wis",null,"Lvl","P_Str","P_Sta","P_Agil","P_Int","P_Wis"]
[1,{"$f":"B3","v":4.3},{"$f":"C3","v":13},{"$f":"D3","v":16},{"$f":"E3","v":6.5},{"$f":"F3","v":3.2},null,21,{"$f":"I3+I$2","v":10.400000000000002},{"$f":"J3+J$2","v":33.200000000000003},{"$f":"K3+K$2","v":36.5},{"$f":"L3+L$2","v":16.600000000000001},{"$f":"M3+M$2","v":7.3000000000000034},null,21,{"$f":"B24+P3","v":11.400000000000002},{"$f":"C24+Q3","v":34.200000000000003},{"$f":"D24+R3","v":37.5},{"$f":"E24+S3","v":17.600000000000001},{"$f":"F24+T3","v":8.3000000000000043}]
[2,{"$f":"B5+B$2","v":4.5999999999999996},{"$f":"C5+C$2","v":14},{"$f":"D5+D$2","v":17},{"$f":"E5+E$2","v":7},{"$f":"F5+F$2","v":3.4000000000000004},null,22,{"$f":"I5+I$2","v":10.800000000000002},{"$f":"J5+J$2","v":34.400000000000006},{"$f":"K5+K$2","v":38},{"$f":"L5+L$2","v":17.200000000000003},{"$f":"M5+M$2","v":7.6000000000000032},null,22,{"$f":"P5+P$3","v":12.800000000000002},{"$f":"Q5+Q$3","v":36.400000000000006},{"$f":"R5+R$3","v":40},{"$f":"S5+S$3","v":19.200000000000003},{"$f":"T5+T$3","v":9.600000000000005}]
[3,{"$f":"B6+B$2","v":4.8999999999999995},{"$f":"C6+C$2","v":15},{"$f":"D6+D$2","v":18},{"$f":"E6+E$2","v":7.5},{"$f":"F6+F$2","v":3.6000000000000005},null,23,{"$f":"I6+I$2","v":11.200000000000003},{"$f":"J6+J$2","v":35.600000000000009},{"$f":"K6+K$2","v":39.5},{"$f":"L6+L$2","v":17.800000000000004},{"$f":"M6+M$2","v":7.900000000000003},null,23,14.200000000000003,38.600000000000009,42.5,20.800000000000004,10.900000000000006]
[4,5.1999999999999993,16,19,8,3.8000000000000007,null,24,11.600000000000003,36.800000000000011,41,18.400000000000006,8.2000000000000028,null,24,15.600000000000003,40.800000000000011,45,22.400000000000006,12.200000000000006]
[5,5.4999999999999991,17,20,8.5,4.0000000000000009,null,25,12.000000000000004,38.000000000000014,42.5,19.000000000000007,8.5000000000000036,null,25,17.000000000000004,43.000000000000014,47.5,24.000000000000007,13.500000000000007]
[6,5.7999999999999989,18,21,9,4.2000000000000011,null,26,12.400000000000004,39.200000000000017,44,19.600000000000009,8.8000000000000043,null,26,18.400000000000002,45.200000000000017,50,25.600000000000009,14.800000000000008]
[7,6.0999999999999988,19,22,9.5,4.4000000000000012,null,27,12.800000000000004,40.40000000000002,45.5,20.20000000000001,9.100000000000005,null,27,19.8,47.40000000000002,52.5,27.20000000000001,16.100000000000009]
[8,6.3999999999999986,20,23,10,4.6000000000000014,null,28,13.200000000000005,41.600000000000023,47,20.800000000000011,9.4000000000000057,null,28,21.2,49.600000000000023,55,28.800000000000011,17.400000000000009]
[9,6.6999999999999984,21,24,10.5,4.8000000000000016,null,29,13.600000000000005,42.800000000000026,48.5,21.400000000000013,9.7000000000000064,null,29,22.599999999999998,51.800000000000026,57.5,30.400000000000013,18.70000000000001]
[10,6.9999999999999982,22,25,11,5.0000000000000018,null,30,14.000000000000005,44.000000000000028,50,22.000000000000014,10.000000000000007,null,30,23.999999999999996,54.000000000000028,60,32.000000000000014,20.000000000000011]
[11,7.299999999999998,23,26,11.5,5.200000000000002,null,31,14.400000000000006,45.200000000000031,51.5,22.600000000000016,10.300000000000008,null,31,25.399999999999995,56.200000000000031,62.5,33.600000000000016,21.300000000000011]
[12,7.5999999999999979,24,27,12,5.4000000000000021,null,32,14.800000000000006,46.400000000000034,53,23.200000000000017,10.600000000000009,null,32,26.799999999999994,58.400000000000034,65,35.200000000000017,22.600000000000012]
[13,7.8999999999999977,25,28,12.5,5.6000000000000023,null,33,15.200000000000006,47.600000000000037,54.5,23.800000000000018,10.900000000000009,null,33,28.199999999999992,60.600000000000037,67.5,36.800000000000018,23.900000000000013]
[14,8.1999999999999975,26,29,13,5.8000000000000025,null,34,15.600000000000007,48.80000000000004,56,24.40000000000002,11.20000000000001,null,34,29.599999999999991,62.80000000000004,70,38.40000000000002,25.200000000000014]
[15,8.4999999999999982,27,30,13.5,6.0000000000000027,null,35,16.000000000000007,50.000000000000043,57.5,25.000000000000021,11.500000000000011,null,35,30.999999999999989,65.000000000000043,72.5,40.000000000000021,26.500000000000014]
[16,8.7999999999999989,28,31,14,6.2000000000000028,null,36,16.400000000000006,51.200000000000045,59,25.600000000000023,11.800000000000011,null,36,32.399999999999991,67.200000000000045,75,41.600000000000023,27.800000000000015]
[17,9.1,29,32,14.5,6.400000000000003,null,37,16.800000000000004,52.400000000000048,60.5,26.200000000000024,12.100000000000012,null,37,33.79999999999999,69.400000000000048,77.5,43.200000000000024,29.100000000000016]
[18,9.4,30,33,15,6.6000000000000032,null,38,17.200000000000003,53.600000000000051,62,26.800000000000026,12.400000000000013,null,38,35.199999999999989,71.600000000000051,80,44.800000000000026,30.400000000000016]
[19,9.7000000000000011,31,34,15.5,6.8000000000000034,null,39,17.600000000000001,54.800000000000054,63.5,27.400000000000027,12.700000000000014,null,39,36.599999999999987,73.800000000000054,82.5,46.400000000000027,31.700000000000017]
[20,10.000000000000002,32,35,16,7.0000000000000036,{"$f":"SUM(B24:F24)","v":100},40,18,56.000000000000057,65,28.000000000000028,13.000000000000014,null,40,37.999999999999986,76.000000000000057,85,48.000000000000028,33.000000000000014]
[null,null,null,null,null,null,null,41,18.399999999999999,57.20000000000006,66.5,28.60000000000003,13.300000000000015,null,41,39.399999999999984,78.20000000000006,87.5,49.60000000000003,34.300000000000011]
[null,"최소 공격력","최대 생명력","최소 공격력","최소 공격력","생명력회복",null,42,18.799999999999997,58.400000000000063,68,29.200000000000031,13.600000000000016,null,42,40.799999999999983,80.400000000000063,90,51.200000000000031,35.600000000000009]
[null,"최대 공격력","생명력회복","최대 공격력","최대 공격력","활력도",null,43,19.199999999999996,59.600000000000065,69.5,29.800000000000033,13.900000000000016,null,43,42.199999999999982,82.600000000000065,92.5,52.800000000000033,36.900000000000006]
[null,"치명타 저항","피해 감소","공격속도","치명타 세기","치명타 세기",null,44,19.599999999999994,60.800000000000068,71,30.400000000000034,14.200000000000017,null,44,43.59999999999998,84.800000000000068,95,54.400000000000034,38.200000000000003]
[null,null,null,"치명타 확률","적중도","상태이상저항",null,45,19.999999999999993,62.000000000000071,72.5,31.000000000000036,14.500000000000018,null,45,44.999999999999979,87.000000000000071,97.5,56.000000000000036,39.5]
[null,null,null,"방어력","재사용시간","치명타 저항",null,46,20.399999999999991,63.200000000000074,74,31.600000000000037,14.800000000000018,null,46,46.399999999999977,89.200000000000074,100,57.600000000000037,40.799999999999997]
[null,null,null,"회피율",null,"재사용시간",null,47,20.79999999999999,64.400000000000077,75.5,32.200000000000038,15.100000000000019,null,47,47.799999999999976,91.400000000000077,102.5,59.200000000000038,42.099999999999994]
[null,null,null,"적중도",null,null,null,48,21.199999999999989,65.60000000000008,77,32.80000000000004,15.40000000000002,null,48,49.199999999999974,93.60000000000008,105,60.80000000000004,43.399999999999991]
[null,null,null,null,null,null,null,49,21.599999999999987,66.800000000000082,78.5,33.400000000000041,15.700000000000021,null,49,50.599999999999973,95.800000000000082,107.5,62.400000000000041,44.699999999999989]
[null,null,null,null,null,null,null,50,21.999999999999986,68.000000000000085,80,34.000000000000043,16.000000000000021,{"$f":"SUM(I34:M34)","v":220.00000000000014},50,51.999999999999972,98.000000000000085,110,64.000000000000043,45.999999999999986]
[]
[null,null,null,null,null,null,null,null,"P_Str","P_Sta","P_Agil","P_Int","P_Wis",null,null,"P_Str","P_Sta","P_Agil","P_Int","P_Wis"]
[]
[null,null,null,null,null,null,null,null,"최소 공격력","최대 생명력","최소 공격력","최소 공격력","생명력회복",null,null,"최소 공격력","최대 생명력","최소 공격력","최소 공격력","생명력회복"]
[null,null,null,null,null,null,null,null,"최대 공격력","생명력회복","최대 공격력","최대 공격력","활력도",null,null,"최대 공격력","생명력회복","최대 공격력","최대 공격력","활력도"]
[null,null,null,null,null,null,null,null,"치명타 저항","피해 감소","공격속도","치명타 세기","치명타 세기",null,null,"치명타 저항","피해 감소","공격속도","치명타 세기","치명타 세기"]
[null,null,null,null,null,null,null,null,null,null,"치명타 확률","적중도","상태이상저항",null,null,null,null,"치명타 확률","적중도","상태이상저항"]
[null,null,null,null,null,null,null,null,null,null,"방어력","재사용시간","치명타 저항",null,null,null,null,"방어력","재사용시간","치명타 저항"]
[null,null,null,null,null,null,null,null,null,null,"회피율",null,"재사용시간",null,null,null,null,"회피율",null,"재사용시간"]
[null,null,null,null,null,null,null,null,null,null,"적중도",null,null,null,null,null,null,"적중도"]

{"sheet":"Knight_Simul","index":12,"n_rows":83,"n_cols":21,"rows_kept":83,"cut":false,"hidden":false,"merged":[]}
["클래스","레벨","최대 생명력","생명력회복","활력도","초당평균공격력","최소 공격력","최대 공격력","공격속도","치명타 확률","치명타 세기","치명타저항","피해감소","방어력","회피율","적중도","상태이상저항","스킬쿨타임감소","이동속도","신성력",1]
["Knight",1,{"$f":"(B2^2*0.7)+Knight_Status!$C5*(Knight_Status!$C5*Class_Compare!$D$17)/2+100","v":151.4},{"$f":"(U2)*(Class_Compare!$E$17*(50+1.5*(0.8*Knight_Status!C5+0.2*Knight_Status!F5)))","v":40.435199999999995},{"$f":"Knight_Status!F5*(Knight_Status!F5*Class_Compare!$O$17)+100","v":103.072},{"$f":"((G2+H2)/2)*(1000/(I2))","v":35.37913043478261},{"$f":"Class_Compare!$B$17*(100+1.2*(0.6*Knight_Status!B5+0.2*Knight_Status!D5+0.2*Knight_Status!E5))","v":32.5488},{"$f":"Class_Compare!$C$17*(100+1.2*(0.6*Knight_Status!B5+0.2*Knight_Status!D5+0.2*Knight_Status!E5))","v":32.5488},{"$f":"(Class_Compare!$G$17*1000)-(Knight_Status!D5*5)","v":920},{"$f":"(Class_Compare!$I$17*1000+Knight_Status!D5)/50","v":20.32},{"$f":"2+(Class_Compare!$L$17)+(Knight_Status!E5/100)","v":2.665},{"$f":"(0.2*Knight_Status!B5+0.8*Knight_Status!F5)/250","v":1.3680000000000001E-2},{"$f":"(Knight_Status!C5/25)","v":0.52},{"$f":"Class_Compare!$H$17*(0.2*(Knight_Status!D5*35))","v":100.8},{"$f":"(Class_Compare!$I$17*1000+Knight_Status!D5)/1000","v":1.016},{"$f":"(Class_Compare!$J$17*1000+Knight_Status!D5+Knight_Status!E5)/10","v":102.25},{"$f":"((Knight_Status!F5*Class_Compare!$M$17)+5)/2","v":2.98},{"$f":"((Knight_Status!E5+Knight_Status!F5)*Class_Compare!$N$17)/5","v":0.58199999999999996},200,0,{"$f":"$U$1*(1+0.05*(B2/4))","v":1.0125}]
["Knight",2,{"$f":"(B3^2*0.7)+Knight_Status!$C6*(Knight_Status!$C6*Class_Compare!$D$17)/2+100","v":161.6},{"$f":"(U3)*(Class_Compare!$E$17*(50+1.5*(0.8*Knight_Status!C6+0.2*Knight_Status!F6)))","v":41.709299999999992},{"$f":"Knight_Status!F6*(Knight_Status!F6*Class_Compare!$O$17)+100","v":103.468},{"$f":"((G3+H3)/2)*(1000/(I3))","v":36.103606557377056},{"$f":"Class_Compare!$B$17*(100+1.2*(0.6*Knight_Status!B6+0.2*Knight_Status!D6+0.2*Knight_Status!E6))","v":32.721600000000002},{"$f":"Class_Compare!$C$17*(100+1.2*(0.5*Knight_Status!B6+0.35*Knight_Status!D6+0.15*Knight_Status!E6))","v":33.347999999999999},{"$f":"(Class_Compare!$G$17*1000)-(Knight_Status!D6*5)","v":915},{"$f":"(Class_Compare!$I$17*1000+Knight_Status!D6)/50","v":20.34},{"$f":"2+(Class_Compare!$L$17)+(Knight_Status!E6/100)","v":2.67},{"$f":"(0.2*Knight_Status!B6+0.8*Knight_Status!F6)/250","v":1.4560000000000002E-2},{"$f":"(Knight_Status!C6/25)","v":0.56000000000000005},{"$f":"Class_Compare!$H$17*(0.2*(Knight_Status!D6*35))","v":107.10000000000001},{"$f":"(Class_Compare!$I$17*1000+Knight_Status!D6)/1000","v":1.0169999999999999},{"$f":"(Class_Compare!$J$17*1000+Knight_Status!D6+Knight_Status!E6)/10","v":102.4},{"$f":"((Knight_Status!F6*Class_Compare!$M$17)+5)/2","v":3.01},{"$f":"((Knight_Status!E6+Knight_Status!F6)*Class_Compare!$N$17)/5","v":0.624},200,0,{"$f":"$U$1*(1+0.05*(B3/4))","v":1.0249999999999999}]
["Knight",3,{"$f":"(B4^2*0.7)+Knight_Status!$C7*(Knight_Status!$C7*Class_Compare!$D$17)/2+100","v":173.8},{"$f":"(U4)*(Class_Compare!$E$17*(50+1.5*(0.8*Knight_Status!C7+0.2*Knight_Status!F7)))","v":43.002300000000005},{"$f":"Knight_Status!F7*(Knight_Status!F7*Class_Compare!$O$17)+100","v":103.88800000000001},36.510659340659345,{"$f":"Class_Compare!$B$17*(100+1.2*(0.6*Knight_Status!B7+0.2*Knight_Status!D7+0.2*Knight_Status!E7))","v":32.894399999999997},{"$f":"Class_Compare!$C$17*(100+1.2*(0.5*Knight_Status!B7+0.35*Knight_Status!D7+0.15*Knight_Status!E7))","v":33.555},{"$f":"(Class_Compare!$G$17*1000)-(Knight_Status!D7*5)","v":910},{"$f":"(Class_Compare!$I$17*1000+Knight_Status!D7)/50","v":20.36},{"$f":"2+(Class_Compare!$L$17)+(Knight_Status!E7/100)","v":2.6750000000000003},{"$f":"(0.2*Knight_Status!B7+0.8*Knight_Status!F7)/250","v":1.5440000000000002E-2},{"$f":"(Knight_Status!C7/25)","v":0.6},{"$f":"Class_Compare!$H$17*(0.2*(Knight_Status!D7*35))","v":113.4},{"$f":"(Class_Compare!$I$17*1000+Knight_Status!D7)/1000","v":1.018},{"$f":"(Class_Compare!$J$17*1000+Knight_Status!D7+Knight_Status!E7)/10","v":102.55},{"$f":"((Knight_Status!F7*Class_Compare!$M$17)+5)/2","v":3.04},{"$f":"((Knight_Status!E7+Knight_Status!F7)*Class_Compare!$N$17)/5","v":0.66600000000000015},200,0,1.0375000000000001]
["Knight",4,{"$f":"(B5^2*0.7)+Knight_Status!$C8*(Knight_Status!$C8*Class_Compare!$D$17)/2+100","v":188},{"$f":"(U5)*(Class_Compare!$E$17*(50+1.5*(0.8*Knight_Status!C8+0.2*Knight_Status!F8)))","v":44.3142},{"$f":"Knight_Status!F8*(Knight_Status!F8*Class_Compare!$O$17)+100","v":104.33200000000001},36.922209944751373,{"$f":"Class_Compare!$B$17*(100+1.2*(0.6*Knight_Status!B8+0.2*Knight_Status!D8+0.2*Knight_Status!E8))","v":33.0672},{"$f":"Class_Compare!$C$17*(100+1.2*(0.5*Knight_Status!B8+0.35*Knight_Status!D8+0.15*Knight_Status!E8))","v":33.761999999999993},{"$f":"(Class_Compare!$G$17*1000)-(Knight_Status!D8*5)","v":905},{"$f":"(Class_Compare!$I$17*1000+Knight_Status!D8)/50","v":20.38},{"$f":"2+(Class_Compare!$L$17)+(Knight_Status!E8/100)","v":2.68},{"$f":"(0.2*Knight_Status!B8+0.8*Knight_Status!F8)/250","v":1.6320000000000005E-2},{"$f":"(Knight_Status!C8/25)","v":0.64},{"$f":"Class_Compare!$H$17*(0.2*(Knight_Status!D8*35))","v":119.7},{"$f":"(Class_Compare!$I$17*1000+Knight_Status!D8)/1000","v":1.0189999999999999},{"$f":"(Class_Compare!$J$17*1000+Knight_Status!D8+Knight_Status!E8)/10","v":102.7},{"$f":"((Knight_Status!F8*Class_Compare!$M$17)+5)/2","v":3.0700000000000003},{"$f":"((Knight_Status!E8+Knight_Status!F8)*Class_Compare!$N$17)/5","v":0.70799999999999996},200,0,1.05]
["Knight",5,{"$f":"(B6^2*0.7)+Knight_Status!$C9*(Knight_Status!$C9*Class_Compare!$D$17)/2+100","v":204.2},{"$f":"(U6)*(Class_Compare!$E$17*(50+1.5*(0.8*Knight_Status!C9+0.2*Knight_Status!F9)))","v":45.644999999999996},{"$f":"Knight_Status!F9*(Knight_Status!F9*Class_Compare!$O$17)+100","v":104.8},37.338333333333338,{"$f":"Class_Compare!$B$17*(100+1.2*(0.6*Knight_Status!B9+0.2*Knight_Status!D9+0.2*Knight_Status!E9))","v":33.239999999999995},{"$f":"Class_Compare!$C$17*(100+1.2*(0.5*Knight_Status!B9+0.35*Knight_Status!D9+0.15*Knight_Status!E9))","v":33.969000000000001},{"$f":"(Class_Compare!$G$17*1000)-(Knight_Status!D9*5)","v":900},{"$f":"(Class_Compare!$I$17*1000+Knight_Status!D9)/50","v":20.399999999999999},{"$f":"2+(Class_Compare!$L$17)+(Knight_Status!E9/100)","v":2.6850000000000001},{"$f":"(0.2*Knight_Status!B9+0.8*Knight_Status!F9)/250","v":1.7200000000000003E-2},{"$f":"(Knight_Status!C9/25)","v":0.68},{"$f":"Class_Compare!$H$17*(0.2*(Knight_Status!D9*35))","v":126},{"$f":"(Class_Compare!$I$17*1000+Knight_Status!D9)/1000","v":1.02},{"$f":"(Class_Compare!$J$17*1000+Knight_Status!D9+Knight_Status!E9)/10","v":102.85},{"$f":"((Knight_Status!F9*Class_Compare!$M$17)+5)/2","v":3.1},{"$f":"((Knight_Status!E9+Knight_Status!F9)*Class_Compare!$N$17)/5","v":0.75},200,0,1.0625]
["Knight",6,{"$f":"(B7^2*0.7)+Knight_Status!$C10*(Knight_Status!$C10*Class_Compare!$D$17)/2+100","v":222.39999999999998},{"$f":"(U7)*(Class_Compare!$E$17*(50+1.5*(0.8*Knight_Status!C10+0.2*Knight_Status!F10)))","v":46.994700000000002},{"$f":"Knight_Status!F10*(Knight_Status!F10*Class_Compare!$O$17)+100","v":105.292},37.759106145251387,{"$f":"Class_Compare!$B$17*(100+1.2*(0.6*Knight_Status!B10+0.2*Knight_Status!D10+0.2*Knight_Status!E10))","v":33.412799999999997},{"$f":"Class_Compare!$C$17*(100+1.2*(0.5*Knight_Status!B10+0.35*Knight_Status!D10+0.15*Knight_Status!E10))","v":34.176000000000002},{"$f":"(Class_Compare!$G$17*1000)-(Knight_Status!D10*5)","v":895},{"$f":"(Class_Compare!$I$17*1000+Knight_Status!D10)/50","v":20.420000000000002},{"$f":"2+(Class_Compare!$L$17)+(Knight_Status!E10/100)","v":2.69},{"$f":"(0.2*Knight_Status!B10+0.8*Knight_Status!F10)/250","v":1.8080000000000006E-2},{"$f":"(Knight_Status!C10/25)","v":0.72},{"$f":"Class_Compare!$H$17*(0.2*(Knight_Status!D10*35))","v":132.30000000000001},{"$f":"(Class_Compare!$I$17*1000+Knight_Status!D10)/1000","v":1.0209999999999999},{"$f":"(Class_Compare!$J$17*1000+Knight_Status!D10+Knight_Status!E10)/10","v":103},{"$f":"((Knight_Status!F10*Class_Compare!$M$17)+5)/2","v":3.13},{"$f":"((Knight_Status!E10+Knight_Status!F10)*Class_Compare!$N$17)/5","v":0.79200000000000004},200,0,1.075]
["Knight",7,{"$f":"(B8^2*0.7)+Knight_Status!$C11*(Knight_Status!$C11*Class_Compare!$D$17)/2+100","v":242.6},{"$f":"(U8)*(Class_Compare!$E$17*(50+1.5*(0.8*Knight_Status!C11+0.2*Knight_Status!F11)))","v":48.363299999999995},{"$f":"Knight_Status!F11*(Knight_Status!F11*Class_Compare!$O$17)+100","v":105.80800000000001},38.184606741573035,{"$f":"Class_Compare!$B$17*(100+1.2*(0.6*Knight_Status!B11+0.2*Knight_Status!D11+0.2*Knight_Status!E11))","v":33.585599999999999},{"$f":"Class_Compare!$C$17*(100+1.2*(0.5*Knight_Status!B11+0.35*Knight_Status!D11+0.15*Knight_Status!E11))","v":34.382999999999996},{"$f":"(Class_Compare!$G$17*1000)-(Knight_Status!D11*5)","v":890},{"$f":"(Class_Compare!$I$17*1000+Knight_Status!D11)/50","v":20.440000000000001},{"$f":"2+(Class_Compare!$L$17)+(Knight_Status!E11/100)","v":2.6950000000000003},{"$f":"(0.2*Knight_Status!B11+0.8*Knight_Status!F11)/250","v":1.8960000000000005E-2},{"$f":"(Knight_Status!C11/25)","v":0.76},{"$f":"Class_Compare!$H$17*(0.2*(Knight_Status!D11*35))","v":138.6},{"$f":"(Class_Compare!$I$17*1000+Knight_Status!D11)/1000","v":1.022},{"$f":"(Class_Compare!$J$17*1000+Knight_Status!D11+Knight_Status!E11)/10","v":103.15},{"$f":"((Knight_Status!F11*Class_Compare!$M$17)+5)/2","v":3.16},{"$f":"((Knight_Status!E11+Knight_Status!F11)*Class_Compare!$N$17)/5","v":0.83400000000000019},200,0,1.0874999999999999]
["Knight",8,{"$f":"(B9^2*0.7)+Knight_Status!$C12*(Knight_Status!$C12*Class_Compare!$D$17)/2+100","v":264.8},{"$f":"(U9)*(Class_Compare!$E$17*(50+1.5*(0.8*Knight_Status!C12+0.2*Knight_Status!F12)))","v":49.750799999999998},{"$f":"Knight_Status!F12*(Knight_Status!F12*Class_Compare!$O$17)+100","v":106.348},38.614915254237289,{"$f":"Class_Compare!$B$17*(100+1.2*(0.6*Knight_Status!B12+0.2*Knight_Status!D12+0.2*Knight_Status!E12))","v":33.758399999999995},{"$f":"Class_Compare!$C$17*(100+1.2*(0.5*Knight_Status!B12+0.35*Knight_Status!D12+0.15*Knight_Status!E12))","v":34.589999999999996},{"$f":"(Class_Compare!$G$17*1000)-(Knight_Status!D12*5)","v":885},{"$f":"(Class_Compare!$I$17*1000+Knight_Status!D12)/50","v":20.46},{"$f":"2+(Class_Compare!$L$17)+(Knight_Status!E12/100)","v":2.7},{"$f":"(0.2*Knight_Status!B12+0.8*Knight_Status!F12)/250","v":1.9840000000000003E-2},{"$f":"(Knight_Status!C12/25)","v":0.8},{"$f":"Class_Compare!$H$17*(0.2*(Knight_Status!D12*35))","v":144.9},{"$f":"(Class_Compare!$I$17*1000+Knight_Status!D12)/1000","v":1.0229999999999999},{"$f":"(Class_Compare!$J$17*1000+Knight_Status!D12+Knight_Status!E12)/10","v":103.3},{"$f":"((Knight_Status!F12*Class_Compare!$M$17)+5)/2","v":3.1900000000000004},{"$f":"((Knight_Status!E12+Knight_Status!F12)*Class_Compare!$N$17)/5","v":0.876},200,0,1.1000000000000001]
["Knight",9,{"$f":"(B10^2*0.7)+Knight_Status!$C13*(Knight_Status!$C13*Class_Compare!$D$17)/2+100","v":289},{"$f":"(U10)*(Class_Compare!$E$17*(50+1.5*(0.8*Knight_Status!C13+0.2*Knight_Status!F13)))","v":51.157200000000003},{"$f":"Knight_Status!F13*(Knight_Status!F13*Class_Compare!$O$17)+100","v":106.91200000000001},39.050113636363633,{"$f":"Class_Compare!$B$17*(100+1.2*(0.6*Knight_Status!B13+0.2*Knight_Status!D13+0.2*Knight_Status!E13))","v":33.931199999999997},{"$f":"Class_Compare!$C$17*(100+1.2*(0.5*Knight_Status!B13+0.35*Knight_Status!D13+0.15*Knight_Status!E13))","v":34.796999999999997},{"$f":"(Class_Compare!$G$17*1000)-(Knight_Status!D13*5)","v":880},{"$f":"(Class_Compare!$I$17*1000+Knight_Status!D13)/50","v":20.48},{"$f":"2+(Class_Compare!$L$17)+(Knight_Status!E13/100)","v":2.7050000000000001},{"$f":"(0.2*Knight_Status!B13+0.8*Knight_Status!F13)/250","v":2.0720000000000006E-2},{"$f":"(Knight_Status!C13/25)","v":0.84},{"$f":"Class_Compare!$H$17*(0.2*(Knight_Status!D13*35))","v":151.20000000000002},{"$f":"(Class_Compare!$I$17*1000+Knight_Status!D13)/1000","v":1.024},{"$f":"(Class_Compare!$J$17*1000+Knight_Status!D13+Knight_Status!E13)/10","v":103.45},{"$f":"((Knight_Status!F13*Class_Compare!$M$17)+5)/2","v":3.22},{"$f":"((Knight_Status!E13+Knight_Status!F13)*Class_Compare!$N$17)/5","v":0.91799999999999993},200,0,1.1125]
["Knight",10,{"$f":"(B11^2*0.7)+Knight_Status!$C14*(Knight_Status!$C14*Class_Compare!$D$17)/2+100","v":315.2},{"$f":"(U11)*(Class_Compare!$E$17*(50+1.5*(0.8*Knight_Status!C14+0.2*Knight_Status!F14)))","v":52.582500000000003},{"$f":"Knight_Status!F14*(Knight_Status!F14*Class_Compare!$O$17)+100","v":107.5},39.490285714285712,{"$f":"Class_Compare!$B$17*(100+1.2*(0.6*Knight_Status!B14+0.2*Knight_Status!D14+0.2*Knight_Status!E14))","v":34.103999999999999},{"$f":"Class_Compare!$C$17*(100+1.2*(0.5*Knight_Status!B14+0.35*Knight_Status!D14+0.15*Knight_Status!E14))","v":35.003999999999998},{"$f":"(Class_Compare!$G$17*1000)-(Knight_Status!D14*5)","v":875},{"$f":"(Class_Compare!$I$17*1000+Knight_Status!D14)/50","v":20.5},{"$f":"2+(Class_Compare!$L$17)+(Knight_Status!E14/100)","v":2.71},{"$f":"(0.2*Knight_Status!B14+0.8*Knight_Status!F14)/250","v":2.1600000000000005E-2},{"$f":"(Knight_Status!C14/25)","v":0.88},{"$f":"Class_Compare!$H$17*(0.2*(Knight_Status!D14*35))","v":157.5},{"$f":"(Class_Compare!$I$17*1000+Knight_Status!D14)/1000","v":1.0249999999999999},{"$f":"(Class_Compare!$J$17*1000+Knight_Status!D14+Knight_Status!E14)/10","v":103.6},{"$f":"((Knight_Status!F14*Class_Compare!$M$17)+5)/2","v":3.25},{"$f":"((Knight_Status!E14+Knight_Status!F14)*Class_Compare!$N$17)/5","v":0.96},200,0,1.125]
["Knight",11,{"$f":"(B12^2*0.7)+Knight_Status!$C15*(Knight_Status!$C15*Class_Compare!$D$17)/2+100","v":343.4},{"$f":"(U12)*(Class_Compare!$E$17*(50+1.5*(0.8*Knight_Status!C15+0.2*Knight_Status!F15)))","v":54.026699999999991},{"$f":"Knight_Status!F15*(Knight_Status!F15*Class_Compare!$O$17)+100","v":108.11200000000001},39.935517241379301,{"$f":"Class_Compare!$B$17*(100+1.2*(0.6*Knight_Status!B15+0.2*Knight_Status!D15+0.2*Knight_Status!E15))","v":34.276800000000001},{"$f":"Class_Compare!$C$17*(100+1.2*(0.5*Knight_Status!B15+0.35*Knight_Status!D15+0.15*Knight_Status!E15))","v":35.210999999999999},{"$f":"(Class_Compare!$G$17*1000)-(Knight_Status!D15*5)","v":870},{"$f":"(Class_Compare!$I$17*1000+Knight_Status!D15)/50","v":20.52},{"$f":"2+(Class_Compare!$L$17)+(Knight_Status!E15/100)","v":2.7150000000000003},{"$f":"(0.2*Knight_Status!B15+0.8*Knight_Status!F15)/250","v":2.2480000000000007E-2},{"$f":"(Knight_Status!C15/25)","v":0.92},{"$f":"Class_Compare!$H$17*(0.2*(Knight_Status!D15*35))","v":163.80000000000001},{"$f":"(Class_Compare!$I$17*1000+Knight_Status!D15)/1000","v":1.026},{"$f":"(Class_Compare!$J$17*1000+Knight_Status!D15+Knight_Status!E15)/10","v":103.75},{"$f":"((Knight_Status!F15*Class_Compare!$M$17)+5)/2","v":3.2800000000000002},{"$f":"((Knight_Status!E15+Knight_Status!F15)*Class_Compare!$N$17)/5","v":1.0020000000000002},200,0,1.1375]
["Knight",12,{"$f":"(B13^2*0.7)+Knight_Status!$C16*(Knight_Status!$C16*Class_Compare!$D$17)/2+100","v":373.59999999999997},{"$f":"(U13)*(Class_Compare!$E$17*(50+1.5*(0.8*Knight_Status!C16+0.2*Knight_Status!F16)))","v":55.48980000000001},{"$f":"Knight_Status!F16*(Knight_Status!F16*Class_Compare!$O$17)+100","v":108.748},40.385895953757228,{"$f":"Class_Compare!$B$17*(100+1.2*(0.6*Knight_Status!B16+0.2*Knight_Status!D16+0.2*Knight_Status!E16))","v":34.449599999999997},{"$f":"Class_Compare!$C$17*(100+1.2*(0.5*Knight_Status!B16+0.35*Knight_Status!D16+0.15*Knight_Status!E16))","v":35.417999999999999},{"$f":"(Class_Compare!$G$17*1000)-(Knight_Status!D16*5)","v":865},{"$f":"(Class_Compare!$I$17*1000+Knight_Status!D16)/50","v":20.54},{"$f":"2+(Class_Compare!$L$17)+(Knight_Status!E16/100)","v":2.72},{"$f":"(0.2*Knight_Status!B16+0.8*Knight_Status!F16)/250","v":2.3360000000000006E-2},{"$f":"(Knight_Status!C16/25)","v":0.96},{"$f":"Class_Compare!$H$17*(0.2*(Knight_Status!D16*35))","v":170.1},{"$f":"(Class_Compare!$I$17*1000+Knight_Status!D16)/1000","v":1.0269999999999999},{"$f":"(Class_Compare!$J$17*1000+Knight_Status!D16+Knight_Status!E16)/10","v":103.9},{"$f":"((Knight_Status!F16*Class_Compare!$M$17)+5)/2","v":3.3100000000000005},{"$f":"((Knight_Status!E16+Knight_Status!F16)*Class_Compare!$N$17)/5","v":1.044},200,0,1.1499999999999999]
["Knight",13,{"$f":"(B14^2*0.7)+Knight_Status!$C17*(Knight_Status!$C17*Class_Compare!$D$17)/2+100","v":405.8},{"$f":"(U14)*(Class_Compare!$E$17*(50+1.5*(0.8*Knight_Status!C17+0.2*Knight_Status!F17)))","v":56.971800000000009},{"$f":"Knight_Status!F17*(Knight_Status!F17*Class_Compare!$O$17)+100","v":109.408},40.841511627906975,{"$f":"Class_Compare!$B$17*(100+1.2*(0.6*Knight_Status!B17+0.2*Knight_Status!D17+0.2*Knight_Status!E17))","v":34.622399999999999},{"$f":"Class_Compare!$C$17*(100+1.2*(0.5*Knight_Status!B17+0.35*Knight_Status!D17+0.15*Knight_Status!E17))","v":35.625},{"$f":"(Class_Compare!$G$17*1000)-(Knight_Status!D17*5)","v":860},{"$f":"(Class_Compare!$I$17*1000+Knight_Status!D17)/50","v":20.56},{"$f":"2+(Class_Compare!$L$17)+(Knight_Status!E17/100)","v":2.7250000000000001},{"$f":"(0.2*Knight_Status!B17+0.8*Knight_Status!F17)/250","v":2.4240000000000008E-2},{"$f":"(Knight_Status!C17/25)","v":1},{"$f":"Class_Compare!$H$17*(0.2*(Knight_Status!D17*35))","v":176.4},{"$f":"(Class_Compare!$I$17*1000+Knight_Status!D17)/1000","v":1.028},{"$f":"(Class_Compare!$J$17*1000+Knight_Status!D17+Knight_Status!E17)/10","v":104.05},{"$f":"((Knight_Status!F17*Class_Compare!$M$17)+5)/2","v":3.3400000000000003},{"$f":"((Knight_Status!E17+Knight_Status!F17)*Class_Compare!$N$17)/5","v":1.0860000000000001},200,0,1.1625000000000001]
["Knight",14,{"$f":"(B15^2*0.7)+Knight_Status!$C18*(Knight_Status!$C18*Class_Compare!$D$17)/2+100","v":440},{"$f":"(U15)*(Class_Compare!$E$17*(50+1.5*(0.8*Knight_Status!C18+0.2*Knight_Status!F18)))","v":58.472699999999996},{"$f":"Knight_Status!F18*(Knight_Status!F18*Class_Compare!$O$17)+100","v":110.09200000000001},41.30245614035087,{"$f":"Class_Compare!$B$17*(100+1.2*(0.6*Knight_Status!B18+0.2*Knight_Status!D18+0.2*Knight_Status!E18))","v":34.795199999999994},{"$f":"Class_Compare!$C$17*(100+1.2*(0.5*Knight_Status!B18+0.35*Knight_Status!D18+0.15*Knight_Status!E18))","v":35.832000000000001},{"$f":"(Class_Compare!$G$17*1000)-(Knight_Status!D18*5)","v":855},{"$f":"(Class_Compare!$I$17*1000+Knight_Status!D18)/50","v":20.58},{"$f":"2+(Class_Compare!$L$17)+(Knight_Status!E18/100)","v":2.73},{"$f":"(0.2*Knight_Status!B18+0.8*Knight_Status!F18)/250","v":2.5120000000000007E-2},{"$f":"(Knight_Status!C18/25)","v":1.04},{"$f":"Class_Compare!$H$17*(0.2*(Knight_Status!D18*35))","v":182.70000000000002},{"$f":"(Class_Compare!$I$17*1000+Knight_Status!D18)/1000","v":1.0289999999999999},{"$f":"(Class_Compare!$J$17*1000+Knight_Status!D18+Knight_Status!E18)/10","v":104.2},{"$f":"((Knight_Status!F18*Class_Compare!$M$17)+5)/2","v":3.37},{"$f":"((Knight_Status!E18+Knight_Status!F18)*Class_Compare!$N$17)/5","v":1.1280000000000003},200,0,1.175]
["Knight",15,{"$f":"(B16^2*0.7)+Knight_Status!$C19*(Knight_Status!$C19*Class_Compare!$D$17)/2+100","v":476.2},{"$f":"(U16)*(Class_Compare!$E$17*(50+1.5*(0.8*Knight_Status!C19+0.2*Knight_Status!F19)))","v":59.992500000000007},{"$f":"Knight_Status!F19*(Knight_Status!F19*Class_Compare!$O$17)+100","v":110.80000000000001},41.768823529411762,{"$f":"Class_Compare!$B$17*(100+1.2*(0.6*Knight_Status!B19+0.2*Knight_Status!D19+0.2*Knight_Status!E19))","v":34.967999999999996},{"$f":"Class_Compare!$C$17*(100+1.2*(0.5*Knight_Status!B19+0.35*Knight_Status!D19+0.15*Knight_Status!E19))","v":36.038999999999994},{"$f":"(Class_Compare!$G$17*1000)-(Knight_Status!D19*5)","v":850},{"$f":"(Class_Compare!$I$17*1000+Knight_Status!D19)/50","v":20.6},{"$f":"2+(Class_Compare!$L$17)+(Knight_Status!E19/100)","v":2.7350000000000003},{"$f":"(0.2*Knight_Status!B19+0.8*Knight_Status!F19)/250","v":2.6000000000000006E-2},{"$f":"(Knight_Status!C19/25)","v":1.08},{"$f":"Class_Compare!$H$17*(0.2*(Knight_Status!D19*35))","v":189},{"$f":"(Class_Compare!$I$17*1000+Knight_Status!D19)/1000","v":1.03},{"$f":"(Class_Compare!$J$17*1000+Knight_Status!D19+Knight_Status!E19)/10","v":104.35},{"$f":"((Knight_Status!F19*Class_Compare!$M$17)+5)/2","v":3.4000000000000004},{"$f":"((Knight_Status!E19+Knight_Status!F19)*Class_Compare!$N$17)/5","v":1.1700000000000002},200,0,1.1875]
["Knight",16,{"$f":"(B17^2*0.7)+Knight_Status!$C20*(Knight_Status!$C20*Class_Compare!$D$17)/2+100","v":514.4},{"$f":"(U17)*(Class_Compare!$E$17*(50+1.5*(0.8*Knight_Status!C20+0.2*Knight_Status!F20)))","v":61.531199999999998},{"$f":"Knight_Status!F20*(Knight_Status!F20*Class_Compare!$O$17)+100","v":111.53200000000001},42.240710059171597,{"$f":"Class_Compare!$B$17*(100+1.2*(0.6*Knight_Status!B20+0.2*Knight_Status!D20+0.2*Knight_Status!E20))","v":35.140799999999999},{"$f":"Class_Compare!$C$17*(100+1.2*(0.5*Knight_Status!B20+0.35*Knight_Status!D20+0.15*Knight_Status!E20))","v":36.245999999999995},{"$f":"(Class_Compare!$G$17*1000)-(Knight_Status!D20*5)","v":845},{"$f":"(Class_Compare!$I$17*1000+Knight_Status!D20)/50","v":20.62},{"$f":"2+(Class_Compare!$L$17)+(Knight_Status!E20/100)","v":2.74},{"$f":"(0.2*Knight_Status!B20+0.8*Knight_Status!F20)/250","v":2.6880000000000008E-2},{"$f":"(Knight_Status!C20/25)","v":1.1200000000000001},{"$f":"Class_Compare!$H$17*(0.2*(Knight_Status!D20*35))","v":195.3},{"$f":"(Class_Compare!$I$17*1000+Knight_Status!D20)/1000","v":1.0309999999999999},{"$f":"(Class_Compare!$J$17*1000+Knight_Status!D20+Knight_Status!E20)/10","v":104.5},{"$f":"((Knight_Status!F20*Class_Compare!$M$17)+5)/2","v":3.4300000000000006},{"$f":"((Knight_Status!E20+Knight_Status!F20)*Class_Compare!$N$17)/5","v":1.2120000000000002},200,0,1.2]
["Knight",17,{"$f":"(B18^2*0.7)+Knight_Status!$C21*(Knight_Status!$C21*Class_Compare!$D$17)/2+100","v":554.59999999999991},{"$f":"(U18)*(Class_Compare!$E$17*(50+1.5*(0.8*Knight_Status!C21+0.2*Knight_Status!F21)))","v":63.088799999999992},{"$f":"Knight_Status!F21*(Knight_Status!F21*Class_Compare!$O$17)+100","v":112.28800000000001},42.718214285714289,{"$f":"Class_Compare!$B$17*(100+1.2*(0.6*Knight_Status!B21+0.2*Knight_Status!D21+0.2*Knight_Status!E21))","v":35.313600000000001},{"$f":"Class_Compare!$C$17*(100+1.2*(0.5*Knight_Status!B21+0.35*Knight_Status!D21+0.15*Knight_Status!E21))","v":36.453000000000003},{"$f":"(Class_Compare!$G$17*1000)-(Knight_Status!D21*5)","v":840},{"$f":"(Class_Compare!$I$17*1000+Knight_Status!D21)/50","v":20.64},{"$f":"2+(Class_Compare!$L$17)+(Knight_Status!E21/100)","v":2.7450000000000001},{"$f":"(0.2*Knight_Status!B21+0.8*Knight_Status!F21)/250","v":2.7760000000000014E-2},{"$f":"(Knight_Status!C21/25)","v":1.1599999999999999},{"$f":"Class_Compare!$H$17*(0.2*(Knight_Status!D21*35))","v":201.6},{"$f":"(Class_Compare!$I$17*1000+Knight_Status!D21)/1000","v":1.032},{"$f":"(Class_Compare!$J$17*1000+Knight_Status!D21+Knight_Status!E21)/10","v":104.65},{"$f":"((Knight_Status!F21*Class_Compare!$M$17)+5)/2","v":3.4600000000000004},{"$f":"((Knight_Status!E21+Knight_Status!F21)*Class_Compare!$N$17)/5","v":1.254},200,0,1.2124999999999999]
["Knight",18,{"$f":"(B19^2*0.7)+Knight_Status!$C22*(Knight_Status!$C22*Class_Compare!$D$17)/2+100","v":596.79999999999995},{"$f":"(U19)*(Class_Compare!$E$17*(50+1.5*(0.8*Knight_Status!C22+0.2*Knight_Status!F22)))","v":64.665300000000016},{"$f":"Knight_Status!F22*(Knight_Status!F22*Class_Compare!$O$17)+100","v":113.06800000000001},43.201437125748498,{"$f":"Class_Compare!$B$17*(100+1.2*(0.6*Knight_Status!B22+0.2*Knight_Status!D22+0.2*Knight_Status!E22))","v":35.486399999999996},{"$f":"Class_Compare!$C$17*(100+1.2*(0.5*Knight_Status!B22+0.35*Knight_Status!D22+0.15*Knight_Status!E22))","v":36.659999999999997},{"$f":"(Class_Compare!$G$17*1000)-(Knight_Status!D22*5)","v":835},{"$f":"(Class_Compare!$I$17*1000+Knight_Status!D22)/50","v":20.66},{"$f":"2+(Class_Compare!$L$17)+(Knight_Status!E22/100)","v":2.75},{"$f":"(0.2*Knight_Status!B22+0.8*Knight_Status!F22)/250","v":2.8640000000000013E-2},{"$f":"(Knight_Status!C22/25)","v":1.2},{"$f":"Class_Compare!$H$17*(0.2*(Knight_Status!D22*35))","v":207.9},{"$f":"(Class_Compare!$I$17*1000+Knight_Status!D22)/1000","v":1.0329999999999999},{"$f":"(Class_Compare!$J$17*1000+Knight_Status!D22+Knight_Status!E22)/10","v":104.8},{"$f":"((Knight_Status!F22*Class_Compare!$M$17)+5)/2","v":3.49},{"$f":"((Knight_Status!E22+Knight_Status!F22)*Class_Compare!$N$17)/5","v":1.296},200,0,1.2250000000000001]
["Knight",19,{"$f":"(B20^2*0.7)+Knight_Status!$C23*(Knight_Status!$C23*Class_Compare!$D$17)/2+100","v":641},{"$f":"(U20)*(Class_Compare!$E$17*(50+1.5*(0.8*Knight_Status!C23+0.2*Knight_Status!F23)))","v":66.260700000000014},{"$f":"Knight_Status!F23*(Knight_Status!F23*Class_Compare!$O$17)+100","v":113.87200000000001},43.690481927710842,{"$f":"Class_Compare!$B$17*(100+1.2*(0.6*Knight_Status!B23+0.2*Knight_Status!D23+0.2*Knight_Status!E23))","v":35.659199999999998},{"$f":"Class_Compare!$C$17*(100+1.2*(0.5*Knight_Status!B23+0.35*Knight_Status!D23+0.15*Knight_Status!E23))","v":36.866999999999997},{"$f":"(Class_Compare!$G$17*1000)-(Knight_Status!D23*5)","v":830},{"$f":"(Class_Compare!$I$17*1000+Knight_Status!D23)/50","v":20.68},{"$f":"2+(Class_Compare!$L$17)+(Knight_Status!E23/100)","v":2.7549999999999999},{"$f":"(0.2*Knight_Status!B23+0.8*Knight_Status!F23)/250","v":2.9520000000000015E-2},{"$f":"(Knight_Status!C23/25)","v":1.24},{"$f":"Class_Compare!$H$17*(0.2*(Knight_Status!D23*35))","v":214.20000000000002},{"$f":"(Class_Compare!$I$17*1000+Knight_Status!D23)/1000","v":1.034},{"$f":"(Class_Compare!$J$17*1000+Knight_Status!D23+Knight_Status!E23)/10","v":104.95},{"$f":"((Knight_Status!F23*Class_Compare!$M$17)+5)/2","v":3.5200000000000005},{"$f":"((Knight_Status!E23+Knight_Status!F23)*Class_Compare!$N$17)/5","v":1.3380000000000003},200,0,1.2375]
["Knight",20,{"$f":"(B21^2*0.7)+Knight_Status!$C24*(Knight_Status!$C24*Class_Compare!$D$17)/2+100","v":687.2},{"$f":"(U21)*(Class_Compare!$E$17*(50+1.5*(0.8*Knight_Status!C24+0.2*Knight_Status!F24)))","v":67.875},{"$f":"Knight_Status!F24*(Knight_Status!F24*Class_Compare!$O$17)+100","v":114.70000000000002},44.185454545454547,{"$f":"Class_Compare!$B$17*(100+1.2*(0.6*Knight_Status!B24+0.2*Knight_Status!D24+0.2*Knight_Status!E24))","v":35.832000000000001},{"$f":"Class_Compare!$C$17*(100+1.2*(0.5*Knight_Status!B24+0.35*Knight_Status!D24+0.15*Knight_Status!E24))","v":37.073999999999998},{"$f":"(Class_Compare!$G$17*1000)-(Knight_Status!D24*5)","v":825},{"$f":"(Class_Compare!$I$17*1000+Knight_Status!D24)/50","v":20.7},{"$f":"2+(Class_Compare!$L$17)+(Knight_Status!E24/100)","v":2.7600000000000002},{"$f":"(0.2*Knight_Status!B24+0.8*Knight_Status!F24)/250","v":3.0400000000000014E-2},{"$f":"(Knight_Status!C24/25)","v":1.28},{"$f":"Class_Compare!$H$17*(0.2*(Knight_Status!D24*35))","v":220.5},{"$f":"(Class_Compare!$I$17*1000+Knight_Status!D24)/1000","v":1.0349999999999999},{"$f":"(Class_Compare!$J$17*1000+Knight_Status!D24+Knight_Status!E24)/10","v":105.1},{"$f":"((Knight_Status!F24*Class_Compare!$M$17)+5)/2","v":3.5500000000000007},{"$f":"((Knight_Status!E24+Knight_Status!F24)*Class_Compare!$N$17)/5","v":1.3800000000000003},200,0,1.25]
["클래스","KntM1"]
["KntM1",21,{"$f":"(B23^2*0.7)+Knight_Status!$J5*(Knight_Status!$J5*Class_Compare!$D$18)/2+100","v":849.596},{"$f":"(U23)*(Class_Compare!$E$18*(50+1.5*(0.8*Knight_Status!J5+0.2*Knight_Status!M5)))","v":92.950300000000013},{"$f":"Knight_Status!M5*(Knight_Status!M5*Class_Compare!$O$18)+100","v":126.64500000000002},{"$f":"((G23+H23)/2)*(1000/(I23))","v":80.890030581039753},{"$f":"Class_Compare!$B$18*(100+1.2*(0.6*Knight_Status!I5+0.2*Knight_Status!K5+0.2*Knight_Status!L5))","v":60.116},{"$f":"Class_Compare!$C$18*(100+1.2*(0.6*Knight_Status!I5+0.2*Knight_Status!K5+0.2*Knight_Status!L5))","v":72.139200000000002},{"$f":"(Class_Compare!$G$18*1000)-(Knight_Status!K5*5)","v":817.5},{"$f":"(Class_Compare!$I$18*1000+Knight_Status!K5)/50","v":22.73},{"$f":"2+(Class_Compare!$L$18)+(Knight_Status!L5/100)","v":2.9659999999999997},{"$f":"(0.2*Knight_Status!I5+0.8*Knight_Status!M5)/250","v":3.1680000000000014E-2},{"$f":"(Knight_Status!J5/25)","v":1.3280000000000001},{"$f":"Class_Compare!$H$18*(0.2*(Knight_Status!K5*35))","v":281.05},{"$f":"(Class_Compare!$I$18*1000+Knight_Status!K5)/1000","v":1.1365000000000001},{"$f":"(Class_Compare!$J$18*1000+Knight_Status!K5+Knight_Status!L5)/10","v":105.30999999999999},{"$f":"((Knight_Status!M5*Class_Compare!$M$18)+5)/2","v":3.9600000000000009},{"$f":"((Knight_Status!L5+Knight_Status!M5)*Class_Compare!$N$18)/5","v":1.9120000000000004},200,0,{"$f":"$U$1*(1+0.05*(B23/4))","v":1.2625}]
["KntM1",22,{"$f":"(B24^2*0.7)+Knight_Status!$J6*(Knight_Status!$J6*Class_Compare!$D$18)/2+100","v":912.14400000000023},{"$f":"(U24)*(Class_Compare!$E$18*(50+1.5*(0.8*Knight_Status!J6+0.2*Knight_Status!M6)))","v":95.43119999999999},{"$f":"Knight_Status!M6*(Knight_Status!M6*Class_Compare!$O$18)+100","v":128.88000000000002},{"$f":"((G24+H24)/2)*(1000/(I24))","v":82.176790123456783},{"$f":"Class_Compare!$B$18*(100+1.2*(0.6*Knight_Status!I6+0.2*Knight_Status!K6+0.2*Knight_Status!L6))","v":60.512},{"$f":"Class_Compare!$C$18*(100+1.2*(0.6*Knight_Status!I6+0.2*Knight_Status!K6+0.2*Knight_Status!L6))","v":72.614400000000003},{"$f":"(Class_Compare!$G$18*1000)-(Knight_Status!K6*5)","v":810},{"$f":"(Class_Compare!$I$18*1000+Knight_Status!K6)/50","v":22.76},{"$f":"2+(Class_Compare!$L$18)+(Knight_Status!L6/100)","v":2.972},{"$f":"(0.2*Knight_Status!I6+0.8*Knight_Status!M6)/250","v":3.2960000000000017E-2},{"$f":"(Knight_Status!J6/25)","v":1.3760000000000003},{"$f":"Class_Compare!$H$18*(0.2*(Knight_Status!K6*35))","v":292.60000000000002},{"$f":"(Class_Compare!$I$18*1000+Knight_Status!K6)/1000","v":1.1379999999999999},{"$f":"(Class_Compare!$J$18*1000+Knight_Status!K6+Knight_Status!L6)/10","v":105.52000000000001},{"$f":"((Knight_Status!M6*Class_Compare!$M$18)+5)/2","v":4.0200000000000005},{"$f":"((Knight_Status!L6+Knight_Status!M6)*Class_Compare!$N$18)/5","v":1.9840000000000004},200,0,{"$f":"$U$1*(1+0.05*(B24/4))","v":1.2749999999999999}]
["KntM1",23,{"$f":"(B25^2*0.7)+Knight_Status!$J7*(Knight_Status!$J7*Class_Compare!$D$18)/2+100","v":977.24400000000014},{"$f":"(U25)*(Class_Compare!$E$18*(50+1.5*(0.8*Knight_Status!J7+0.2*Knight_Status!M7)))","v":97.942700000000031},{"$f":"Knight_Status!M7*(Knight_Status!M7*Class_Compare!$O$18)+100","v":131.20500000000001},83.48760124610591,{"$f":"Class_Compare!$B$18*(100+1.2*(0.6*Knight_Status!I7+0.2*Knight_Status!K7+0.2*Knight_Status!L7))","v":60.908000000000001},{"$f":"Class_Compare!$C$18*(100+1.2*(0.6*Knight_Status!I7+0.2*Knight_Status!K7+0.2*Knight_Status!L7))","v":73.089600000000004},{"$f":"(Class_Compare!$G$18*1000)-(Knight_Status!K7*5)","v":802.5},{"$f":"(Class_Compare!$I$18*1000+Knight_Status!K7)/50","v":22.79},{"$f":"2+(Class_Compare!$L$18)+(Knight_Status!L7/100)","v":2.9779999999999998},{"$f":"(0.2*Knight_Status!I7+0.8*Knight_Status!M7)/250","v":3.4240000000000013E-2},{"$f":"(Knight_Status!J7/25)","v":1.4240000000000004},{"$f":"Class_Compare!$H$18*(0.2*(Knight_Status!K7*35))","v":304.15000000000003},{"$f":"(Class_Compare!$I$18*1000+Knight_Status!K7)/1000","v":1.1395},{"$f":"(Class_Compare!$J$18*1000+Knight_Status!K7+Knight_Status!L7)/10","v":105.72999999999999},{"$f":"((Knight_Status!M7*Class_Compare!$M$18)+5)/2","v":4.080000000000001},{"$f":"((Knight_Status!L7+Knight_Status!M7)*Class_Compare!$N$18)/5","v":2.0560000000000005},200,0,1.2875000000000001]
["KntM1",24,{"$f":"(B26^2*0.7)+Knight_Status!$J8*(Knight_Status!$J8*Class_Compare!$D$18)/2+100","v":1044.8960000000004},{"$f":"(U26)*(Class_Compare!$E$18*(50+1.5*(0.8*Knight_Status!J8+0.2*Knight_Status!M8)))","v":100.48480000000004},{"$f":"Knight_Status!M8*(Knight_Status!M8*Class_Compare!$O$18)+100","v":133.62000000000003},84.823144654088054,{"$f":"Class_Compare!$B$18*(100+1.2*(0.6*Knight_Status!I8+0.2*Knight_Status!K8+0.2*Knight_Status!L8))","v":61.304000000000002},{"$f":"Class_Compare!$C$18*(100+1.2*(0.6*Knight_Status!I8+0.2*Knight_Status!K8+0.2*Knight_Status!L8))","v":73.564800000000005},{"$f":"(Class_Compare!$G$18*1000)-(Knight_Status!K8*5)","v":795},{"$f":"(Class_Compare!$I$18*1000+Knight_Status!K8)/50","v":22.82},{"$f":"2+(Class_Compare!$L$18)+(Knight_Status!L8/100)","v":2.984},{"$f":"(0.2*Knight_Status!I8+0.8*Knight_Status!M8)/250","v":3.552000000000001E-2},{"$f":"(Knight_Status!J8/25)","v":1.4720000000000004},{"$f":"Class_Compare!$H$18*(0.2*(Knight_Status!K8*35))","v":315.70000000000005},{"$f":"(Class_Compare!$I$18*1000+Knight_Status!K8)/1000","v":1.141},{"$f":"(Class_Compare!$J$18*1000+Knight_Status!K8+Knight_Status!L8)/10","v":105.94000000000001},{"$f":"((Knight_Status!M8*Class_Compare!$M$18)+5)/2","v":4.1400000000000006},{"$f":"((Knight_Status!L8+Knight_Status!M8)*Class_Compare!$N$18)/5","v":2.128000000000001},200,0,1.3]
["KntM1",25,{"$f":"(B27^2*0.7)+Knight_Status!$J9*(Knight_Status!$J9*Class_Compare!$D$18)/2+100","v":1115.1000000000004},{"$f":"(U27)*(Class_Compare!$E$18*(50+1.5*(0.8*Knight_Status!J9+0.2*Knight_Status!M9)))","v":103.05750000000003},{"$f":"Knight_Status!M9*(Knight_Status!M9*Class_Compare!$O$18)+100","v":136.12500000000003},86.184126984126991,{"$f":"Class_Compare!$B$18*(100+1.2*(0.6*Knight_Status!I9+0.2*Knight_Status!K9+0.2*Knight_Status!L9))","v":61.7},{"$f":"Class_Compare!$C$18*(100+1.2*(0.6*Knight_Status!I9+0.2*Knight_Status!K9+0.2*Knight_Status!L9))","v":74.040000000000006},{"$f":"(Class_Compare!$G$18*1000)-(Knight_Status!K9*5)","v":787.5},{"$f":"(Class_Compare!$I$18*1000+Knight_Status!K9)/50","v":22.85},{"$f":"2+(Class_Compare!$L$18)+(Knight_Status!L9/100)","v":2.9899999999999998},{"$f":"(0.2*Knight_Status!I9+0.8*Knight_Status!M9)/250","v":3.680000000000002E-2},{"$f":"(Knight_Status!J9/25)","v":1.5200000000000005},{"$f":"Class_Compare!$H$18*(0.2*(Knight_Status!K9*35))","v":327.25},{"$f":"(Class_Compare!$I$18*1000+Knight_Status!K9)/1000","v":1.1425000000000001},{"$f":"(Class_Compare!$J$18*1000+Knight_Status!K9+Knight_Status!L9)/10","v":106.15},{"$f":"((Knight_Status!M9*Class_Compare!$M$18)+5)/2","v":4.2000000000000011},{"$f":"((Knight_Status!L9+Knight_Status!M9)*Class_Compare!$N$18)/5","v":2.2000000000000011},200,0,1.3125]
["KntM1",26,{"$f":"(B28^2*0.7)+Knight_Status!$J10*(Knight_Status!$J10*Class_Compare!$D$18)/2+100","v":1187.8560000000004},{"$f":"(U28)*(Class_Compare!$E$18*(50+1.5*(0.8*Knight_Status!J10+0.2*Knight_Status!M10)))","v":105.66080000000004},{"$f":"Knight_Status!M10*(Knight_Status!M10*Class_Compare!$O$18)+100","v":138.72000000000003},87.571282051282054,{"$f":"Class_Compare!$B$18*(100+1.2*(0.6*Knight_Status!I10+0.2*Knight_Status!K10+0.2*Knight_Status!L10))","v":62.096000000000004},{"$f":"Class_Compare!$C$18*(100+1.2*(0.6*Knight_Status!I10+0.2*Knight_Status!K10+0.2*Knight_Status!L10))","v":74.515200000000007},{"$f":"(Class_Compare!$G$18*1000)-(Knight_Status!K10*5)","v":780},{"$f":"(Class_Compare!$I$18*1000+Knight_Status!K10)/50","v":22.88},{"$f":"2+(Class_Compare!$L$18)+(Knight_Status!L10/100)","v":2.996},{"$f":"(0.2*Knight_Status!I10+0.8*Knight_Status!M10)/250","v":3.8080000000000017E-2},{"$f":"(Knight_Status!J10/25)","v":1.5680000000000007},{"$f":"Class_Compare!$H$18*(0.2*(Knight_Status!K10*35))","v":338.8},{"$f":"(Class_Compare!$I$18*1000+Knight_Status!K10)/1000","v":1.1439999999999999},{"$f":"(Class_Compare!$J$18*1000+Knight_Status!K10+Knight_Status!L10)/10","v":106.35999999999999},{"$f":"((Knight_Status!M10*Class_Compare!$M$18)+5)/2","v":4.2600000000000007},{"$f":"((Knight_Status!L10+Knight_Status!M10)*Class_Compare!$N$18)/5","v":2.2720000000000011},200,0,1.325]
["KntM1",27,{"$f":"(B29^2*0.7)+Knight_Status!$J11*(Knight_Status!$J11*Class_Compare!$D$18)/2+100","v":1263.1640000000007},{"$f":"(U29)*(Class_Compare!$E$18*(50+1.5*(0.8*Knight_Status!J11+0.2*Knight_Status!M11)))","v":108.29470000000002},{"$f":"Knight_Status!M11*(Knight_Status!M11*Class_Compare!$O$18)+100","v":141.40500000000003},88.985372168284798,{"$f":"Class_Compare!$B$18*(100+1.2*(0.6*Knight_Status!I11+0.2*Knight_Status!K11+0.2*Knight_Status!L11))","v":62.492000000000004},{"$f":"Class_Compare!$C$18*(100+1.2*(0.6*Knight_Status!I11+0.2*Knight_Status!K11+0.2*Knight_Status!L11))","v":74.990400000000008},{"$f":"(Class_Compare!$G$18*1000)-(Knight_Status!K11*5)","v":772.5},{"$f":"(Class_Compare!$I$18*1000+Knight_Status!K11)/50","v":22.91},{"$f":"2+(Class_Compare!$L$18)+(Knight_Status!L11/100)","v":3.0019999999999998},{"$f":"(0.2*Knight_Status!I11+0.8*Knight_Status!M11)/250","v":3.936000000000002E-2},{"$f":"(Knight_Status!J11/25)","v":1.6160000000000008},{"$f":"Class_Compare!$H$18*(0.2*(Knight_Status!K11*35))","v":350.35},{"$f":"(Class_Compare!$I$18*1000+Knight_Status!K11)/1000","v":1.1455},{"$f":"(Class_Compare!$J$18*1000+Knight_Status!K11+Knight_Status!L11)/10","v":106.57000000000001},{"$f":"((Knight_Status!M11*Class_Compare!$M$18)+5)/2","v":4.3200000000000012},{"$f":"((Knight_Status!L11+Knight_Status!M11)*Class_Compare!$N$18)/5","v":2.3440000000000012},200,0,1.3374999999999999]
["KntM1",28,{"$f":"(B30^2*0.7)+Knight_Status!$J12*(Knight_Status!$J12*Class_Compare!$D$18)/2+100","v":1341.0240000000008},{"$f":"(U30)*(Class_Compare!$E$18*(50+1.5*(0.8*Knight_Status!J12+0.2*Knight_Status!M12)))","v":110.95920000000005},{"$f":"Knight_Status!M12*(Knight_Status!M12*Class_Compare!$O$18)+100","v":144.18000000000006},90.427189542483674,{"$f":"Class_Compare!$B$18*(100+1.2*(0.6*Knight_Status!I12+0.2*Knight_Status!K12+0.2*Knight_Status!L12))","v":62.888000000000005},{"$f":"Class_Compare!$C$18*(100+1.2*(0.6*Knight_Status!I12+0.2*Knight_Status!K12+0.2*Knight_Status!L12))","v":75.465600000000009},{"$f":"(Class_Compare!$G$18*1000)-(Knight_Status!K12*5)","v":765},{"$f":"(Class_Compare!$I$18*1000+Knight_Status!K12)/50","v":22.94},{"$f":"2+(Class_Compare!$L$18)+(Knight_Status!L12/100)","v":3.008},{"$f":"(0.2*Knight_Status!I12+0.8*Knight_Status!M12)/250","v":4.0640000000000023E-2},{"$f":"(Knight_Status!J12/25)","v":1.6640000000000008},{"$f":"Class_Compare!$H$18*(0.2*(Knight_Status!K12*35))","v":361.90000000000003},{"$f":"(Class_Compare!$I$18*1000+Knight_Status!K12)/1000","v":1.147},{"$f":"(Class_Compare!$J$18*1000+Knight_Status!K12+Knight_Status!L12)/10","v":106.78},{"$f":"((Knight_Status!M12*Class_Compare!$M$18)+5)/2","v":4.3800000000000008},{"$f":"((Knight_Status!L12+Knight_Status!M12)*Class_Compare!$N$18)/5","v":2.4160000000000013},200,0,1.35]
["KntM1",29,{"$f":"(B31^2*0.7)+Knight_Status!$J13*(Knight_Status!$J13*Class_Compare!$D$18)/2+100","v":1421.4360000000008},{"$f":"(U31)*(Class_Compare!$E$18*(50+1.5*(0.8*Knight_Status!J13+0.2*Knight_Status!M13)))","v":113.65430000000006},{"$f":"Knight_Status!M13*(Knight_Status!M13*Class_Compare!$O$18)+100","v":147.04500000000007},91.897557755775594,{"$f":"Class_Compare!$B$18*(100+1.2*(0.6*Knight_Status!I13+0.2*Knight_Status!K13+0.2*Knight_Status!L13))","v":63.284000000000006},{"$f":"Class_Compare!$C$18*(100+1.2*(0.6*Knight_Status!I13+0.2*Knight_Status!K13+0.2*Knight_Status!L13))","v":75.94080000000001},{"$f":"(Class_Compare!$G$18*1000)-(Knight_Status!K13*5)","v":757.5},{"$f":"(Class_Compare!$I$18*1000+Knight_Status!K13)/50","v":22.97},{"$f":"2+(Class_Compare!$L$18)+(Knight_Status!L13/100)","v":3.0139999999999998},{"$f":"(0.2*Knight_Status!I13+0.8*Knight_Status!M13)/250","v":4.192000000000002E-2},{"$f":"(Knight_Status!J13/25)","v":1.7120000000000011},{"$f":"Class_Compare!$H$18*(0.2*(Knight_Status!K13*35))","v":373.45000000000005},{"$f":"(Class_Compare!$I$18*1000+Knight_Status!K13)/1000","v":1.1485000000000001},{"$f":"(Class_Compare!$J$18*1000+Knight_Status!K13+Knight_Status!L13)/10","v":106.99000000000001},{"$f":"((Knight_Status!M13*Class_Compare!$M$18)+5)/2","v":4.4400000000000013},{"$f":"((Knight_Status!L13+Knight_Status!M13)*Class_Compare!$N$18)/5","v":2.4880000000000018},200,0,1.3625]
["KntM1",30,{"$f":"(B32^2*0.7)+Knight_Status!$J14*(Knight_Status!$J14*Class_Compare!$D$18)/2+100","v":1504.400000000001},{"$f":"(U32)*(Class_Compare!$E$18*(50+1.5*(0.8*Knight_Status!J14+0.2*Knight_Status!M14)))","v":116.38000000000005},{"$f":"Knight_Status!M14*(Knight_Status!M14*Class_Compare!$O$18)+100","v":150.00000000000006},93.397333333333336,{"$f":"Class_Compare!$B$18*(100+1.2*(0.6*Knight_Status!I14+0.2*Knight_Status!K14+0.2*Knight_Status!L14))","v":63.68},{"$f":"Class_Compare!$C$18*(100+1.2*(0.6*Knight_Status!I14+0.2*Knight_Status!K14+0.2*Knight_Status!L14))","v":76.415999999999997},{"$f":"(Class_Compare!$G$18*1000)-(Knight_Status!K14*5)","v":750},{"$f":"(Class_Compare!$I$18*1000+Knight_Status!K14)/50","v":23},{"$f":"2+(Class_Compare!$L$18)+(Knight_Status!L14/100)","v":3.02},{"$f":"(0.2*Knight_Status!I14+0.8*Knight_Status!M14)/250","v":4.3200000000000023E-2},{"$f":"(Knight_Status!J14/25)","v":1.7600000000000011},{"$f":"Class_Compare!$H$18*(0.2*(Knight_Status!K14*35))","v":385.00000000000006},{"$f":"(Class_Compare!$I$18*1000+Knight_Status!K14)/1000","v":1.1499999999999999},{"$f":"(Class_Compare!$J$18*1000+Knight_Status!K14+Knight_Status!L14)/10","v":107.2},{"$f":"((Knight_Status!M14*Class_Compare!$M$18)+5)/2","v":4.5000000000000018},{"$f":"((Knight_Status!L14+Knight_Status!M14)*Class_Compare!$N$18)/5","v":2.5600000000000018},200,0,1.375]
["KntM1",31,{"$f":"(B33^2*0.7)+Knight_Status!$J15*(Knight_Status!$J15*Class_Compare!$D$18)/2+100","v":1589.9160000000011},{"$f":"(U33)*(Class_Compare!$E$18*(50+1.5*(0.8*Knight_Status!J15+0.2*Knight_Status!M15)))","v":119.13630000000005},{"$f":"Knight_Status!M15*(Knight_Status!M15*Class_Compare!$O$18)+100","v":153.04500000000007},94.927407407407429,{"$f":"Class_Compare!$B$18*(100+1.2*(0.6*Knight_Status!I15+0.2*Knight_Status!K15+0.2*Knight_Status!L15))","v":64.076000000000008},{"$f":"Class_Compare!$C$18*(100+1.2*(0.6*Knight_Status!I15+0.2*Knight_Status!K15+0.2*Knight_Status!L15))","v":76.891200000000012},{"$f":"(Class_Compare!$G$18*1000)-(Knight_Status!K15*5)","v":742.5},{"$f":"(Class_Compare!$I$18*1000+Knight_Status!K15)/50","v":23.03},{"$f":"2+(Class_Compare!$L$18)+(Knight_Status!L15/100)","v":3.0259999999999998},{"$f":"(0.2*Knight_Status!I15+0.8*Knight_Status!M15)/250","v":4.4480000000000033E-2},{"$f":"(Knight_Status!J15/25)","v":1.8080000000000012},{"$f":"Class_Compare!$H$18*(0.2*(Knight_Status!K15*35))","v":396.55},{"$f":"(Class_Compare!$I$18*1000+Knight_Status!K15)/1000","v":1.1515},{"$f":"(Class_Compare!$J$18*1000+Knight_Status!K15+Knight_Status!L15)/10","v":107.41},{"$f":"((Knight_Status!M15*Class_Compare!$M$18)+5)/2","v":4.5600000000000023},{"$f":"((Knight_Status!L15+Knight_Status!M15)*Class_Compare!$N$18)/5","v":2.6320000000000019},200,0,1.3875]
["KntM1",32,{"$f":"(B34^2*0.7)+Knight_Status!$J16*(Knight_Status!$J16*Class_Compare!$D$18)/2+100","v":1677.9840000000013},{"$f":"(U34)*(Class_Compare!$E$18*(50+1.5*(0.8*Knight_Status!J16+0.2*Knight_Status!M16)))","v":121.92320000000004},{"$f":"Knight_Status!M16*(Knight_Status!M16*Class_Compare!$O$18)+100","v":156.18000000000009},96.48870748299322,{"$f":"Class_Compare!$B$18*(100+1.2*(0.6*Knight_Status!I16+0.2*Knight_Status!K16+0.2*Knight_Status!L16))","v":64.472000000000008},{"$f":"Class_Compare!$C$18*(100+1.2*(0.6*Knight_Status!I16+0.2*Knight_Status!K16+0.2*Knight_Status!L16))","v":77.366400000000013},{"$f":"(Class_Compare!$G$18*1000)-(Knight_Status!K16*5)","v":735},{"$f":"(Class_Compare!$I$18*1000+Knight_Status!K16)/50","v":23.06},{"$f":"2+(Class_Compare!$L$18)+(Knight_Status!L16/100)","v":3.032},{"$f":"(0.2*Knight_Status!I16+0.8*Knight_Status!M16)/250","v":4.5760000000000037E-2},{"$f":"(Knight_Status!J16/25)","v":1.8560000000000014},{"$f":"Class_Compare!$H$18*(0.2*(Knight_Status!K16*35))","v":408.1},{"$f":"(Class_Compare!$I$18*1000+Knight_Status!K16)/1000","v":1.153},{"$f":"(Class_Compare!$J$18*1000+Knight_Status!K16+Knight_Status!L16)/10","v":107.62},{"$f":"((Knight_Status!M16*Class_Compare!$M$18)+5)/2","v":4.6200000000000019},{"$f":"((Knight_Status!L16+Knight_Status!M16)*Class_Compare!$N$18)/5","v":2.704000000000002},200,0,1.4]
["KntM1",33,{"$f":"(B35^2*0.7)+Knight_Status!$J17*(Knight_Status!$J17*Class_Compare!$D$18)/2+100","v":1768.6040000000016},{"$f":"(U35)*(Class_Compare!$E$18*(50+1.5*(0.8*Knight_Status!J17+0.2*Knight_Status!M17)))","v":124.74070000000006},{"$f":"Knight_Status!M17*(Knight_Status!M17*Class_Compare!$O$18)+100","v":159.40500000000009},98.082199312714792,{"$f":"Class_Compare!$B$18*(100+1.2*(0.6*Knight_Status!I17+0.2*Knight_Status!K17+0.2*Knight_Status!L17))","v":64.868000000000009},{"$f":"Class_Compare!$C$18*(100+1.2*(0.6*Knight_Status!I17+0.2*Knight_Status!K17+0.2*Knight_Status!L17))","v":77.841600000000014},{"$f":"(Class_Compare!$G$18*1000)-(Knight_Status!K17*5)","v":727.5},{"$f":"(Class_Compare!$I$18*1000+Knight_Status!K17)/50","v":23.09},{"$f":"2+(Class_Compare!$L$18)+(Knight_Status!L17/100)","v":3.0379999999999998},{"$f":"(0.2*Knight_Status!I17+0.8*Knight_Status!M17)/250","v":4.7040000000000033E-2},{"$f":"(Knight_Status!J17/25)","v":1.9040000000000015},{"$f":"Class_Compare!$H$18*(0.2*(Knight_Status!K17*35))","v":419.65000000000003},{"$f":"(Class_Compare!$I$18*1000+Knight_Status!K17)/1000","v":1.1545000000000001},{"$f":"(Class_Compare!$J$18*1000+Knight_Status!K17+Knight_Status!L17)/10","v":107.83},{"$f":"((Knight_Status!M17*Class_Compare!$M$18)+5)/2","v":4.6800000000000015},{"$f":"((Knight_Status!L17+Knight_Status!M17)*Class_Compare!$N$18)/5","v":2.7760000000000025},200,0,1.4125000000000001]
["KntM1",34,{"$f":"(B36^2*0.7)+Knight_Status!$J18*(Knight_Status!$J18*Class_Compare!$D$18)/2+100","v":1861.7760000000017},{"$f":"(U36)*(Class_Compare!$E$18*(50+1.5*(0.8*Knight_Status!J18+0.2*Knight_Status!M18)))","v":127.58880000000009},{"$f":"Knight_Status!M18*(Knight_Status!M18*Class_Compare!$O$18)+100","v":162.72000000000011},99.708888888888893,{"$f":"Class_Compare!$B$18*(100+1.2*(0.6*Knight_Status!I18+0.2*Knight_Status!K18+0.2*Knight_Status!L18))","v":65.26400000000001},{"$f":"Class_Compare!$C$18*(100+1.2*(0.6*Knight_Status!I18+0.2*Knight_Status!K18+0.2*Knight_Status!L18))","v":78.316800000000015},{"$f":"(Class_Compare!$G$18*1000)-(Knight_Status!K18*5)","v":720},{"$f":"(Class_Compare!$I$18*1000+Knight_Status!K18)/50","v":23.12},{"$f":"2+(Class_Compare!$L$18)+(Knight_Status!L18/100)","v":3.044},{"$f":"(0.2*Knight_Status!I18+0.8*Knight_Status!M18)/250","v":4.8320000000000037E-2},{"$f":"(Knight_Status!J18/25)","v":1.9520000000000015},{"$f":"Class_Compare!$H$18*(0.2*(Knight_Status!K18*35))","v":431.20000000000005},{"$f":"(Class_Compare!$I$18*1000+Knight_Status!K18)/1000","v":1.1559999999999999},{"$f":"(Class_Compare!$J$18*1000+Knight_Status!K18+Knight_Status!L18)/10","v":108.04},{"$f":"((Knight_Status!M18*Class_Compare!$M$18)+5)/2","v":4.740000000000002},{"$f":"((Knight_Status!L18+Knight_Status!M18)*Class_Compare!$N$18)/5","v":2.8480000000000025},200,0,1.425]
["KntM1",35,{"$f":"(B37^2*0.7)+Knight_Status!$J19*(Knight_Status!$J19*Class_Compare!$D$18)/2+100","v":1957.5000000000018},{"$f":"(U37)*(Class_Compare!$E$18*(50+1.5*(0.8*Knight_Status!J19+0.2*Knight_Status!M19)))","v":130.46750000000006},{"$f":"Knight_Status!M19*(Knight_Status!M19*Class_Compare!$O$18)+100","v":166.12500000000011},101.3698245614035,{"$f":"Class_Compare!$B$18*(100+1.2*(0.6*Knight_Status!I19+0.2*Knight_Status!K19+0.2*Knight_Status!L19))","v":65.66},{"$f":"Class_Compare!$C$18*(100+1.2*(0.6*Knight_Status!I19+0.2*Knight_Status!K19+0.2*Knight_Status!L19))","v":78.791999999999987},{"$f":"(Class_Compare!$G$18*1000)-(Knight_Status!K19*5)","v":712.5},{"$f":"(Class_Compare!$I$18*1000+Knight_Status!K19)/50","v":23.15},{"$f":"2+(Class_Compare!$L$18)+(Knight_Status!L19/100)","v":3.05},{"$f":"(0.2*Knight_Status!I19+0.8*Knight_Status!M19)/250","v":4.960000000000004E-2},{"$f":"(Knight_Status!J19/25)","v":2.0000000000000018},{"$f":"Class_Compare!$H$18*(0.2*(Knight_Status!K19*35))","v":442.75000000000006},{"$f":"(Class_Compare!$I$18*1000+Knight_Status!K19)/1000","v":1.1575},{"$f":"(Class_Compare!$J$18*1000+Knight_Status!K19+Knight_Status!L19)/10","v":108.25},{"$f":"((Knight_Status!M19*Class_Compare!$M$18)+5)/2","v":4.8000000000000025},{"$f":"((Knight_Status!L19+Knight_Status!M19)*Class_Compare!$N$18)/5","v":2.9200000000000026},200,0,1.4375]
["KntM1",36,{"$f":"(B38^2*0.7)+Knight_Status!$J20*(Knight_Status!$J20*Class_Compare!$D$18)/2+100","v":2055.7760000000017},{"$f":"(U38)*(Class_Compare!$E$18*(50+1.5*(0.8*Knight_Status!J20+0.2*Knight_Status!M20)))","v":133.37680000000006},{"$f":"Knight_Status!M20*(Knight_Status!M20*Class_Compare!$O$18)+100","v":169.62000000000012},103.06609929078017,{"$f":"Class_Compare!$B$18*(100+1.2*(0.6*Knight_Status!I20+0.2*Knight_Status!K20+0.2*Knight_Status!L20))","v":66.056000000000012},{"$f":"Class_Compare!$C$18*(100+1.2*(0.6*Knight_Status!I20+0.2*Knight_Status!K20+0.2*Knight_Status!L20))","v":79.267200000000017},{"$f":"(Class_Compare!$G$18*1000)-(Knight_Status!K20*5)","v":705},{"$f":"(Class_Compare!$I$18*1000+Knight_Status!K20)/50","v":23.18},{"$f":"2+(Class_Compare!$L$18)+(Knight_Status!L20/100)","v":3.056},{"$f":"(0.2*Knight_Status!I20+0.8*Knight_Status!M20)/250","v":5.0880000000000043E-2},{"$f":"(Knight_Status!J20/25)","v":2.0480000000000018},{"$f":"Class_Compare!$H$18*(0.2*(Knight_Status!K20*35))","v":454.3},{"$f":"(Class_Compare!$I$18*1000+Knight_Status!K20)/1000","v":1.159},{"$f":"(Class_Compare!$J$18*1000+Knight_Status!K20+Knight_Status!L20)/10","v":108.46},{"$f":"((Knight_Status!M20*Class_Compare!$M$18)+5)/2","v":4.860000000000003},{"$f":"((Knight_Status!L20+Knight_Status!M20)*Class_Compare!$N$18)/5","v":2.9920000000000031},200,0,1.45]
["KntM1",37,{"$f":"(B39^2*0.7)+Knight_Status!$J21*(Knight_Status!$J21*Class_Compare!$D$18)/2+100","v":2156.6040000000021},{"$f":"(U39)*(Class_Compare!$E$18*(50+1.5*(0.8*Knight_Status!J21+0.2*Knight_Status!M21)))","v":136.31670000000008},{"$f":"Knight_Status!M21*(Knight_Status!M21*Class_Compare!$O$18)+100","v":173.20500000000015},104.79885304659496,{"$f":"Class_Compare!$B$18*(100+1.2*(0.6*Knight_Status!I21+0.2*Knight_Status!K21+0.2*Knight_Status!L21))","v":66.451999999999998},{"$f":"Class_Compare!$C$18*(100+1.2*(0.6*Knight_Status!I21+0.2*Knight_Status!K21+0.2*Knight_Status!L21))","v":79.742399999999989},{"$f":"(Class_Compare!$G$18*1000)-(Knight_Status!K21*5)","v":697.5},{"$f":"(Class_Compare!$I$18*1000+Knight_Status!K21)/50","v":23.21},{"$f":"2+(Class_Compare!$L$18)+(Knight_Status!L21/100)","v":3.0620000000000003},{"$f":"(0.2*Knight_Status!I21+0.8*Knight_Status!M21)/250","v":5.2160000000000047E-2},{"$f":"(Knight_Status!J21/25)","v":2.0960000000000019},{"$f":"Class_Compare!$H$18*(0.2*(Knight_Status!K21*35))","v":465.85},{"$f":"(Class_Compare!$I$18*1000+Knight_Status!K21)/1000","v":1.1605000000000001},{"$f":"(Class_Compare!$J$18*1000+Knight_Status!K21+Knight_Status!L21)/10","v":108.67},{"$f":"((Knight_Status!M21*Class_Compare!$M$18)+5)/2","v":4.9200000000000026},{"$f":"((Knight_Status!L21+Knight_Status!M21)*Class_Compare!$N$18)/5","v":3.0640000000000032},200,0,1.4624999999999999]
["KntM1",38,{"$f":"(B40^2*0.7)+Knight_Status!$J22*(Knight_Status!$J22*Class_Compare!$D$18)/2+100","v":2259.9840000000022},{"$f":"(U40)*(Class_Compare!$E$18*(50+1.5*(0.8*Knight_Status!J22+0.2*Knight_Status!M22)))","v":139.28720000000013},{"$f":"Knight_Status!M22*(Knight_Status!M22*Class_Compare!$O$18)+100","v":176.88000000000017},106.56927536231885,{"$f":"Class_Compare!$B$18*(100+1.2*(0.6*Knight_Status!I22+0.2*Knight_Status!K22+0.2*Knight_Status!L22))","v":66.848000000000013},{"$f":"Class_Compare!$C$18*(100+1.2*(0.6*Knight_Status!I22+0.2*Knight_Status!K22+0.2*Knight_Status!L22))","v":80.217600000000019},{"$f":"(Class_Compare!$G$18*1000)-(Knight_Status!K22*5)","v":690},{"$f":"(Class_Compare!$I$18*1000+Knight_Status!K22)/50","v":23.24},{"$f":"2+(Class_Compare!$L$18)+(Knight_Status!L22/100)","v":3.0680000000000001},{"$f":"(0.2*Knight_Status!I22+0.8*Knight_Status!M22)/250","v":5.344000000000005E-2},{"$f":"(Knight_Status!J22/25)","v":2.1440000000000019},{"$f":"Class_Compare!$H$18*(0.2*(Knight_Status!K22*35))","v":477.40000000000003},{"$f":"(Class_Compare!$I$18*1000+Knight_Status!K22)/1000","v":1.1619999999999999},{"$f":"(Class_Compare!$J$18*1000+Knight_Status!K22+Knight_Status!L22)/10","v":108.88},{"$f":"((Knight_Status!M22*Class_Compare!$M$18)+5)/2","v":4.9800000000000022},{"$f":"((Knight_Status!L22+Knight_Status!M22)*Class_Compare!$N$18)/5","v":3.1360000000000032},200,0,1.4750000000000001]
["KntM1",39,{"$f":"(B41^2*0.7)+Knight_Status!$J23*(Knight_Status!$J23*Class_Compare!$D$18)/2+100","v":2365.9160000000024},{"$f":"(U41)*(Class_Compare!$E$18*(50+1.5*(0.8*Knight_Status!J23+0.2*Knight_Status!M23)))","v":142.28830000000011},{"$f":"Knight_Status!M23*(Knight_Status!M23*Class_Compare!$O$18)+100","v":180.64500000000015},108.37860805860805,{"$f":"Class_Compare!$B$18*(100+1.2*(0.6*Knight_Status!I23+0.2*Knight_Status!K23+0.2*Knight_Status!L23))","v":67.244},{"$f":"Class_Compare!$C$18*(100+1.2*(0.6*Knight_Status!I23+0.2*Knight_Status!K23+0.2*Knight_Status!L23))","v":80.692799999999991},{"$f":"(Class_Compare!$G$18*1000)-(Knight_Status!K23*5)","v":682.5},{"$f":"(Class_Compare!$I$18*1000+Knight_Status!K23)/50","v":23.27},{"$f":"2+(Class_Compare!$L$18)+(Knight_Status!L23/100)","v":3.0739999999999998},{"$f":"(0.2*Knight_Status!I23+0.8*Knight_Status!M23)/250","v":5.4720000000000039E-2},{"$f":"(Knight_Status!J23/25)","v":2.1920000000000019},{"$f":"Class_Compare!$H$18*(0.2*(Knight_Status!K23*35))","v":488.95000000000005},{"$f":"(Class_Compare!$I$18*1000+Knight_Status!K23)/1000","v":1.1635},{"$f":"(Class_Compare!$J$18*1000+Knight_Status!K23+Knight_Status!L23)/10","v":109.09},{"$f":"((Knight_Status!M23*Class_Compare!$M$18)+5)/2","v":5.0400000000000027},{"$f":"((Knight_Status!L23+Knight_Status!M23)*Class_Compare!$N$18)/5","v":3.2080000000000033},200,0,1.4875]
["KntM1",40,{"$f":"(B42^2*0.7)+Knight_Status!$J24*(Knight_Status!$J24*Class_Compare!$D$18)/2+100","v":2474.4000000000024},{"$f":"(U42)*(Class_Compare!$E$18*(50+1.5*(0.8*Knight_Status!J24+0.2*Knight_Status!M24)))","v":145.32000000000011},{"$f":"Knight_Status!M24*(Knight_Status!M24*Class_Compare!$O$18)+100","v":184.50000000000017},110.22814814814814,{"$f":"Class_Compare!$B$18*(100+1.2*(0.6*Knight_Status!I24+0.2*Knight_Status!K24+0.2*Knight_Status!L24))","v":67.64},{"$f":"Class_Compare!$C$18*(100+1.2*(0.6*Knight_Status!I24+0.2*Knight_Status!K24+0.2*Knight_Status!L24))","v":81.167999999999992},{"$f":"(Class_Compare!$G$18*1000)-(Knight_Status!K24*5)","v":675},{"$f":"(Class_Compare!$I$18*1000+Knight_Status!K24)/50","v":23.3},{"$f":"2+(Class_Compare!$L$18)+(Knight_Status!L24/100)","v":3.08},{"$f":"(0.2*Knight_Status!I24+0.8*Knight_Status!M24)/250","v":5.600000000000005E-2},{"$f":"(Knight_Status!J24/25)","v":2.2400000000000024},{"$f":"Class_Compare!$H$18*(0.2*(Knight_Status!K24*35))","v":500.50000000000006},{"$f":"(Class_Compare!$I$18*1000+Knight_Status!K24)/1000","v":1.165},{"$f":"(Class_Compare!$J$18*1000+Knight_Status!K24+Knight_Status!L24)/10","v":109.3},{"$f":"((Knight_Status!M24*Class_Compare!$M$18)+5)/2","v":5.1000000000000032},{"$f":"((Knight_Status!L24+Knight_Status!M24)*Class_Compare!$N$18)/5","v":3.2800000000000034},200,0,1.5]
["KntM1",41,{"$f":"(B43^2*0.7)+Knight_Status!$J25*(Knight_Status!$J25*Class_Compare!$D$18)/2+100","v":2585.4360000000024},{"$f":"(U43)*(Class_Compare!$E$18*(50+1.5*(0.8*Knight_Status!J25+0.2*Knight_Status!M25)))","v":148.38230000000013},{"$f":"Knight_Status!M25*(Knight_Status!M25*Class_Compare!$O$18)+100","v":188.44500000000019},112.11925093632958,{"$f":"Class_Compare!$B$18*(100+1.2*(0.6*Knight_Status!I25+0.2*Knight_Status!K25+0.2*Knight_Status!L25))","v":68.036000000000001},{"$f":"Class_Compare!$C$18*(100+1.2*(0.6*Knight_Status!I25+0.2*Knight_Status!K25+0.2*Knight_Status!L25))","v":81.643199999999993},{"$f":"(Class_Compare!$G$18*1000)-(Knight_Status!K25*5)","v":667.5},{"$f":"(Class_Compare!$I$18*1000+Knight_Status!K25)/50","v":23.33},{"$f":"2+(Class_Compare!$L$18)+(Knight_Status!L25/100)","v":3.0860000000000003},{"$f":"(0.2*Knight_Status!I25+0.8*Knight_Status!M25)/250","v":5.7280000000000053E-2},{"$f":"(Knight_Status!J25/25)","v":2.2880000000000025},{"$f":"Class_Compare!$H$18*(0.2*(Knight_Status!K25*35))","v":512.05000000000007},{"$f":"(Class_Compare!$I$18*1000+Knight_Status!K25)/1000","v":1.1665000000000001},{"$f":"(Class_Compare!$J$18*1000+Knight_Status!K25+Knight_Status!L25)/10","v":109.51000000000002},{"$f":"((Knight_Status!M25*Class_Compare!$M$18)+5)/2","v":5.1600000000000037},{"$f":"((Knight_Status!L25+Knight_Status!M25)*Class_Compare!$N$18)/5","v":3.3520000000000039},200,0,1.5125000000000002]
["KntM1",42,{"$f":"(B44^2*0.7)+Knight_Status!$J26*(Knight_Status!$J26*Class_Compare!$D$18)/2+100","v":2699.0240000000031},{"$f":"(U44)*(Class_Compare!$E$18*(50+1.5*(0.8*Knight_Status!J26+0.2*Knight_Status!M26)))","v":151.47520000000011},{"$f":"Knight_Status!M26*(Knight_Status!M26*Class_Compare!$O$18)+100","v":192.48000000000022},114.05333333333333,{"$f":"Class_Compare!$B$18*(100+1.2*(0.6*Knight_Status!I26+0.2*Knight_Status!K26+0.2*Knight_Status!L26))","v":68.432000000000002},{"$f":"Class_Compare!$C$18*(100+1.2*(0.6*Knight_Status!I26+0.2*Knight_Status!K26+0.2*Knight_Status!L26))","v":82.118399999999994},{"$f":"(Class_Compare!$G$18*1000)-(Knight_Status!K26*5)","v":660},{"$f":"(Class_Compare!$I$18*1000+Knight_Status!K26)/50","v":23.36},{"$f":"2+(Class_Compare!$L$18)+(Knight_Status!L26/100)","v":3.0920000000000001},{"$f":"(0.2*Knight_Status!I26+0.8*Knight_Status!M26)/250","v":5.856000000000005E-2},{"$f":"(Knight_Status!J26/25)","v":2.3360000000000025},{"$f":"Class_Compare!$H$18*(0.2*(Knight_Status!K26*35))","v":523.6},{"$f":"(Class_Compare!$I$18*1000+Knight_Status!K26)/1000","v":1.1679999999999999},{"$f":"(Class_Compare!$J$18*1000+Knight_Status!K26+Knight_Status!L26)/10","v":109.72},{"$f":"((Knight_Status!M26*Class_Compare!$M$18)+5)/2","v":5.2200000000000033},{"$f":"((Knight_Status!L26+Knight_Status!M26)*Class_Compare!$N$18)/5","v":3.4240000000000039},200,0,1.5249999999999999]
["KntM1",43,{"$f":"(B45^2*0.7)+Knight_Status!$J27*(Knight_Status!$J27*Class_Compare!$D$18)/2+100","v":2815.1640000000034},{"$f":"(U45)*(Class_Compare!$E$18*(50+1.5*(0.8*Knight_Status!J27+0.2*Knight_Status!M27)))","v":154.59870000000012},{"$f":"Knight_Status!M27*(Knight_Status!M27*Class_Compare!$O$18)+100","v":196.60500000000025},116.03187739463603,{"$f":"Class_Compare!$B$18*(100+1.2*(0.6*Knight_Status!I27+0.2*Knight_Status!K27+0.2*Knight_Status!L27))","v":68.828000000000003},{"$f":"Class_Compare!$C$18*(100+1.2*(0.6*Knight_Status!I27+0.2*Knight_Status!K27+0.2*Knight_Status!L27))","v":82.593599999999995},{"$f":"(Class_Compare!$G$18*1000)-(Knight_Status!K27*5)","v":652.5},{"$f":"(Class_Compare!$I$18*1000+Knight_Status!K27)/50","v":23.39},{"$f":"2+(Class_Compare!$L$18)+(Knight_Status!L27/100)","v":3.0980000000000003},{"$f":"(0.2*Knight_Status!I27+0.8*Knight_Status!M27)/250","v":5.9840000000000053E-2},{"$f":"(Knight_Status!J27/25)","v":2.3840000000000026},{"$f":"Class_Compare!$H$18*(0.2*(Knight_Status!K27*35))","v":535.15000000000009},{"$f":"(Class_Compare!$I$18*1000+Knight_Status!K27)/1000","v":1.1695},{"$f":"(Class_Compare!$J$18*1000+Knight_Status!K27+Knight_Status!L27)/10","v":109.92999999999999},{"$f":"((Knight_Status!M27*Class_Compare!$M$18)+5)/2","v":5.2800000000000029},{"$f":"((Knight_Status!L27+Knight_Status!M27)*Class_Compare!$N$18)/5","v":3.4960000000000035},200,0,1.5375000000000001]
["KntM1",44,{"$f":"(B46^2*0.7)+Knight_Status!$J28*(Knight_Status!$J28*Class_Compare!$D$18)/2+100","v":2933.8560000000034},{"$f":"(U46)*(Class_Compare!$E$18*(50+1.5*(0.8*Knight_Status!J28+0.2*Knight_Status!M28)))","v":157.75280000000012},{"$f":"Knight_Status!M28*(Knight_Status!M28*Class_Compare!$O$18)+100","v":200.82000000000025},118.05643410852714,{"$f":"Class_Compare!$B$18*(100+1.2*(0.6*Knight_Status!I28+0.2*Knight_Status!K28+0.2*Knight_Status!L28))","v":69.224000000000004},{"$f":"Class_Compare!$C$18*(100+1.2*(0.6*Knight_Status!I28+0.2*Knight_Status!K28+0.2*Knight_Status!L28))","v":83.068799999999996},{"$f":"(Class_Compare!$G$18*1000)-(Knight_Status!K28*5)","v":645},{"$f":"(Class_Compare!$I$18*1000+Knight_Status!K28)/50","v":23.42},{"$f":"2+(Class_Compare!$L$18)+(Knight_Status!L28/100)","v":3.1040000000000001},{"$f":"(0.2*Knight_Status!I28+0.8*Knight_Status!M28)/250","v":6.1120000000000049E-2},{"$f":"(Knight_Status!J28/25)","v":2.4320000000000026},{"$f":"Class_Compare!$H$18*(0.2*(Knight_Status!K28*35))","v":546.70000000000005},{"$f":"(Class_Compare!$I$18*1000+Knight_Status!K28)/1000","v":1.171},{"$f":"(Class_Compare!$J$18*1000+Knight_Status!K28+Knight_Status!L28)/10","v":110.14000000000001},{"$f":"((Knight_Status!M28*Class_Compare!$M$18)+5)/2","v":5.3400000000000034},{"$f":"((Knight_Status!L28+Knight_Status!M28)*Class_Compare!$N$18)/5","v":3.5680000000000041},200,0,1.55]
["KntM1",45,{"$f":"(B47^2*0.7)+Knight_Status!$J29*(Knight_Status!$J29*Class_Compare!$D$18)/2+100","v":3055.1000000000035},{"$f":"(U47)*(Class_Compare!$E$18*(50+1.5*(0.8*Knight_Status!J29+0.2*Knight_Status!M29)))","v":160.93750000000014},{"$f":"Knight_Status!M29*(Knight_Status!M29*Class_Compare!$O$18)+100","v":205.12500000000026},120.12862745098037,{"$f":"Class_Compare!$B$18*(100+1.2*(0.6*Knight_Status!I29+0.2*Knight_Status!K29+0.2*Knight_Status!L29))","v":69.62},{"$f":"Class_Compare!$C$18*(100+1.2*(0.6*Knight_Status!I29+0.2*Knight_Status!K29+0.2*Knight_Status!L29))","v":83.543999999999997},{"$f":"(Class_Compare!$G$18*1000)-(Knight_Status!K29*5)","v":637.5},{"$f":"(Class_Compare!$I$18*1000+Knight_Status!K29)/50","v":23.45},{"$f":"2+(Class_Compare!$L$18)+(Knight_Status!L29/100)","v":3.1100000000000003},{"$f":"(0.2*Knight_Status!I29+0.8*Knight_Status!M29)/250","v":6.2400000000000053E-2},{"$f":"(Knight_Status!J29/25)","v":2.4800000000000026},{"$f":"Class_Compare!$H$18*(0.2*(Knight_Status!K29*35))","v":558.25},{"$f":"(Class_Compare!$I$18*1000+Knight_Status!K29)/1000","v":1.1725000000000001},{"$f":"(Class_Compare!$J$18*1000+Knight_Status!K29+Knight_Status!L29)/10","v":110.35},{"$f":"((Knight_Status!M29*Class_Compare!$M$18)+5)/2","v":5.4000000000000039},{"$f":"((Knight_Status!L29+Knight_Status!M29)*Class_Compare!$N$18)/5","v":3.640000000000005},200,0,1.5625]
["KntM1",46,{"$f":"(B48^2*0.7)+Knight_Status!$J30*(Knight_Status!$J30*Class_Compare!$D$18)/2+100","v":3178.8960000000034},{"$f":"(U48)*(Class_Compare!$E$18*(50+1.5*(0.8*Knight_Status!J30+0.2*Knight_Status!M30)))","v":164.15280000000013},{"$f":"Knight_Status!M30*(Knight_Status!M30*Class_Compare!$O$18)+100","v":209.52000000000027},122.2501587301587,{"$f":"Class_Compare!$B$18*(100+1.2*(0.6*Knight_Status!I30+0.2*Knight_Status!K30+0.2*Knight_Status!L30))","v":70.015999999999991},{"$f":"Class_Compare!$C$18*(100+1.2*(0.6*Knight_Status!I30+0.2*Knight_Status!K30+0.2*Knight_Status!L30))","v":84.019199999999984},{"$f":"(Class_Compare!$G$18*1000)-(Knight_Status!K30*5)","v":630},{"$f":"(Class_Compare!$I$18*1000+Knight_Status!K30)/50","v":23.48},{"$f":"2+(Class_Compare!$L$18)+(Knight_Status!L30/100)","v":3.1160000000000001},{"$f":"(0.2*Knight_Status!I30+0.8*Knight_Status!M30)/250","v":6.3680000000000056E-2},{"$f":"(Knight_Status!J30/25)","v":2.5280000000000031},{"$f":"Class_Compare!$H$18*(0.2*(Knight_Status!K30*35))","v":569.80000000000007},{"$f":"(Class_Compare!$I$18*1000+Knight_Status!K30)/1000","v":1.1739999999999999},{"$f":"(Class_Compare!$J$18*1000+Knight_Status!K30+Knight_Status!L30)/10","v":110.56000000000002},{"$f":"((Knight_Status!M30*Class_Compare!$M$18)+5)/2","v":5.4600000000000044},{"$f":"((Knight_Status!L30+Knight_Status!M30)*Class_Compare!$N$18)/5","v":3.7120000000000046},200,0,1.5750000000000002]
["KntM1",47,{"$f":"(B49^2*0.7)+Knight_Status!$J31*(Knight_Status!$J31*Class_Compare!$D$18)/2+100","v":3305.2440000000042},{"$f":"(U49)*(Class_Compare!$E$18*(50+1.5*(0.8*Knight_Status!J31+0.2*Knight_Status!M31)))","v":167.39870000000013},{"$f":"Knight_Status!M31*(Knight_Status!M31*Class_Compare!$O$18)+100","v":214.00500000000028},124.42281124497994,{"$f":"Class_Compare!$B$18*(100+1.2*(0.6*Knight_Status!I31+0.2*Knight_Status!K31+0.2*Knight_Status!L31))","v":70.412000000000006},{"$f":"Class_Compare!$C$18*(100+1.2*(0.6*Knight_Status!I31+0.2*Knight_Status!K31+0.2*Knight_Status!L31))","v":84.494399999999999},{"$f":"(Class_Compare!$G$18*1000)-(Knight_Status!K31*5)","v":622.5},{"$f":"(Class_Compare!$I$18*1000+Knight_Status!K31)/50","v":23.51},{"$f":"2+(Class_Compare!$L$18)+(Knight_Status!L31/100)","v":3.1220000000000003},{"$f":"(0.2*Knight_Status!I31+0.8*Knight_Status!M31)/250","v":6.4960000000000059E-2},{"$f":"(Knight_Status!J31/25)","v":2.5760000000000032},{"$f":"Class_Compare!$H$18*(0.2*(Knight_Status!K31*35))","v":581.35},{"$f":"(Class_Compare!$I$18*1000+Knight_Status!K31)/1000","v":1.1755},{"$f":"(Class_Compare!$J$18*1000+Knight_Status!K31+Knight_Status!L31)/10","v":110.77000000000001},{"$f":"((Knight_Status!M31*Class_Compare!$M$18)+5)/2","v":5.520000000000004},{"$f":"((Knight_Status!L31+Knight_Status!M31)*Class_Compare!$N$18)/5","v":3.7840000000000047},200,0,1.5874999999999999]
["KntM1",48,{"$f":"(B50^2*0.7)+Knight_Status!$J32*(Knight_Status!$J32*Class_Compare!$D$18)/2+100","v":3434.1440000000043},{"$f":"(U50)*(Class_Compare!$E$18*(50+1.5*(0.8*Knight_Status!J32+0.2*Knight_Status!M32)))","v":170.67520000000016},{"$f":"Knight_Status!M32*(Knight_Status!M32*Class_Compare!$O$18)+100","v":218.58000000000033},126.64845528455282,{"$f":"Class_Compare!$B$18*(100+1.2*(0.6*Knight_Status!I32+0.2*Knight_Status!K32+0.2*Knight_Status!L32))","v":70.807999999999993},{"$f":"Class_Compare!$C$18*(100+1.2*(0.6*Knight_Status!I32+0.2*Knight_Status!K32+0.2*Knight_Status!L32))","v":84.969599999999986},{"$f":"(Class_Compare!$G$18*1000)-(Knight_Status!K32*5)","v":615},{"$f":"(Class_Compare!$I$18*1000+Knight_Status!K32)/50","v":23.54},{"$f":"2+(Class_Compare!$L$18)+(Knight_Status!L32/100)","v":3.1280000000000001},{"$f":"(0.2*Knight_Status!I32+0.8*Knight_Status!M32)/250","v":6.6240000000000049E-2},{"$f":"(Knight_Status!J32/25)","v":2.6240000000000032},{"$f":"Class_Compare!$H$18*(0.2*(Knight_Status!K32*35))","v":592.90000000000009},{"$f":"(Class_Compare!$I$18*1000+Knight_Status!K32)/1000","v":1.177},{"$f":"(Class_Compare!$J$18*1000+Knight_Status!K32+Knight_Status!L32)/10","v":110.97999999999999},{"$f":"((Knight_Status!M32*Class_Compare!$M$18)+5)/2","v":5.5800000000000036},{"$f":"((Knight_Status!L32+Knight_Status!M32)*Class_Compare!$N$18)/5","v":3.8560000000000052},200,0,1.6]
["KntM1",49,{"$f":"(B51^2*0.7)+Knight_Status!$J33*(Knight_Status!$J33*Class_Compare!$D$18)/2+100","v":3565.5960000000041},{"$f":"(U51)*(Class_Compare!$E$18*(50+1.5*(0.8*Knight_Status!J33+0.2*Knight_Status!M33)))","v":173.98230000000018},{"$f":"Knight_Status!M33*(Knight_Status!M33*Class_Compare!$O$18)+100","v":223.24500000000032},128.92905349794239,{"$f":"Class_Compare!$B$18*(100+1.2*(0.6*Knight_Status!I33+0.2*Knight_Status!K33+0.2*Knight_Status!L33))","v":71.204000000000008},{"$f":"Class_Compare!$C$18*(100+1.2*(0.6*Knight_Status!I33+0.2*Knight_Status!K33+0.2*Knight_Status!L33))","v":85.444800000000001},{"$f":"(Class_Compare!$G$18*1000)-(Knight_Status!K33*5)","v":607.5},{"$f":"(Class_Compare!$I$18*1000+Knight_Status!K33)/50","v":23.57},{"$f":"2+(Class_Compare!$L$18)+(Knight_Status!L33/100)","v":3.1340000000000003},{"$f":"(0.2*Knight_Status!I33+0.8*Knight_Status!M33)/250","v":6.7520000000000052E-2},{"$f":"(Knight_Status!J33/25)","v":2.6720000000000033},{"$f":"Class_Compare!$H$18*(0.2*(Knight_Status!K33*35))","v":604.45000000000005},{"$f":"(Class_Compare!$I$18*1000+Knight_Status!K33)/1000","v":1.1785000000000001},{"$f":"(Class_Compare!$J$18*1000+Knight_Status!K33+Knight_Status!L33)/10","v":111.19000000000001},{"$f":"((Knight_Status!M33*Class_Compare!$M$18)+5)/2","v":5.6400000000000041},{"$f":"((Knight_Status!L33+Knight_Status!M33)*Class_Compare!$N$18)/5","v":3.9280000000000057},200,0,1.6125]
["KntM1",50,{"$f":"(B52^2*0.7)+Knight_Status!$J34*(Knight_Status!$J34*Class_Compare!$D$18)/2+100","v":3699.6000000000049},{"$f":"(U52)*(Class_Compare!$E$18*(50+1.5*(0.8*Knight_Status!J34+0.2*Knight_Status!M34)))","v":177.32000000000014},{"$f":"Knight_Status!M34*(Knight_Status!M34*Class_Compare!$O$18)+100","v":228.00000000000034},131.26666666666665,{"$f":"Class_Compare!$B$18*(100+1.2*(0.6*Knight_Status!I34+0.2*Knight_Status!K34+0.2*Knight_Status!L34))","v":71.599999999999994},{"$f":"Class_Compare!$C$18*(100+1.2*(0.6*Knight_Status!I34+0.2*Knight_Status!K34+0.2*Knight_Status!L34))","v":85.919999999999987},{"$f":"(Class_Compare!$G$18*1000)-(Knight_Status!K34*5)","v":600},{"$f":"(Class_Compare!$I$18*1000+Knight_Status!K34)/50","v":23.6},{"$f":"2+(Class_Compare!$L$18)+(Knight_Status!L34/100)","v":3.14},{"$f":"(0.2*Knight_Status!I34+0.8*Knight_Status!M34)/250","v":6.8800000000000069E-2},{"$f":"(Knight_Status!J34/25)","v":2.7200000000000033},{"$f":"Class_Compare!$H$18*(0.2*(Knight_Status!K34*35))","v":616},{"$f":"(Class_Compare!$I$18*1000+Knight_Status!K34)/1000","v":1.18},{"$f":"(Class_Compare!$J$18*1000+Knight_Status!K34+Knight_Status!L34)/10","v":111.4},{"$f":"((Knight_Status!M34*Class_Compare!$M$18)+5)/2","v":5.7000000000000046},{"$f":"((Knight_Status!L34+Knight_Status!M34)*Class_Compare!$N$18)/5","v":4.0000000000000053},200,0,1.625]
["클래스","KntM2"]
["KntM2",21,849.596,92.950300000000013,126.64500000000002,80.890030581039753,60.116,72.139200000000002,817.5,22.73,2.9659999999999997,3.1680000000000014E-2,1.3280000000000001,281.05,1.1365000000000001,105.30999999999999,3.9600000000000009,1.9120000000000004,200,0]
["KntM2",22,912.14400000000023,95.43119999999999,128.88000000000002,82.176790123456783,60.512,72.614400000000003,810,22.76,2.972,3.2960000000000017E-2,1.3760000000000003,292.60000000000002,1.1379999999999999,105.52000000000001,4.0200000000000005,1.9840000000000004,200,0]
["KntM2",23,977.24400000000014,97.942700000000031,131.20500000000001,83.48760124610591,60.908000000000001,73.089600000000004,802.5,22.79,2.9779999999999998,3.4240000000000013E-2,1.4240000000000004,304.15000000000003,1.1395,105.72999999999999,4.080000000000001,2.0560000000000005,200,0]
["KntM2",24,1044.8960000000004,100.48480000000004,133.62000000000003,84.823144654088054,61.304000000000002,73.564800000000005,795,22.82,2.984,3.552000000000001E-2,1.4720000000000004,315.70000000000005,1.141,105.94000000000001,4.1400000000000006,2.128000000000001,200,0]
["KntM2",25,1115.1000000000004,103.05750000000003,136.12500000000003,86.184126984126991,61.7,74.040000000000006,787.5,22.85,2.9899999999999998,3.680000000000002E-2,1.5200000000000005,327.25,1.1425000000000001,106.15,4.2000000000000011,2.2000000000000011,200,0]
["KntM2",26,1187.8560000000004,105.66080000000004,138.72000000000003,87.571282051282054,62.096000000000004,74.515200000000007,780,22.88,2.996,3.8080000000000017E-2,1.5680000000000007,338.8,1.1439999999999999,106.35999999999999,4.2600000000000007,2.2720000000000011,200,0]
["KntM2",27,1263.1640000000007,108.29470000000002,141.40500000000003,88.985372168284798,62.492000000000004,74.990400000000008,772.5,22.91,3.0019999999999998,3.936000000000002E-2,1.6160000000000008,350.35,1.1455,106.57000000000001,4.3200000000000012,2.3440000000000012,200,0]
["KntM2",28,1341.0240000000008,110.95920000000005,144.18000000000006,90.427189542483674,62.888000000000005,75.465600000000009,765,22.94,3.008,4.0640000000000023E-2,1.6640000000000008,361.90000000000003,1.147,106.78,4.3800000000000008,2.4160000000000013,200,0]
["KntM2",29,1421.4360000000008,113.65430000000006,147.04500000000007,91.897557755775594,63.284000000000006,75.94080000000001,757.5,22.97,3.0139999999999998,4.192000000000002E-2,1.7120000000000011,373.45000000000005,1.1485000000000001,106.99000000000001,4.4400000000000013,2.4880000000000018,200,0]
["KntM2",30,1504.400000000001,116.38000000000005,150.00000000000006,93.397333333333336,63.68,76.415999999999997,750,23,3.02,4.3200000000000023E-2,1.7600000000000011,385.00000000000006,1.1499999999999999,107.2,4.5000000000000018,2.5600000000000018,200,0]
["KntM2",31,1589.9160000000011,119.13630000000005,153.04500000000007,94.927407407407429,64.076000000000008,76.891200000000012,742.5,23.03,3.0259999999999998,4.4480000000000033E-2,1.8080000000000012,396.55,1.1515,107.41,4.5600000000000023,2.6320000000000019,200,0]
["KntM2",32,1677.9840000000013,121.92320000000004,156.18000000000009,96.48870748299322,64.472000000000008,77.366400000000013,735,23.06,3.032,4.5760000000000037E-2,1.8560000000000014,408.1,1.153,107.62,4.6200000000000019,2.704000000000002,200,0]
["KntM2",33,1768.6040000000016,124.74070000000006,159.40500000000009,98.082199312714792,64.868000000000009,77.841600000000014,727.5,23.09,3.0379999999999998,4.7040000000000033E-2,1.9040000000000015,419.65000000000003,1.1545000000000001,107.83,4.6800000000000015,2.7760000000000025,200,0]
["KntM2",34,1861.7760000000017,127.58880000000009,162.72000000000011,99.708888888888893,65.26400000000001,78.316800000000015,720,23.12,3.044,4.8320000000000037E-2,1.9520000000000015,431.20000000000005,1.1559999999999999,108.04,4.740000000000002,2.8480000000000025,200,0]
["KntM2",35,1957.5000000000018,130.46750000000006,166.12500000000011,101.3698245614035,65.66,78.791999999999987,712.5,23.15,3.05,4.960000000000004E-2,2.0000000000000018,442.75000000000006,1.1575,108.25,4.8000000000000025,2.9200000000000026,200,0]
["KntM2",36,2055.7760000000017,133.37680000000006,169.62000000000012,103.06609929078017,66.056000000000012,79.267200000000017,705,23.18,3.056,5.0880000000000043E-2,2.0480000000000018,454.3,1.159,108.46,4.860000000000003,2.9920000000000031,200,0]
["KntM2",37,2156.6040000000021,136.31670000000008,173.20500000000015,104.79885304659496,66.451999999999998,79.742399999999989,697.5,23.21,3.0620000000000003,5.2160000000000047E-2,2.0960000000000019,465.85,1.1605000000000001,108.67,4.9200000000000026,3.0640000000000032,200,0]
["KntM2",38,2259.9840000000022,139.28720000000013,176.88000000000017,106.56927536231885,66.848000000000013,80.217600000000019,690,23.24,3.0680000000000001,5.344000000000005E-2,2.1440000000000019,477.40000000000003,1.1619999999999999,108.88,4.9800000000000022,3.1360000000000032,200,0]
["KntM2",39,2365.9160000000024,142.28830000000011,180.64500000000015,108.37860805860805,67.244,80.692799999999991,682.5,23.27,3.0739999999999998,5.4720000000000039E-2,2.1920000000000019,488.95000000000005,1.1635,109.09,5.0400000000000027,3.2080000000000033,200,0]
["KntM2",40,2474.4000000000024,145.32000000000011,184.50000000000017,110.22814814814814,67.64,81.167999999999992,675,23.3,3.08,5.600000000000005E-2,2.2400000000000024,500.50000000000006,1.165,109.3,5.1000000000000032,3.2800000000000034,200,0]
["KntM2",41,2585.4360000000024,148.38230000000013,188.44500000000019,112.11925093632958,68.036000000000001,81.643199999999993,667.5,23.33,3.0860000000000003,5.7280000000000053E-2,2.2880000000000025,512.05000000000007,1.1665000000000001,109.51000000000002,5.1600000000000037,3.3520000000000039,200,0]
["KntM2",42,2699.0240000000031,151.47520000000011,192.48000000000022,114.05333333333333,68.432000000000002,82.118399999999994,660,23.36,3.0920000000000001,5.856000000000005E-2,2.3360000000000025,523.6,1.1679999999999999,109.72,5.2200000000000033,3.4240000000000039,200,0]
["KntM2",43,2815.1640000000034,154.59870000000012,196.60500000000025,116.03187739463603,68.828000000000003,82.593599999999995,652.5,23.39,3.0980000000000003,5.9840000000000053E-2,2.3840000000000026,535.15000000000009,1.1695,109.92999999999999,5.2800000000000029,3.4960000000000035,200,0]
["KntM2",44,2933.8560000000034,157.75280000000012,200.82000000000025,118.05643410852714,69.224000000000004,83.068799999999996,645,23.42,3.1040000000000001,6.1120000000000049E-2,2.4320000000000026,546.70000000000005,1.171,110.14000000000001,5.3400000000000034,3.5680000000000041,200,0]
["KntM2",45,3055.1000000000035,160.93750000000014,205.12500000000026,120.12862745098037,69.62,83.543999999999997,637.5,23.45,3.1100000000000003,6.2400000000000053E-2,2.4800000000000026,558.25,1.1725000000000001,110.35,5.4000000000000039,3.640000000000005,200,0]
["KntM2",46,3178.8960000000034,164.15280000000013,209.52000000000027,122.2501587301587,70.015999999999991,84.019199999999984,630,23.48,3.1160000000000001,6.3680000000000056E-2,2.5280000000000031,569.80000000000007,1.1739999999999999,110.56000000000002,5.4600000000000044,3.7120000000000046,200,0]
["KntM2",47,3305.2440000000042,167.39870000000013,214.00500000000028,124.42281124497994,70.412000000000006,84.494399999999999,622.5,23.51,3.1220000000000003,6.4960000000000059E-2,2.5760000000000032,581.35,1.1755,110.77000000000001,5.520000000000004,3.7840000000000047,200,0]
["KntM2",48,3434.1440000000043,170.67520000000016,218.58000000000033,126.64845528455282,70.807999999999993,84.969599999999986,615,23.54,3.1280000000000001,6.6240000000000049E-2,2.6240000000000032,592.90000000000009,1.177,110.97999999999999,5.5800000000000036,3.8560000000000052,200,0]
["KntM2",49,3565.5960000000041,173.98230000000018,223.24500000000032,128.92905349794239,71.204000000000008,85.444800000000001,607.5,23.57,3.1340000000000003,6.7520000000000052E-2,2.6720000000000033,604.45000000000005,1.1785000000000001,111.19000000000001,5.6400000000000041,3.9280000000000057,200,0]
["KntM2",50,3699.6000000000049,177.32000000000014,228.00000000000034,131.26666666666665,71.599999999999994,85.919999999999987,600,23.6,3.14,6.8800000000000069E-2,2.7200000000000033,616,1.18,111.4,5.7000000000000046,4.0000000000000053,200,0]

{"sheet":"t_LevelUp","index":13,"n_rows":129,"n_cols":35,"rows_kept":129,"cut":false,"hidden":false,"merged":[]}
[]
["레벨","누적 레벨업\n경험치","순수 레벨업\n경험치","누적 레벨업\n경험치","실제 몬스터 사냥시 걸리는\n예상 소요시간","몬스터\n체력","몬스터\n예상 사냥수",null,4,2,5,2,"MBT",null,null,2,null,null,"예상",15,50]
["wLevel","dwEXP",null,null,"[ mc * pt ] + (mc-1)*mbt",null,null,"기본 필요 예상 경험치","몬스터 사냥\n예상적정 수=mc","배치에의한\n최소재전투시간(초)","몬스터리젠\n변수최대시간(초)","몬스터리젠\n변수최소(0초)와 최대의 평균(초)","1마리당 실제 재전투소요예상시간(초)","몬스터 레벨","몬스터 체력","1마리당예상순수사냥시간(초)=pt",null,null,"캐릭터 레벨별\n초당 데미지평균","캐릭터 레벨별\n초당데미지 최소값","캐릭터 레벨별\n초당데미지 최대값",null,null,null,null,null,null,null,"pvp"]
[1,{"$f":"D4","v":297},{"$f":"INT(H4)","v":297},297,{"$f":"(I4*P4)+(I4-1)*M4","v":24.75},{"$f":"O4","v":66},{"$f":"I4","v":4.5},{"$f":"I4*O4","v":297},{"$f":"I$2+(N4*N4/2)","v":4.5},{"$f":"INT(J$2+(N4/8))","v":2},{"$f":"INT(K$2+(N4/7))","v":5},{"$f":"K4/2","v":2.5},{"$f":"L4+J4","v":4.5},1,{"$f":"P4*S4","v":66},{"$f":"P$2+(1*INT(N4/3))","v":2},null,null,{"$f":"AVERAGE(T4,U4)","v":33},{"$f":"T$2+AF4+(N4*0.5)","v":15.5},{"$f":"U$2+AI4+(N4*0.5)","v":50.5},null,null,null,null,null,null,null,30,{"$f":"ROUND(N4/4,1)","v":0.3},{"$f":"ROUND(N4/8,1)","v":0.1},{"$f":"INT(AD4)*8+INT(AE4)*10","v":0},1,{"$f":"INT(AD4)*10+INT(AE4)*10","v":0},{"$f":"(AH4*2)","v":0}]
[2,{"$f":"D5","v":699},{"$f":"INT(H5)","v":402},{"$f":"D4+C5","v":699},{"$f":"(I5*P5)+(I5-1)*M5","v":34.5},{"$f":"O5","v":67},{"$f":"I5","v":6},{"$f":"I5*O5","v":402},{"$f":"I$2+(N5*N5/2)","v":6},{"$f":"INT(J$2+(N5/8))","v":2},{"$f":"INT(K$2+(N5/7))","v":5},{"$f":"K5/2","v":2.5},{"$f":"L5+J5","v":4.5},2,{"$f":"P5*S5","v":67},{"$f":"P$2+(1*INT(N5/3))","v":2},null,null,{"$f":"AVERAGE(T5,U5)","v":33.5},{"$f":"T$2+AF5+(N5*0.5)","v":16},{"$f":"U$2+AI5+(N5*0.5)","v":51},"레벨*0.5","레벨에 따른 기본 상승값",null,null,null,null,null,30,{"$f":"ROUND(N5/4,1)","v":0.5},{"$f":"ROUND(N5/8,1)","v":0.3},{"$f":"INT(AD5)*8+INT(AE5)*10","v":0},2,{"$f":"INT(AD5)*10+INT(AE5)*10","v":0},{"$f":"(AH5*2)","v":0}]
[3,1566,867,{"$f":"D5+C6","v":1566},59.25,102,8.5,867,{"$f":"I$2+(N6*N6/2)","v":8.5},2,5,2.5,4.5,3,102,3,null,null,34,16.5,51.5,"스테이터스","최소상승값",0,null,null,null,null,30,0.8,0.4,0,3,0,0]
[4,3312,1746,3312,85.5,145.5,12,1746,{"$f":"I$2+(N7*N7/2)","v":12},2,5,2.5,4.5,4,145.5,3,null,null,48.5,25,72,"스테이터스","최대 상승값",5,null,null,null,{"$f":"(AC7*AF7)/100","v":2.4},30,1,0.5,8,4,10,20]
[5,5737,2425,5737,119.25,147,16.5,2425.5,16.5,2,5,2.5,4.5,5,147,3,null,null,49,25.5,72.5,"스테이터스에 의한 공격력 상승값",null,null,null,null,null,{"$f":"(AC8*AF8)/100","v":2.4},30,1.3,0.6,8,5,10,20]
[6,10093,4356,10093,182.5,198,22,4356,22,2,5,2.5,4.5,6,198,4,null,null,49.5,26,73,"sts*1",null,null,null,null,null,2.4,30,1.5,0.8,8,6,10,20]
[7,15793,5700,15793,251.5,200,28.5,5700,28.5,2,6,3,5,7,200,4,null,null,50,26.5,73.5,"무기 차수에의한 공격력 변화",null,null,null,null,null,2.4,30,1.8,0.9,8,7,10,20]
[8,27241,11448,27241,354,318,36,11448,36,3,6,3,6,8,318,4,null,null,79.5,45,114,"차수 변화 레벨",null,4,null,null,null,7.8,30,2,1,26,8,30,60]
[9,45041,17800,45041,483.5,400,44.5,17800,44.5,3,6,3,6,9,400,5,null,null,80,45.5,114.5,"차수의 최소 공격력 변화값",null,null,null,null,null,7.8,30,2.2999999999999998,1.1000000000000001,26,9,30,60]
[10,66776,21735,66776,588,402.5,54,21735,54,3,6,3,6,10,402.5,5,null,null,80.5,46,115,"차수의 최대 공격력 변화값",null,null,null,null,null,7.8,30,2.5,1.3,26,10,30,60]
[11,92898,26122,92898,703.5,405,64.5,26122.5,64.5,3,6,3,6,11,405,5,null,null,81,46.5,115.5,null,null,null,null,null,null,7.8,30,2.8,1.4,26,11,30,60]
[12,136446,43548,136446,906,573,76,43548,76,3,6,3,6,12,573,6,null,null,95.5,55,136,null,{"$f":"IF(MOD(N4,4)=0,1,0)","v":0},null,null,null,null,10.199999999999999,30,3,1.5,34,12,40,80]
[13,187422,50976,187422,1056,576,88.5,50976,88.5,3,6,3,6,13,576,6,null,null,96,55.5,136.5,null,{"$f":"IF(MOD(N5,4)=0,1,0)","v":0},null,null,null,null,10.199999999999999,30,3.3,1.6,34,13,40,80]
[14,246480,59058,246480,1268.5,579,102,59058,102,3,7,3.5,6.5,14,579,6,null,null,96.5,56,137,null,0,null,null,null,null,10.199999999999999,30,3.5,1.8,34,14,40,80]
[15,325583,79103,325583,1566.25,679,116.5,79103.5,116.5,3,7,3.5,6.5,15,679,7,null,null,97,56.5,137.5,null,1,null,null,null,null,10.199999999999999,30,3.8,1.9,34,15,40,80]
[16,442469,116886,442469,1906.5,885.5,132,116886,132,4,7,3.5,7.5,16,885.5,7,null,null,126.5,75,178,null,0,null,null,null,null,15.6,30,4,2,52,16,60,120]
[17,574485,132016,574485,2145.75,889,148.5,132016.5,148.5,4,7,3.5,7.5,17,889,7,null,null,127,75.5,178.5,null,0,null,null,null,null,15.6,30,4.3,2.1,52,17,60,120]
[18,743805,169320,743805,2565.5,1020,166,169320,166,4,7,3.5,7.5,18,1020,8,null,null,127.5,76,179,null,0,null,null,null,null,15.6,30,4.5,2.2999999999999998,52,18,60,120]
[19,932733,188928,932733,2852.25,1024,184.5,188928,184.5,4,7,3.5,7.5,19,1024,8,null,null,128,76.5,179.5,null,null,null,null,null,null,15.6,30,4.8,2.4,52,19,60,120]
[20,1165293,232560,1165293,3154.5,1140,204,232560,204,4,7,3.5,7.5,20,1140,8,null,null,142.5,85,200,null,null,null,null,null,null,18,30,5,2.5,60,20,70,140]
[21,1454224,288931,1454224,3808.5,1287,224.5,288931.5,224.5,4,8,4,8,21,1287,9,null,null,143,85.5,200.5,null,null,null,null,null,null,18,30,5.3,2.6,60,21,70,140]
[22,1771933,317709,1771933,4174,1291.5,246,317709,246,4,8,4,8,22,1291.5,9,null,null,143.5,86,201,null,null,null,null,null,null,18,30,5.5,2.8,60,22,70,140]
[23,2119909,347976,2119909,4556.5,1296,268.5,347976,268.5,4,8,4,8,23,1296,9,null,null,144,86.5,201.5,null,null,null,null,null,null,18,30,5.8,2.9,60,23,70,140]
[24,2626529,506620,2626529,5539,1735,292,506620,292,5,8,4,9,24,1735,10,null,null,173.5,105,242,null,null,null,null,null,null,23.4,30,6,3,78,24,90,180]
[25,3177239,550710,3177239,6004.5,1740,316.5,550710,316.5,5,8,4,9,25,1740,10,null,null,174,105.5,242.5,null,null,null,null,null,null,23.4,30,6.3,3.1,78,25,90,180]
[26,3774029,596790,3774029,6489,1745,342,596790,342,5,8,4,9,26,1745,10,null,null,174.5,106,243,null,null,null,null,null,null,23.4,30,6.5,3.3,78,26,90,180]
[27,4483391,709362,4483391,7361,1925,368.5,709362.5,368.5,5,8,4,9,27,1925,11,null,null,175,106.5,243.5,null,null,null,null,null,null,23.4,30,6.8,3.4,78,27,90,180]
[28,5308853,825462,5308853,8108.5,2084.5,396,825462,396,5,9,4.5,9.5,28,2084.5,11,null,null,189.5,115,264,null,null,null,null,null,null,25.8,30,7,3.5,86,28,100,200]
[29,6196058,887205,6196058,8692.75,2090,424.5,887205,424.5,5,9,4.5,9.5,29,2090,11,null,null,190,115.5,264.5,null,null,null,null,null,null,25.8,30,7.3,3.6,86,29,100,200]
[30,7233902,1037844,7233902,9751.5,2286,454,1037844,454,5,9,4.5,9.5,30,2286,12,null,null,190.5,116,265,null,null,null,null,null,null,25.8,30,7.5,3.8,86,30,100,200]
[31,8344376,1110474,8344376,10407.25,2292,484.5,1110474,484.5,5,9,4.5,9.5,31,2292,12,null,null,191,116.5,265.5,null,null,null,null,null,null,25.8,30,7.8,3.9,86,31,100,200]
[32,9709712,1365336,9709712,11599.5,2646,516,1365336,516,6,9,4.5,10.5,32,2646,12,null,null,220.5,135,306,null,null,null,null,null,null,31.2,30,8,4,104,32,120,240]
[33,11285552,1575840,11285552,12879.25,2873,548.5,1575840.5,548.5,6,9,4.5,10.5,33,2873,13,null,null,221,135.5,306.5,null,null,null,null,null,null,31.2,30,8.3000000000000007,4.0999999999999996,104,33,120,240]
[34,12961421,1675869,12961421,13666.5,2879.5,582,1675869,582,6,9,4.5,10.5,34,2879.5,13,null,null,221.5,136,307,null,null,null,null,null,null,31.2,30,8.5,4.3,104,34,120,240]
[35,14740640,1779219,14740640,14785,2886,616.5,1779219,616.5,6,10,5,11,35,2886,13,null,null,222,136.5,307.5,null,null,null,null,null,null,31.2,30,8.8000000000000007,4.4000000000000004,104,35,120,240]
[36,16899412,2158772,16899412,16289,3311,652,2158772,652,6,10,5,11,36,3311,14,null,null,236.5,145,328,null,null,null,null,null,null,33.6,30,9,4.5,112,36,130,260]
[37,19183855,2284443,19183855,17201.5,3318,688.5,2284443,688.5,6,10,5,11,37,3318,14,null,null,237,145.5,328.5,null,null,null,null,null,null,33.6,30,9.3000000000000007,4.5999999999999996,112,37,130,260]
[38,21597805,2413950,21597805,18139,3325,726,2413950,726,6,10,5,11,38,3325,14,null,null,237.5,146,329,null,null,null,null,null,null,33.6,30,9.5,4.8,112,38,130,260]
[39,24327070,2729265,24327070,19866,3570,764.5,2729265,764.5,6,10,5,11,39,3570,15,null,null,238,146.5,329.5,null,null,null,null,null,null,33.6,30,9.8000000000000007,4.9000000000000004,112,39,130,260]
[40,27553120,3226050,27553120,21696,4012.5,804,3226050,804,7,10,5,12,40,4012.5,15,null,null,267.5,165,370,null,null,null,null,null,null,39,30,10,5,130,40,150,300]
[41,30948010,3394890,30948010,22789.5,4020,844.5,3394890,844.5,7,10,5,12,41,4020,15,null,null,268,165.5,370.5,null,null,null,null,null,null,39,30,10.3,5.0999999999999996,130,41,150,300]
[42,34754266,3806256,34754266,25238.5,4296,886,3806256,886,7,11,5.5,12.5,42,4296,16,null,null,268.5,166,371,null,null,null,null,null,null,39,30,10.5,5.3,130,42,150,300]
[43,38750530,3996264,38750530,26449.75,4304,928.5,3996264,928.5,7,11,5.5,12.5,43,4304,16,null,null,269,166.5,371.5,null,null,null,null,null,null,39,30,10.8,5.4,130,43,150,300]
[44,43159522,4408992,43159522,27689.5,4536,972,4408992,972,7,11,5.5,12.5,44,4536,16,null,null,283.5,175,392,null,null,null,null,null,null,41.4,30,11,5.5,138,44,160,320]
[45,48067184,4907662,48067184,29974.25,4828,1016.5,4907662,1016.5,7,11,5.5,12.5,45,4828,17,null,null,284,175.5,392.5,null,null,null,null,null,null,41.4,30,11.3,5.6,138,45,160,320]
[46,53203547,5136363,53203547,31316.5,4836.5,1062,5136363,1062,7,11,5.5,12.5,46,4836.5,17,null,null,284.5,176,393,null,null,null,null,null,null,41.4,30,11.5,5.8,138,46,160,320]
[47,58574229,5370682,58574229,32688.25,4845,1108.5,5370682.5,1108.5,7,11,5.5,12.5,47,4845,17,null,null,285,176.5,393.5,null,null,null,null,null,null,41.4,30,11.8,5.9,138,47,160,320]
[48,65118345,6544116,65118345,36400.5,5661,1156,6544116,1156,8,11,5.5,13.5,48,5661,18,null,null,314.5,195,434,null,null,null,null,null,null,46.8,30,12,6,156,48,180,360]
[49,71947860,6829515,71947860,38530,5670,1204.5,6829515,1204.5,8,12,6,14,49,5670,18,null,null,315,195.5,434.5,null,null,null,null,null,null,46.8,30,12.3,6.1,156,49,180,360]
[50,79069326,7121466,79069326,40114,5679,1254,7121466,1254,8,12,6,14,50,5679,18,null,null,315.5,196,435,null,null,null,null,null,null,46.8,30,12.5,6.3,156,50,180,360]
[51,86901544,7832218,86901544,43034.5,6004,1304.5,7832218,1304.5,8,12,6,14,51,6004,19,null,null,316,196.5,435.5,null,null,null,null,null,null,46.8,30,12.8,6.4,156,51,180,360]
[52,95416546,8515002,95416546,44734,6279.5,1356,8515002,1356,8,12,6,14,52,6279.5,19,null,null,330.5,205,456,null,null,null,null,null,null,49.2,30,13,6.5,164,52,190,380]
[53,104274602,8858056,104274602,46466.5,6289,1408.5,8858056.5,1408.5,8,12,6,14,53,6289,19,null,null,331,205.5,456.5,null,null,null,null,null,null,49.2,30,13.3,6.6,164,53,190,380]
[54,113967662,9693060,113967662,49694,6630,1462,9693060,1462,8,12,6,14,54,6630,20,null,null,331.5,206,457,null,null,null,null,null,null,49.2,30,13.5,6.8,164,54,190,380]
[55,124037222,10069560,124037222,51547,6640,1516.5,10069560,1516.5,8,12,6,14,55,6640,20,null,null,332,206.5,457.5,null,null,null,null,null,null,49.2,30,13.8,6.9,164,55,190,380]
[56,135402782,11365560,135402782,55790.5,7230,1572,11365560,1572,9,13,6.5,15.5,56,7230,20,null,null,361.5,225,498,null,null,null,null,null,null,54.6,30,14,7,182,56,210,420]
[57,147782639,12379857,147782639,59424.75,7602,1628.5,12379857,1628.5,9,13,6.5,15.5,57,7602,21,null,null,362,225.5,498.5,null,null,null,null,null,null,54.6,30,14.3,7.1,182,57,210,420]
[58,160617314,12834675,160617314,61523.5,7612.5,1686,12834675,1686,9,13,6.5,15.5,58,7612.5,21,null,null,362.5,226,499,null,null,null,null,null,null,54.6,30,14.5,7.3,182,58,210,420]
[59,173915637,13298323,173915637,63658.75,7623,1744.5,13298323.5,1744.5,9,13,6.5,15.5,59,7623,21,null,null,363,226.5,499.5,null,null,null,null,null,null,54.6,30,14.8,7.4,182,59,210,420]
[60,188897857,14982220,188897857,67634.5,8305,1804,14982220,1804,9,13,6.5,15.5,60,8305,22,null,null,377.5,235,520,null,null,null,null,null,null,57,30,15,7.5,190,60,220,440]
[61,204403039,15505182,204403039,69903.25,8316,1864.5,15505182,1864.5,9,13,6.5,15.5,61,8316,22,null,null,378,235.5,520.5,null,null,null,null,null,null,57,30,15.3,7.6,190,61,220,440]
[62,220440841,16037802,220440841,72209.5,8327,1926,16037802,1926,9,13,6.5,15.5,62,8327,22,null,null,378.5,236,521,null,null,null,null,null,null,57,30,15.5,7.8,190,62,220,440]
[63,237774595,17333754,237774595,77535.5,8717,1988.5,17333754.5,1988.5,9,14,7,16,63,8717,23,null,null,379,236.5,521.5,null,null,null,null,null,null,57,30,15.8,7.9,190,63,220,440]
[64,257054161,19279566,257054161,82063,9395.5,2052,19279566,2052,10,14,7,17,64,9395.5,23,null,null,408.5,255,562,null,null,null,null,null,null,62.4,30,16,8,208,64,240,480]
[65,276964076,19909915,276964076,84643,9407,2116.5,19909915.5,2116.5,10,14,7,17,65,9407,23,null,null,409,255.5,562.5,null,null,null,null,null,null,62.4,30,16.3,8.1,208,65,240,480]
[66,{"$f":"D69","v":298408772},{"$f":"INT(H69)","v":21444696},298408772,{"$f":"(I69*P69)+(I69-1)*M69","v":89445},{"$f":"O69","v":9828},{"$f":"I69","v":2182},{"$f":"I69*O69","v":21444696},2182,{"$f":"INT(J$2+(N69/8))","v":10},{"$f":"INT(K$2+(N69/7))","v":14},{"$f":"K69/2","v":7},{"$f":"L69+J69","v":17},66,{"$f":"P69*S69","v":9828},{"$f":"P$2+(1*INT(N69/3))","v":24},null,null,{"$f":"AVERAGE(T69,U69)","v":409.5},{"$f":"T$2+AF69+(N69*0.5)","v":256},{"$f":"U$2+AI69+(N69*0.5)","v":563},null,null,null,null,null,null,62.4,30,{"$f":"ROUND(N69/4,1)","v":16.5},{"$f":"ROUND(N69/8,1)","v":8.3000000000000007},{"$f":"INT(AD69)*8+INT(AE69)*10","v":208},66,{"$f":"INT(AD69)*10+INT(AE69)*10","v":240},{"$f":"(AH69*2)","v":480}]
[67,320534012,22125240,{"$f":"D69+C70","v":320534012},92171.5,9840,2248.5,22125240,2248.5,10,14,7,17,67,9840,24,null,null,410,256.5,563.5,null,null,null,null,null,null,62.4,30,16.8,8.4,208,67,240,480]
[68,344129420,23595408,344129420,94939,10188,2316,23595408,{"$f":"I$2+(N71*N71/2)","v":2316},10,14,7,17,68,10188,24,null,null,424.5,265,584,null,null,null,null,null,null,64.8,30,17,8.5,216,68,250,500]
[69,369464732,25335312,369464732,100132,10625,2384.5,25335312.5,2384.5,10,14,7,17,69,10625,25,null,null,425,265.5,584.5,null,null,null,null,null,null,64.8,30,17.3,8.6,216,69,250,500]
[70,395569157,26104425,395569157,104277.5,10637.5,2454,26104425,2454,10,15,7.5,17.5,70,10637.5,25,null,null,425.5,266,585,null,null,null,null,null,null,64.8,30,17.5,8.8000000000000007,216,70,250,500]
[71,422455082,26885925,422455082,107273.75,10650,2524.5,26885925,2524.5,10,15,7.5,17.5,71,10650,25,null,null,426,266.5,585.5,null,null,null,null,null,null,64.8,30,17.8,8.9,216,71,250,500]
[72,453199510,30744428,453199510,115503.5,11843,2596,30744428,2596,11,15,7.5,18.5,72,11843,26,null,null,455.5,285,626,null,null,null,null,null,null,70.2,30,18,9,234,72,270,540]
[73,484837246,31637736,484837246,118729.75,11856,2668.5,31637736,2668.5,11,15,7.5,18.5,73,11856,26,null,null,456,285.5,626.5,null,null,null,null,null,null,70.2,30,18.3,9.1,234,73,270,540]
[74,517382044,32544798,517382044,122000.5,11869,2742,32544798,2742,11,15,7.5,18.5,74,11869,26,null,null,456.5,286,627,null,null,null,null,null,null,70.2,30,18.5,9.3000000000000007,234,74,270,540]
[75,552134837,34752793,552134837,128132.25,12339,2816.5,34752793.5,2816.5,11,15,7.5,18.5,75,12339,27,null,null,457,286.5,627.5,null,null,null,null,null,null,70.2,30,18.8,9.4,234,75,270,540]
[76,588951443,36816606,588951443,131567.5,12730.5,2892,36816606,2892,11,15,7.5,18.5,76,12730.5,27,null,null,471.5,295,648,null,null,null,null,null,null,72.599999999999994,30,19,9.5,242,76,280,560]
[77,626782007,37830564,626782007,136532,12744,2968.5,37830564,2968.5,11,16,8,19,77,12744,27,null,null,472,295.5,648.5,null,null,null,null,null,null,72.599999999999994,30,19.3,9.6,242,77,280,560]
[78,667080587,40298580,667080587,143143,13230,3046,40298580,3046,11,16,8,19,78,13230,28,null,null,472.5,296,649,null,null,null,null,null,null,72.599999999999994,30,19.5,9.8000000000000007,242,78,280,560]
[79,708461465,41380878,708461465,146832.5,13244,3124.5,41380878,3124.5,11,16,8,19,79,13244,28,null,null,473,296.5,649.5,null,null,null,null,null,null,72.599999999999994,30,19.8,9.9,242,79,280,560]
[80,753541745,45080280,753541745,153772,14070,3204,45080280,3204,12,16,8,20,80,14070,28,null,null,502.5,315,690,null,null,null,null,null,null,78,30,20,10,260,80,300,600]
[81,801452746,47911001,801452746,160920.5,14587,3284.5,47911001.5,3284.5,12,16,8,20,81,14587,29,null,null,503,315.5,690.5,null,null,null,null,null,null,78,30,20.3,10.1,260,81,300,600]
[82,850601395,49148649,850601395,164914,14601.5,3366,49148649,3366,12,16,8,20,82,14601.5,29,null,null,503.5,316,691,null,null,null,null,null,null,78,30,20.5,10.3,260,82,300,600]
[83,901004671,50403276,901004671,168956.5,14616,3448.5,50403276,3448.5,12,16,8,20,83,14616,29,null,null,504,316.5,691.5,null,null,null,null,null,null,78,30,20.8,10.4,260,83,300,600]
[84,955944931,54940260,955944931,178345.5,15555,3532,54940260,3532,12,17,8.5,20.5,84,15555,30,null,null,518.5,325,712,null,null,null,null,null,null,80.400000000000006,30,21,10.5,268,84,310,620]
[85,1012253836,56308905,1012253836,182612.75,15570,3616.5,56308905,3616.5,12,17,8.5,20.5,85,15570,30,null,null,519,325.5,712.5,null,null,null,null,null,null,80.400000000000006,30,21.3,10.6,268,85,310,620]
[86,1069949506,57695670,1069949506,186930.5,15585,3702,57695670,3702,12,17,8.5,20.5,86,15585,30,null,null,519.5,326,713,null,null,null,null,null,null,80.400000000000006,30,21.5,10.8,268,86,310,620]
[87,1131020126,61070620,1131020126,195087.25,16120,3788.5,61070620,3788.5,12,17,8.5,20.5,87,16120,31,null,null,520,326.5,713.5,null,null,null,null,null,null,80.400000000000006,30,21.8,10.9,268,87,310,620]
[88,1197045848,66025722,1197045848,203468.5,17034.5,3876,66025722,3876,13,17,8.5,21.5,88,17034.5,31,null,null,549.5,345,754,null,null,null,null,null,null,85.8,30,22,11,286,88,330,660]
[89,1264640573,67594725,1264640573,208114.75,17050,3964.5,67594725,3964.5,13,17,8.5,21.5,89,17050,31,null,null,550,345.5,754.5,null,null,null,null,null,null,85.8,30,22.3,11.1,286,89,330,660]
[90,1336055837,71415264,1336055837,216867.5,17616,4054,71415264,4054,13,17,8.5,21.5,90,17616,32,null,null,550.5,346,755,null,null,null,null,null,null,85.8,30,22.5,11.3,286,90,330,660]
[91,1409131661,73075824,1409131661,223781,17632,4144.5,73075824,4144.5,13,18,9,22,91,17632,32,null,null,551,346.5,755.5,null,null,null,null,null,null,85.8,30,22.8,11.4,286,91,330,660]
[92,1485786317,76654656,1485786317,228722,18096,4236,76654656,4236,13,18,9,22,92,18096,32,null,null,565.5,355,776,null,null,null,null,null,null,88.2,30,23,11.5,294,92,340,680]
[93,1566634040,80847723,1566634040,238045.5,18678,4328.5,80847723,4328.5,13,18,9,22,93,18678,33,null,null,566,355.5,776.5,null,null,null,null,null,null,88.2,30,23.3,11.6,294,93,340,680]
[94,1649301119,82667079,1649301119,243188,18694.5,4422,82667079,4422,13,18,9,22,94,18694.5,33,null,null,566.5,356,777,null,null,null,null,null,null,88.2,30,23.5,11.8,294,94,340,680]
[95,1733809350,84508231,1733809350,248385.5,18711,4516.5,84508231.5,4516.5,13,18,9,22,95,18711,33,null,null,567,356.5,777.5,null,null,null,null,null,null,88.2,30,23.8,11.9,294,95,340,680]
[96,1827345322,93535972,1827345322,262861,20281,4612,93535972,4612,14,18,9,23,96,20281,34,null,null,596.5,375,818,null,null,null,null,null,null,93.6,30,24,12,312,96,360,720]
[97,1922918455,95573133,1922918455,268361.5,20298,4708.5,95573133,4708.5,14,18,9,23,97,20298,34,null,null,597,375.5,818.5,null,null,null,null,null,null,93.6,30,24.3,12.1,312,97,360,720]
[98,2020552345,97633890,2020552345,276321.5,20315,4806,97633890,4806,14,19,9.5,23.5,98,20315,34,null,null,597.5,376,819,null,null,null,null,null,null,93.6,30,24.5,12.3,312,98,360,720]
[99,2123203530,102651185,2123203530,286889.75,20930,4904.5,102651185,4904.5,14,19,9.5,23.5,99,20930,35,null,null,598,376.5,819.5,null,null,null,null,null,null,93.6,30,24.8,12.4,312,99,360,720]
[100,2230476780,107273250,2230476780,292710.5,21437.5,5004,107273250,5004,14,19,9.5,23.5,100,21437.5,35,null,null,612.5,385,840,null,null,null,null,null,null,96,30,25,12.5,320,100,370,740]
[101,2339993827,{"$f":"INT(H104)","v":109517047},2339993827,298589.75,21455,5104.5,109517047.5,5104.5,14,19,9.5,23.5,101,21455,35,null,null,613,385.5,840.5,null,null,null,null,null,null,96,30,25.3,12.6,320,101,370,740]
[102,2454973543,{"$f":"INT(H105)","v":114979716},2454973543,309733.5,22086,5206,114979716,5206,14,19,9.5,23.5,102,22086,36,null,null,613.5,386,841,null,null,null,null,null,null,96,30,25.5,12.8,320,102,370,740]
[103,2572312627,117339084,2572312627,315832.25,22104,5308.5,117339084,5308.5,14,19,9.5,23.5,103,22104,36,null,null,614,386.5,841.5,null,null,null,null,null,null,96,30,25.8,12.9,320,103,370,740]
[104,2697687019,125374392,2697687019,327401.5,23166,5412,125374392,5412,15,19,9.5,24.5,104,23166,36,null,null,643.5,405,882,null,null,null,null,null,null,101.4,30,26,13,338,104,390,780]
[105,2829134181,131447162,2829134181,341998,23828,5516.5,131447162,5516.5,15,20,10,25,105,23828,37,null,null,644,405.5,882.5,null,null,null,null,null,null,101.4,30,26.3,13.1,338,105,390,780]
[106,2963199204,134065023,2963199204,348539,23846.5,5622,134065023,5622,15,20,10,25,106,23846.5,37,null,null,644.5,406,883,null,null,null,null,null,null,101.4,30,26.5,13.3,338,106,390,780]
[107,3099909856,136710652,3099909856,355142,23865,5728.5,136710652.5,5728.5,15,20,10,25,107,23865,37,null,null,645,406.5,883.5,null,null,null,null,null,null,101.4,30,26.8,13.4,338,107,390,780]
[108,3246165852,146255996,3246165852,367643,25061,5836,146255996,5836,15,20,10,25,108,25061,38,null,null,659.5,415,904,null,null,null,null,null,null,103.8,30,27,13.5,346,108,400,800]
[109,3395253912,149088060,3395253912,374478.5,25080,5944.5,149088060,5944.5,15,20,10,25,109,25080,38,null,null,660,415.5,904.5,null,null,null,null,null,null,103.8,30,27.3,13.6,346,109,400,800]
[110,3547203258,151949346,3547203258,381377,25099,6054,151949346,6054,15,20,10,25,110,25099,38,null,null,660.5,416,905,null,null,null,null,null,null,103.8,30,27.5,13.8,346,110,400,800]
[111,3706117903,158914645,3706117903,394503,25779,6164.5,158914645.5,6164.5,15,20,10,25,111,25779,39,null,null,661,416.5,905.5,null,null,null,null,null,null,103.8,30,27.8,13.9,346,111,400,800]
[112,3875127445,169009542,3875127445,411051.5,26929.5,6276,169009542,6276,16,21,10.5,26.5,112,26929.5,39,null,null,690.5,435,946,null,null,null,null,null,null,109.2,30,28,14,364,112,420,840]
[113,4047291131,172163686,4047291131,418420.25,26949,6388.5,172163686.5,6388.5,16,21,10.5,26.5,113,26949,39,null,null,691,435.5,946.5,null,null,null,null,null,null,109.2,30,28.3,14.1,364,113,420,840]
[114,4227136451,179845320,4227136451,432356.5,27660,6502,179845320,6502,16,21,10.5,26.5,114,27660,40,null,null,691.5,436,947,null,null,null,null,null,null,109.2,30,28.5,14.3,364,114,420,840]
[115,4410281171,183144720,4410281171,439970.75,27680,6616.5,183144720,6616.5,16,21,10.5,26.5,115,27680,40,null,null,692,436.5,947.5,null,null,null,null,null,null,109.2,30,28.8,14.4,364,115,420,840]
[116,4600527491,190246320,4600527491,447651.5,28260,6732,190246320,6732,16,21,10.5,26.5,116,28260,40,null,null,706.5,445,968,null,null,null,null,null,null,111.6,30,29,14.5,372,116,430,860]
[117,4799044960,198517469,4799044960,462247.25,28987,6848.5,198517469.5,6848.5,16,21,10.5,26.5,117,28987,41,null,null,707,445.5,968.5,null,null,null,null,null,null,111.6,30,29.3,14.6,372,117,430,860]
[118,5001111205,202066245,5001111205,470178.5,29007.5,6966,202066245,6966,16,21,10.5,26.5,118,29007.5,41,null,null,707.5,446,969,null,null,null,null,null,null,111.6,30,29.5,14.8,372,118,430,860]
[119,5206760071,205648866,5206760071,481719,29028,7084.5,205648866,7084.5,16,22,11,27,119,29028,41,null,null,708,446.5,969.5,null,null,null,null,null,null,111.6,30,29.8,14.9,372,119,430,860]
[120,5429903971,223143900,5429903971,504252,30975,7204,223143900,7204,17,22,11,28,120,30975,42,null,null,737.5,465,1010,null,null,null,null,null,null,{"$f":"(AC123*AF123)/100","v":120.9},31,30,15,390,120,450,900]
[121,5656934173,227030202,5656934173,512687,30996,7324.5,{"$f":"I124*O124","v":227030202},{"$f":"I$2+(N124*N124/2)","v":7324.5},{"$f":"INT(J$2+(N124/8))","v":17},22,11,{"$f":"L124+J124","v":28},121,30996,{"$f":"P$2+(1*INT(N124/3))","v":42},null,null,738,465.5,1010.5,null,null,null,null,null,null,124.8,32,30.3,15.1,390,121,{"$f":"INT(AD124)*10+INT(AE124)*10","v":450},900]
[122,5887886755,230952582,5887886755,521192,31017,7446,{"$f":"I125*O125","v":230952582},{"$f":"I$2+(N125*N125/2)","v":7446},{"$f":"INT(J$2+(N125/8))","v":17},22,11,{"$f":"L125+J125","v":28},122,31017,{"$f":"P$2+(1*INT(N125/3))","v":42},null,null,738.5,466,1011,null,null,null,null,null,null,128.69999999999999,33,30.5,15.3,390,122,{"$f":"INT(AD125)*10+INT(AE125)*10","v":450},900]
[123,6128390979,240504224,6128390979,537335.5,31777,7568.5,{"$f":"I126*O126","v":240504224.5},{"$f":"I$2+(N126*N126/2)","v":7568.5},{"$f":"INT(J$2+(N126/8))","v":17},22,11,{"$f":"L126+J126","v":28},123,31777,{"$f":"P$2+(1*INT(N126/3))","v":43},null,null,739,466.5,1011.5,null,null,null,null,null,null,132.6,34,30.8,15.4,390,123,{"$f":"INT(AD126)*10+INT(AE126)*10","v":450},900]
[124,6377615625,249224646,6377615625,546104,32400.5,7692,{"$f":"I127*O127","v":249224646},{"$f":"I$2+(N127*N127/2)","v":7692},{"$f":"INT(J$2+(N127/8))","v":17},22,11,{"$f":"L127+J127","v":28},124,32400.5,{"$f":"P$2+(1*INT(N127/3))","v":43},null,null,753.5,475,1032,null,null,null,null,null,null,139.30000000000001,35,31,15.5,398,124,{"$f":"INT(AD127)*10+INT(AE127)*10","v":460},920]
[125,6631042188,253426563,6631042188,554943.5,32422,7816.5,{"$f":"I128*O128","v":253426563},{"$f":"I$2+(N128*N128/2)","v":7816.5},{"$f":"INT(J$2+(N128/8))","v":17},22,11,{"$f":"L128+J128","v":28},125,32422,{"$f":"P$2+(1*INT(N128/3))","v":43},null,null,754,475.5,1032.5,null,null,null,null,null,null,143.28,36,31.3,15.6,398,125,{"$f":"INT(AD128)*10+INT(AE128)*10","v":460},920]
[null,null,null,6402935183]

{"sheet":"Sheet1","index":14,"n_rows":0,"n_cols":0,"rows_kept":0,"cut":false,"hidden":false,"merged":[]}